BEGIN:VCALENDAR
VERSION:2.0
PRODID:-//Tampa Bay Networking Calendar - ECPv6.15.20//NONSGML v1.0//EN
CALSCALE:GREGORIAN
METHOD:PUBLISH
X-WR-CALNAME:Tampa Bay Networking Calendar
X-ORIGINAL-URL:https://tampabaynetworkingcalendar.com
X-WR-CALDESC:Events for Tampa Bay Networking Calendar
REFRESH-INTERVAL;VALUE=DURATION:PT1H
X-Robots-Tag:noindex
X-PUBLISHED-TTL:PT1H
BEGIN:VTIMEZONE
TZID:UTC
BEGIN:STANDARD
TZOFFSETFROM:+0000
TZOFFSETTO:+0000
TZNAME:UTC
DTSTART:20180101T000000
END:STANDARD
END:VTIMEZONE
BEGIN:VEVENT
DTSTART;TZID=UTC:20191202T073000
DTEND;TZID=UTC:20191202T083000
DTSTAMP:20260423T223619
CREATED:20170830T135408Z
LAST-MODIFIED:20170830T135408Z
UID:1068-1575271800-1575275400@tampabaynetworkingcalendar.com
SUMMARY:RGA Network - City of Seminole
DESCRIPTION:DAYS: Monday\nTIME: 7:30am-8:30am\, Doors open at 7:am \nLOCATION: Seabreeze Family Restaurant\, 6864 Seminole Blvd\,Seminole\, FL 33772 \nDIRECTOR: Dana Callahan\nPHONE: 321-247-8773\nEMAIL: TheDominoEffectHealth@gmail.com
URL:https://tampabaynetworkingcalendar.com/event/rga-network-city-of-seminole-2019-12-02/
LOCATION:Seabreeze Family Restaurant\, 6864 Seminole Blvd\, Seminole\, FL\, 33772\, United States
CATEGORIES:Networking Meeting
ORGANIZER;CN="RGA Network":MAILTO:info@rganetwork.net
END:VEVENT
BEGIN:VEVENT
DTSTART;TZID=UTC:20191129T113000
DTEND;TZID=UTC:20191129T130000
DTSTAMP:20260423T223619
CREATED:20170827T205031Z
LAST-MODIFIED:20170827T205031Z
UID:3325-1575027000-1575032400@tampabaynetworkingcalendar.com
SUMMARY:RGA Network Sabal Park
DESCRIPTION:The best group of networkers in the area! RGA meets weekly and several locations throughout the area. If you are looking for great networking in an upbeat\, relaxed atmosphere\, then you need RGA. There is no cost to come as a guest\, and membership is inexpensive.
URL:https://tampabaynetworkingcalendar.com/event/rga-network-sabal-park-2019-11-29/
LOCATION:Cafe Delanie\, 3016 N US Highway 301\, Ste 300\, Tampa\, Florida 33619\, 3104 Cherry Palm Dr\, Tampa\, FL\, 33619\, United States
CATEGORIES:Networking Meeting
END:VEVENT
BEGIN:VEVENT
DTSTART;TZID=UTC:20191127T113000
DTEND;TZID=UTC:20191127T130000
DTSTAMP:20260423T223619
CREATED:20180531T202528Z
LAST-MODIFIED:20180531T202528Z
UID:1954-1574854200-1574859600@tampabaynetworkingcalendar.com
SUMMARY:Downtown Tampa Business Networking
DESCRIPTION:Join us every Wednesday at American Social for some great business networking designed to help you gain more referrals! Our meetings start with open networking from 11:30am – 12pm and then our meeting takes place from 12p – 1p. We are not seat specific\, there is no mandatory attendance policy\, guests are always welcome to participate during our meetings\, and our meetings are designed to make the most of your lunch hour! Contact co-leader Philippa Main at pm@yourmainagent.com for more information.
URL:https://tampabaynetworkingcalendar.com/event/downtown-tampa-business-networking-2019-11-27/
LOCATION:American Social\, 601 S Harbour Island Blvd suite 107\, Tampa\, FL\, 33602\, United States
CATEGORIES:Networking Meeting
ORGANIZER;CN="RGA Network":MAILTO:info@rganetwork.net
END:VEVENT
BEGIN:VEVENT
DTSTART;TZID=UTC:20191126T190000
DTEND;TZID=UTC:20191126T200000
DTSTAMP:20260423T223619
CREATED:20170815T142526Z
LAST-MODIFIED:20170815T142526Z
UID:1066-1574794800-1574798400@tampabaynetworkingcalendar.com
SUMMARY:Money and Business Seminar
DESCRIPTION:Join us at our office as we host our Money and Business Seninar. You will learn the rules of money\, how to make money and how to save money. Dress is business/business casual. No shorts or flip flops permitted. Bring a notepad and be ready to learn. We are changing the financial lives of families in our community\, join us for a fun and informative night.
URL:https://tampabaynetworkingcalendar.com/event/money-and-business-seminar-2019-11-26/
LOCATION:bryan and melinda turner\, 8902 N. Dale Mabry Hwy\, Tampa\, 33614\, United States
CATEGORIES:Educational
END:VEVENT
BEGIN:VEVENT
DTSTART;TZID=UTC:20191126T080000
DTEND;TZID=UTC:20191126T170000
DTSTAMP:20260423T223619
CREATED:20170815T142702Z
LAST-MODIFIED:20170815T142702Z
UID:4318-1574755200-1574787600@tampabaynetworkingcalendar.com
SUMMARY:Catholic Business Networking
DESCRIPTION:Come join a dozen or so business owners at Our Lady of the Rosary church off of 54 every Tuesday morning 8-9 am; coffee starts brewing @7:45!!\nDrive in and look for the sign in front of the church when you enter off of Collier Parkway\, park close to the building\, we post where we hold our meetings up front.\nFor over 6 years we’ve been gathering here at this Catholic Church\, you need NOT to be Catholic\, many members aren’t!!\nFREE to come experience the meeting a few times before you decide if you’d like to join as a member\, come this Tuesday morning; see the magic!!! 727-222-1420 for details
URL:https://tampabaynetworkingcalendar.com/event/catholic-business-networking-2019-11-26-2/
LOCATION:our lady of the Rosary\, Collier Parkway\, Land O Lakes\, United States
END:VEVENT
BEGIN:VEVENT
DTSTART;TZID=UTC:20191126T080000
DTEND;TZID=UTC:20191126T080000
DTSTAMP:20260423T223619
CREATED:20170815T142702Z
LAST-MODIFIED:20170815T142702Z
UID:1065-1574755200-1574755200@tampabaynetworkingcalendar.com
SUMMARY:Catholic Business Networking
DESCRIPTION:Come join a dozen or so business owners at Our Lady of the Rosary church off of 54 every Tuesday morning 8-9 am; coffee starts brewing @7:45!!\nDrive in and look for the sign in front of the church when you enter off of Collier Parkway\, park close to the building\, we post where we hold our meetings up front.\nFor over 6 years we’ve been gathering here at this Catholic Church\, you need NOT to be Catholic\, many members aren’t!!\nFREE to come experience the meeting a few times before you decide if you’d like to join as a member\, come this Tuesday morning; see the magic!!! 727-222-1420 for details
URL:https://tampabaynetworkingcalendar.com/event/catholic-business-networking-2019-11-26/
LOCATION:our lady of the Rosary\, Collier Parkway\, Land O Lakes\, United States
END:VEVENT
BEGIN:VEVENT
DTSTART;TZID=UTC:20191125T073000
DTEND;TZID=UTC:20191125T083000
DTSTAMP:20260423T223619
CREATED:20170830T135408Z
LAST-MODIFIED:20170830T135408Z
UID:1064-1574667000-1574670600@tampabaynetworkingcalendar.com
SUMMARY:RGA Network - City of Seminole
DESCRIPTION:DAYS: Monday\nTIME: 7:30am-8:30am\, Doors open at 7:am \nLOCATION: Seabreeze Family Restaurant\, 6864 Seminole Blvd\,Seminole\, FL 33772 \nDIRECTOR: Dana Callahan\nPHONE: 321-247-8773\nEMAIL: TheDominoEffectHealth@gmail.com
URL:https://tampabaynetworkingcalendar.com/event/rga-network-city-of-seminole-2019-11-25/
LOCATION:Seabreeze Family Restaurant\, 6864 Seminole Blvd\, Seminole\, FL\, 33772\, United States
CATEGORIES:Networking Meeting
ORGANIZER;CN="RGA Network":MAILTO:info@rganetwork.net
END:VEVENT
BEGIN:VEVENT
DTSTART;TZID=UTC:20191122T113000
DTEND;TZID=UTC:20191122T130000
DTSTAMP:20260423T223619
CREATED:20170827T205031Z
LAST-MODIFIED:20170827T205031Z
UID:3324-1574422200-1574427600@tampabaynetworkingcalendar.com
SUMMARY:RGA Network Sabal Park
DESCRIPTION:The best group of networkers in the area! RGA meets weekly and several locations throughout the area. If you are looking for great networking in an upbeat\, relaxed atmosphere\, then you need RGA. There is no cost to come as a guest\, and membership is inexpensive.
URL:https://tampabaynetworkingcalendar.com/event/rga-network-sabal-park-2019-11-22/
LOCATION:Cafe Delanie\, 3016 N US Highway 301\, Ste 300\, Tampa\, Florida 33619\, 3104 Cherry Palm Dr\, Tampa\, FL\, 33619\, United States
CATEGORIES:Networking Meeting
END:VEVENT
BEGIN:VEVENT
DTSTART;TZID=UTC:20191120T113000
DTEND;TZID=UTC:20191120T130000
DTSTAMP:20260423T223619
CREATED:20180531T202528Z
LAST-MODIFIED:20180531T202528Z
UID:1953-1574249400-1574254800@tampabaynetworkingcalendar.com
SUMMARY:Downtown Tampa Business Networking
DESCRIPTION:Join us every Wednesday at American Social for some great business networking designed to help you gain more referrals! Our meetings start with open networking from 11:30am – 12pm and then our meeting takes place from 12p – 1p. We are not seat specific\, there is no mandatory attendance policy\, guests are always welcome to participate during our meetings\, and our meetings are designed to make the most of your lunch hour! Contact co-leader Philippa Main at pm@yourmainagent.com for more information.
URL:https://tampabaynetworkingcalendar.com/event/downtown-tampa-business-networking-2019-11-20/
LOCATION:American Social\, 601 S Harbour Island Blvd suite 107\, Tampa\, FL\, 33602\, United States
CATEGORIES:Networking Meeting
ORGANIZER;CN="RGA Network":MAILTO:info@rganetwork.net
END:VEVENT
BEGIN:VEVENT
DTSTART;TZID=UTC:20191119T190000
DTEND;TZID=UTC:20191119T200000
DTSTAMP:20260423T223619
CREATED:20170815T142526Z
LAST-MODIFIED:20170815T142526Z
UID:1062-1574190000-1574193600@tampabaynetworkingcalendar.com
SUMMARY:Money and Business Seminar
DESCRIPTION:Join us at our office as we host our Money and Business Seninar. You will learn the rules of money\, how to make money and how to save money. Dress is business/business casual. No shorts or flip flops permitted. Bring a notepad and be ready to learn. We are changing the financial lives of families in our community\, join us for a fun and informative night.
URL:https://tampabaynetworkingcalendar.com/event/money-and-business-seminar-2019-11-19/
LOCATION:bryan and melinda turner\, 8902 N. Dale Mabry Hwy\, Tampa\, 33614\, United States
CATEGORIES:Educational
END:VEVENT
BEGIN:VEVENT
DTSTART;TZID=UTC:20191119T080000
DTEND;TZID=UTC:20191119T170000
DTSTAMP:20260423T223619
CREATED:20170815T142702Z
LAST-MODIFIED:20170815T142702Z
UID:4317-1574150400-1574182800@tampabaynetworkingcalendar.com
SUMMARY:Catholic Business Networking
DESCRIPTION:Come join a dozen or so business owners at Our Lady of the Rosary church off of 54 every Tuesday morning 8-9 am; coffee starts brewing @7:45!!\nDrive in and look for the sign in front of the church when you enter off of Collier Parkway\, park close to the building\, we post where we hold our meetings up front.\nFor over 6 years we’ve been gathering here at this Catholic Church\, you need NOT to be Catholic\, many members aren’t!!\nFREE to come experience the meeting a few times before you decide if you’d like to join as a member\, come this Tuesday morning; see the magic!!! 727-222-1420 for details
URL:https://tampabaynetworkingcalendar.com/event/catholic-business-networking-2019-11-19-2/
LOCATION:our lady of the Rosary\, Collier Parkway\, Land O Lakes\, United States
END:VEVENT
BEGIN:VEVENT
DTSTART;TZID=UTC:20191119T080000
DTEND;TZID=UTC:20191119T080000
DTSTAMP:20260423T223619
CREATED:20170815T142702Z
LAST-MODIFIED:20170815T142702Z
UID:1061-1574150400-1574150400@tampabaynetworkingcalendar.com
SUMMARY:Catholic Business Networking
DESCRIPTION:Come join a dozen or so business owners at Our Lady of the Rosary church off of 54 every Tuesday morning 8-9 am; coffee starts brewing @7:45!!\nDrive in and look for the sign in front of the church when you enter off of Collier Parkway\, park close to the building\, we post where we hold our meetings up front.\nFor over 6 years we’ve been gathering here at this Catholic Church\, you need NOT to be Catholic\, many members aren’t!!\nFREE to come experience the meeting a few times before you decide if you’d like to join as a member\, come this Tuesday morning; see the magic!!! 727-222-1420 for details
URL:https://tampabaynetworkingcalendar.com/event/catholic-business-networking-2019-11-19/
LOCATION:our lady of the Rosary\, Collier Parkway\, Land O Lakes\, United States
END:VEVENT
BEGIN:VEVENT
DTSTART;TZID=UTC:20191118T073000
DTEND;TZID=UTC:20191118T083000
DTSTAMP:20260423T223619
CREATED:20170830T135408Z
LAST-MODIFIED:20170830T135408Z
UID:1060-1574062200-1574065800@tampabaynetworkingcalendar.com
SUMMARY:RGA Network - City of Seminole
DESCRIPTION:DAYS: Monday\nTIME: 7:30am-8:30am\, Doors open at 7:am \nLOCATION: Seabreeze Family Restaurant\, 6864 Seminole Blvd\,Seminole\, FL 33772 \nDIRECTOR: Dana Callahan\nPHONE: 321-247-8773\nEMAIL: TheDominoEffectHealth@gmail.com
URL:https://tampabaynetworkingcalendar.com/event/rga-network-city-of-seminole-2019-11-18/
LOCATION:Seabreeze Family Restaurant\, 6864 Seminole Blvd\, Seminole\, FL\, 33772\, United States
CATEGORIES:Networking Meeting
ORGANIZER;CN="RGA Network":MAILTO:info@rganetwork.net
END:VEVENT
BEGIN:VEVENT
DTSTART;TZID=UTC:20191115T113000
DTEND;TZID=UTC:20191115T130000
DTSTAMP:20260423T223619
CREATED:20170827T205031Z
LAST-MODIFIED:20170827T205031Z
UID:3323-1573817400-1573822800@tampabaynetworkingcalendar.com
SUMMARY:RGA Network Sabal Park
DESCRIPTION:The best group of networkers in the area! RGA meets weekly and several locations throughout the area. If you are looking for great networking in an upbeat\, relaxed atmosphere\, then you need RGA. There is no cost to come as a guest\, and membership is inexpensive.
URL:https://tampabaynetworkingcalendar.com/event/rga-network-sabal-park-2019-11-15/
LOCATION:Cafe Delanie\, 3016 N US Highway 301\, Ste 300\, Tampa\, Florida 33619\, 3104 Cherry Palm Dr\, Tampa\, FL\, 33619\, United States
CATEGORIES:Networking Meeting
END:VEVENT
BEGIN:VEVENT
DTSTART;TZID=UTC:20191113T113000
DTEND;TZID=UTC:20191113T130000
DTSTAMP:20260423T223619
CREATED:20180531T202528Z
LAST-MODIFIED:20180531T202528Z
UID:1952-1573644600-1573650000@tampabaynetworkingcalendar.com
SUMMARY:Downtown Tampa Business Networking
DESCRIPTION:Join us every Wednesday at American Social for some great business networking designed to help you gain more referrals! Our meetings start with open networking from 11:30am – 12pm and then our meeting takes place from 12p – 1p. We are not seat specific\, there is no mandatory attendance policy\, guests are always welcome to participate during our meetings\, and our meetings are designed to make the most of your lunch hour! Contact co-leader Philippa Main at pm@yourmainagent.com for more information.
URL:https://tampabaynetworkingcalendar.com/event/downtown-tampa-business-networking-2019-11-13/
LOCATION:American Social\, 601 S Harbour Island Blvd suite 107\, Tampa\, FL\, 33602\, United States
CATEGORIES:Networking Meeting
ORGANIZER;CN="RGA Network":MAILTO:info@rganetwork.net
END:VEVENT
BEGIN:VEVENT
DTSTART;TZID=UTC:20191112T190000
DTEND;TZID=UTC:20191112T200000
DTSTAMP:20260423T223619
CREATED:20170815T142526Z
LAST-MODIFIED:20170815T142526Z
UID:1058-1573585200-1573588800@tampabaynetworkingcalendar.com
SUMMARY:Money and Business Seminar
DESCRIPTION:Join us at our office as we host our Money and Business Seninar. You will learn the rules of money\, how to make money and how to save money. Dress is business/business casual. No shorts or flip flops permitted. Bring a notepad and be ready to learn. We are changing the financial lives of families in our community\, join us for a fun and informative night.
URL:https://tampabaynetworkingcalendar.com/event/money-and-business-seminar-2019-11-12/
LOCATION:bryan and melinda turner\, 8902 N. Dale Mabry Hwy\, Tampa\, 33614\, United States
CATEGORIES:Educational
END:VEVENT
BEGIN:VEVENT
DTSTART;TZID=UTC:20191112T080000
DTEND;TZID=UTC:20191112T170000
DTSTAMP:20260423T223619
CREATED:20170815T142702Z
LAST-MODIFIED:20170815T142702Z
UID:4316-1573545600-1573578000@tampabaynetworkingcalendar.com
SUMMARY:Catholic Business Networking
DESCRIPTION:Come join a dozen or so business owners at Our Lady of the Rosary church off of 54 every Tuesday morning 8-9 am; coffee starts brewing @7:45!!\nDrive in and look for the sign in front of the church when you enter off of Collier Parkway\, park close to the building\, we post where we hold our meetings up front.\nFor over 6 years we’ve been gathering here at this Catholic Church\, you need NOT to be Catholic\, many members aren’t!!\nFREE to come experience the meeting a few times before you decide if you’d like to join as a member\, come this Tuesday morning; see the magic!!! 727-222-1420 for details
URL:https://tampabaynetworkingcalendar.com/event/catholic-business-networking-2019-11-12-2/
LOCATION:our lady of the Rosary\, Collier Parkway\, Land O Lakes\, United States
END:VEVENT
BEGIN:VEVENT
DTSTART;TZID=UTC:20191112T080000
DTEND;TZID=UTC:20191112T080000
DTSTAMP:20260423T223619
CREATED:20170815T142702Z
LAST-MODIFIED:20170815T142702Z
UID:1057-1573545600-1573545600@tampabaynetworkingcalendar.com
SUMMARY:Catholic Business Networking
DESCRIPTION:Come join a dozen or so business owners at Our Lady of the Rosary church off of 54 every Tuesday morning 8-9 am; coffee starts brewing @7:45!!\nDrive in and look for the sign in front of the church when you enter off of Collier Parkway\, park close to the building\, we post where we hold our meetings up front.\nFor over 6 years we’ve been gathering here at this Catholic Church\, you need NOT to be Catholic\, many members aren’t!!\nFREE to come experience the meeting a few times before you decide if you’d like to join as a member\, come this Tuesday morning; see the magic!!! 727-222-1420 for details
URL:https://tampabaynetworkingcalendar.com/event/catholic-business-networking-2019-11-12/
LOCATION:our lady of the Rosary\, Collier Parkway\, Land O Lakes\, United States
END:VEVENT
BEGIN:VEVENT
DTSTART;TZID=UTC:20191111T073000
DTEND;TZID=UTC:20191111T083000
DTSTAMP:20260423T223619
CREATED:20170830T135408Z
LAST-MODIFIED:20170830T135408Z
UID:1056-1573457400-1573461000@tampabaynetworkingcalendar.com
SUMMARY:RGA Network - City of Seminole
DESCRIPTION:DAYS: Monday\nTIME: 7:30am-8:30am\, Doors open at 7:am \nLOCATION: Seabreeze Family Restaurant\, 6864 Seminole Blvd\,Seminole\, FL 33772 \nDIRECTOR: Dana Callahan\nPHONE: 321-247-8773\nEMAIL: TheDominoEffectHealth@gmail.com
URL:https://tampabaynetworkingcalendar.com/event/rga-network-city-of-seminole-2019-11-11/
LOCATION:Seabreeze Family Restaurant\, 6864 Seminole Blvd\, Seminole\, FL\, 33772\, United States
CATEGORIES:Networking Meeting
ORGANIZER;CN="RGA Network":MAILTO:info@rganetwork.net
END:VEVENT
BEGIN:VEVENT
DTSTART;TZID=UTC:20191108T113000
DTEND;TZID=UTC:20191108T130000
DTSTAMP:20260423T223619
CREATED:20170827T205031Z
LAST-MODIFIED:20170827T205031Z
UID:3322-1573212600-1573218000@tampabaynetworkingcalendar.com
SUMMARY:RGA Network Sabal Park
DESCRIPTION:The best group of networkers in the area! RGA meets weekly and several locations throughout the area. If you are looking for great networking in an upbeat\, relaxed atmosphere\, then you need RGA. There is no cost to come as a guest\, and membership is inexpensive.
URL:https://tampabaynetworkingcalendar.com/event/rga-network-sabal-park-2019-11-08/
LOCATION:Cafe Delanie\, 3016 N US Highway 301\, Ste 300\, Tampa\, Florida 33619\, 3104 Cherry Palm Dr\, Tampa\, FL\, 33619\, United States
CATEGORIES:Networking Meeting
END:VEVENT
BEGIN:VEVENT
DTSTART;TZID=UTC:20191106T113000
DTEND;TZID=UTC:20191106T130000
DTSTAMP:20260423T223619
CREATED:20180531T202528Z
LAST-MODIFIED:20180531T202528Z
UID:1951-1573039800-1573045200@tampabaynetworkingcalendar.com
SUMMARY:Downtown Tampa Business Networking
DESCRIPTION:Join us every Wednesday at American Social for some great business networking designed to help you gain more referrals! Our meetings start with open networking from 11:30am – 12pm and then our meeting takes place from 12p – 1p. We are not seat specific\, there is no mandatory attendance policy\, guests are always welcome to participate during our meetings\, and our meetings are designed to make the most of your lunch hour! Contact co-leader Philippa Main at pm@yourmainagent.com for more information.
URL:https://tampabaynetworkingcalendar.com/event/downtown-tampa-business-networking-2019-11-06/
LOCATION:American Social\, 601 S Harbour Island Blvd suite 107\, Tampa\, FL\, 33602\, United States
CATEGORIES:Networking Meeting
ORGANIZER;CN="RGA Network":MAILTO:info@rganetwork.net
END:VEVENT
BEGIN:VEVENT
DTSTART;TZID=UTC:20191105T190000
DTEND;TZID=UTC:20191105T200000
DTSTAMP:20260423T223619
CREATED:20170815T142526Z
LAST-MODIFIED:20170815T142526Z
UID:1051-1572980400-1572984000@tampabaynetworkingcalendar.com
SUMMARY:Money and Business Seminar
DESCRIPTION:Join us at our office as we host our Money and Business Seninar. You will learn the rules of money\, how to make money and how to save money. Dress is business/business casual. No shorts or flip flops permitted. Bring a notepad and be ready to learn. We are changing the financial lives of families in our community\, join us for a fun and informative night.
URL:https://tampabaynetworkingcalendar.com/event/money-and-business-seminar-2019-11-05/
LOCATION:bryan and melinda turner\, 8902 N. Dale Mabry Hwy\, Tampa\, 33614\, United States
CATEGORIES:Educational
END:VEVENT
BEGIN:VEVENT
DTSTART;TZID=UTC:20191105T080000
DTEND;TZID=UTC:20191105T170000
DTSTAMP:20260423T223619
CREATED:20170815T142702Z
LAST-MODIFIED:20170815T142702Z
UID:4315-1572940800-1572973200@tampabaynetworkingcalendar.com
SUMMARY:Catholic Business Networking
DESCRIPTION:Come join a dozen or so business owners at Our Lady of the Rosary church off of 54 every Tuesday morning 8-9 am; coffee starts brewing @7:45!!\nDrive in and look for the sign in front of the church when you enter off of Collier Parkway\, park close to the building\, we post where we hold our meetings up front.\nFor over 6 years we’ve been gathering here at this Catholic Church\, you need NOT to be Catholic\, many members aren’t!!\nFREE to come experience the meeting a few times before you decide if you’d like to join as a member\, come this Tuesday morning; see the magic!!! 727-222-1420 for details
URL:https://tampabaynetworkingcalendar.com/event/catholic-business-networking-2019-11-05-2/
LOCATION:our lady of the Rosary\, Collier Parkway\, Land O Lakes\, United States
END:VEVENT
BEGIN:VEVENT
DTSTART;TZID=UTC:20191105T080000
DTEND;TZID=UTC:20191105T080000
DTSTAMP:20260423T223619
CREATED:20170815T142702Z
LAST-MODIFIED:20170815T142702Z
UID:1050-1572940800-1572940800@tampabaynetworkingcalendar.com
SUMMARY:Catholic Business Networking
DESCRIPTION:Come join a dozen or so business owners at Our Lady of the Rosary church off of 54 every Tuesday morning 8-9 am; coffee starts brewing @7:45!!\nDrive in and look for the sign in front of the church when you enter off of Collier Parkway\, park close to the building\, we post where we hold our meetings up front.\nFor over 6 years we’ve been gathering here at this Catholic Church\, you need NOT to be Catholic\, many members aren’t!!\nFREE to come experience the meeting a few times before you decide if you’d like to join as a member\, come this Tuesday morning; see the magic!!! 727-222-1420 for details
URL:https://tampabaynetworkingcalendar.com/event/catholic-business-networking-2019-11-05/
LOCATION:our lady of the Rosary\, Collier Parkway\, Land O Lakes\, United States
END:VEVENT
BEGIN:VEVENT
DTSTART;TZID=UTC:20191104T073000
DTEND;TZID=UTC:20191104T083000
DTSTAMP:20260423T223619
CREATED:20170830T135408Z
LAST-MODIFIED:20170830T135408Z
UID:1049-1572852600-1572856200@tampabaynetworkingcalendar.com
SUMMARY:RGA Network - City of Seminole
DESCRIPTION:DAYS: Monday\nTIME: 7:30am-8:30am\, Doors open at 7:am \nLOCATION: Seabreeze Family Restaurant\, 6864 Seminole Blvd\,Seminole\, FL 33772 \nDIRECTOR: Dana Callahan\nPHONE: 321-247-8773\nEMAIL: TheDominoEffectHealth@gmail.com
URL:https://tampabaynetworkingcalendar.com/event/rga-network-city-of-seminole-2019-11-04/
LOCATION:Seabreeze Family Restaurant\, 6864 Seminole Blvd\, Seminole\, FL\, 33772\, United States
CATEGORIES:Networking Meeting
ORGANIZER;CN="RGA Network":MAILTO:info@rganetwork.net
END:VEVENT
BEGIN:VEVENT
DTSTART;TZID=UTC:20191101T113000
DTEND;TZID=UTC:20191101T130000
DTSTAMP:20260423T223619
CREATED:20170827T205031Z
LAST-MODIFIED:20170827T205031Z
UID:3321-1572607800-1572613200@tampabaynetworkingcalendar.com
SUMMARY:RGA Network Sabal Park
DESCRIPTION:The best group of networkers in the area! RGA meets weekly and several locations throughout the area. If you are looking for great networking in an upbeat\, relaxed atmosphere\, then you need RGA. There is no cost to come as a guest\, and membership is inexpensive.
URL:https://tampabaynetworkingcalendar.com/event/rga-network-sabal-park-2019-11-01/
LOCATION:Cafe Delanie\, 3016 N US Highway 301\, Ste 300\, Tampa\, Florida 33619\, 3104 Cherry Palm Dr\, Tampa\, FL\, 33619\, United States
CATEGORIES:Networking Meeting
END:VEVENT
BEGIN:VEVENT
DTSTART;TZID=UTC:20191030T113000
DTEND;TZID=UTC:20191030T130000
DTSTAMP:20260423T223619
CREATED:20180531T202528Z
LAST-MODIFIED:20180531T202528Z
UID:1950-1572435000-1572440400@tampabaynetworkingcalendar.com
SUMMARY:Downtown Tampa Business Networking
DESCRIPTION:Join us every Wednesday at American Social for some great business networking designed to help you gain more referrals! Our meetings start with open networking from 11:30am – 12pm and then our meeting takes place from 12p – 1p. We are not seat specific\, there is no mandatory attendance policy\, guests are always welcome to participate during our meetings\, and our meetings are designed to make the most of your lunch hour! Contact co-leader Philippa Main at pm@yourmainagent.com for more information.
URL:https://tampabaynetworkingcalendar.com/event/downtown-tampa-business-networking-2019-10-30/
LOCATION:American Social\, 601 S Harbour Island Blvd suite 107\, Tampa\, FL\, 33602\, United States
CATEGORIES:Networking Meeting
ORGANIZER;CN="RGA Network":MAILTO:info@rganetwork.net
END:VEVENT
BEGIN:VEVENT
DTSTART;TZID=UTC:20191029T190000
DTEND;TZID=UTC:20191029T200000
DTSTAMP:20260423T223619
CREATED:20170815T142526Z
LAST-MODIFIED:20170815T142526Z
UID:1047-1572375600-1572379200@tampabaynetworkingcalendar.com
SUMMARY:Money and Business Seminar
DESCRIPTION:Join us at our office as we host our Money and Business Seninar. You will learn the rules of money\, how to make money and how to save money. Dress is business/business casual. No shorts or flip flops permitted. Bring a notepad and be ready to learn. We are changing the financial lives of families in our community\, join us for a fun and informative night.
URL:https://tampabaynetworkingcalendar.com/event/money-and-business-seminar-2019-10-29/
LOCATION:bryan and melinda turner\, 8902 N. Dale Mabry Hwy\, Tampa\, 33614\, United States
CATEGORIES:Educational
END:VEVENT
BEGIN:VEVENT
DTSTART;TZID=UTC:20191029T080000
DTEND;TZID=UTC:20191029T170000
DTSTAMP:20260423T223619
CREATED:20170815T142702Z
LAST-MODIFIED:20170815T142702Z
UID:4314-1572336000-1572368400@tampabaynetworkingcalendar.com
SUMMARY:Catholic Business Networking
DESCRIPTION:Come join a dozen or so business owners at Our Lady of the Rosary church off of 54 every Tuesday morning 8-9 am; coffee starts brewing @7:45!!\nDrive in and look for the sign in front of the church when you enter off of Collier Parkway\, park close to the building\, we post where we hold our meetings up front.\nFor over 6 years we’ve been gathering here at this Catholic Church\, you need NOT to be Catholic\, many members aren’t!!\nFREE to come experience the meeting a few times before you decide if you’d like to join as a member\, come this Tuesday morning; see the magic!!! 727-222-1420 for details
URL:https://tampabaynetworkingcalendar.com/event/catholic-business-networking-2019-10-29-2/
LOCATION:our lady of the Rosary\, Collier Parkway\, Land O Lakes\, United States
END:VEVENT
BEGIN:VEVENT
DTSTART;TZID=UTC:20191029T080000
DTEND;TZID=UTC:20191029T080000
DTSTAMP:20260423T223619
CREATED:20170815T142702Z
LAST-MODIFIED:20170815T142702Z
UID:1046-1572336000-1572336000@tampabaynetworkingcalendar.com
SUMMARY:Catholic Business Networking
DESCRIPTION:Come join a dozen or so business owners at Our Lady of the Rosary church off of 54 every Tuesday morning 8-9 am; coffee starts brewing @7:45!!\nDrive in and look for the sign in front of the church when you enter off of Collier Parkway\, park close to the building\, we post where we hold our meetings up front.\nFor over 6 years we’ve been gathering here at this Catholic Church\, you need NOT to be Catholic\, many members aren’t!!\nFREE to come experience the meeting a few times before you decide if you’d like to join as a member\, come this Tuesday morning; see the magic!!! 727-222-1420 for details
URL:https://tampabaynetworkingcalendar.com/event/catholic-business-networking-2019-10-29/
LOCATION:our lady of the Rosary\, Collier Parkway\, Land O Lakes\, United States
END:VEVENT
END:VCALENDAR