BEGIN:VCALENDAR
VERSION:2.0
PRODID:-//Tampa Bay Networking Calendar - ECPv6.15.20//NONSGML v1.0//EN
CALSCALE:GREGORIAN
METHOD:PUBLISH
X-WR-CALNAME:Tampa Bay Networking Calendar
X-ORIGINAL-URL:https://tampabaynetworkingcalendar.com
X-WR-CALDESC:Events for Tampa Bay Networking Calendar
REFRESH-INTERVAL;VALUE=DURATION:PT1H
X-Robots-Tag:noindex
X-PUBLISHED-TTL:PT1H
BEGIN:VTIMEZONE
TZID:UTC
BEGIN:STANDARD
TZOFFSETFROM:+0000
TZOFFSETTO:+0000
TZNAME:UTC
DTSTART:20180101T000000
END:STANDARD
END:VTIMEZONE
BEGIN:VEVENT
DTSTART;TZID=UTC:20200106T073000
DTEND;TZID=UTC:20200106T083000
DTSTAMP:20260423T185619
CREATED:20170830T135408Z
LAST-MODIFIED:20170830T135408Z
UID:1093-1578295800-1578299400@tampabaynetworkingcalendar.com
SUMMARY:RGA Network - City of Seminole
DESCRIPTION:DAYS: Monday\nTIME: 7:30am-8:30am\, Doors open at 7:am \nLOCATION: Seabreeze Family Restaurant\, 6864 Seminole Blvd\,Seminole\, FL 33772 \nDIRECTOR: Dana Callahan\nPHONE: 321-247-8773\nEMAIL: TheDominoEffectHealth@gmail.com
URL:https://tampabaynetworkingcalendar.com/event/rga-network-city-of-seminole-2020-01-06/
LOCATION:Seabreeze Family Restaurant\, 6864 Seminole Blvd\, Seminole\, FL\, 33772\, United States
CATEGORIES:Networking Meeting
ORGANIZER;CN="RGA Network":MAILTO:info@rganetwork.net
END:VEVENT
BEGIN:VEVENT
DTSTART;TZID=UTC:20200103T113000
DTEND;TZID=UTC:20200103T130000
DTSTAMP:20260423T185619
CREATED:20170827T205031Z
LAST-MODIFIED:20170827T205031Z
UID:3330-1578051000-1578056400@tampabaynetworkingcalendar.com
SUMMARY:RGA Network Sabal Park
DESCRIPTION:The best group of networkers in the area! RGA meets weekly and several locations throughout the area. If you are looking for great networking in an upbeat\, relaxed atmosphere\, then you need RGA. There is no cost to come as a guest\, and membership is inexpensive.
URL:https://tampabaynetworkingcalendar.com/event/rga-network-sabal-park-2020-01-03/
LOCATION:Cafe Delanie\, 3016 N US Highway 301\, Ste 300\, Tampa\, Florida 33619\, 3104 Cherry Palm Dr\, Tampa\, FL\, 33619\, United States
CATEGORIES:Networking Meeting
END:VEVENT
BEGIN:VEVENT
DTSTART;TZID=UTC:20200101T113000
DTEND;TZID=UTC:20200101T130000
DTSTAMP:20260423T185619
CREATED:20180531T202528Z
LAST-MODIFIED:20180531T202528Z
UID:1959-1577878200-1577883600@tampabaynetworkingcalendar.com
SUMMARY:Downtown Tampa Business Networking
DESCRIPTION:Join us every Wednesday at American Social for some great business networking designed to help you gain more referrals! Our meetings start with open networking from 11:30am – 12pm and then our meeting takes place from 12p – 1p. We are not seat specific\, there is no mandatory attendance policy\, guests are always welcome to participate during our meetings\, and our meetings are designed to make the most of your lunch hour! Contact co-leader Philippa Main at pm@yourmainagent.com for more information.
URL:https://tampabaynetworkingcalendar.com/event/downtown-tampa-business-networking-2020-01-01/
LOCATION:American Social\, 601 S Harbour Island Blvd suite 107\, Tampa\, FL\, 33602\, United States
CATEGORIES:Networking Meeting
ORGANIZER;CN="RGA Network":MAILTO:info@rganetwork.net
END:VEVENT
BEGIN:VEVENT
DTSTART;TZID=UTC:20191231T190000
DTEND;TZID=UTC:20191231T200000
DTSTAMP:20260423T185619
CREATED:20170815T142526Z
LAST-MODIFIED:20170815T142526Z
UID:1087-1577818800-1577822400@tampabaynetworkingcalendar.com
SUMMARY:Money and Business Seminar
DESCRIPTION:Join us at our office as we host our Money and Business Seninar. You will learn the rules of money\, how to make money and how to save money. Dress is business/business casual. No shorts or flip flops permitted. Bring a notepad and be ready to learn. We are changing the financial lives of families in our community\, join us for a fun and informative night.
URL:https://tampabaynetworkingcalendar.com/event/money-and-business-seminar-2019-12-31/
LOCATION:bryan and melinda turner\, 8902 N. Dale Mabry Hwy\, Tampa\, 33614\, United States
CATEGORIES:Educational
END:VEVENT
BEGIN:VEVENT
DTSTART;TZID=UTC:20191231T080000
DTEND;TZID=UTC:20191231T170000
DTSTAMP:20260423T185619
CREATED:20170815T142702Z
LAST-MODIFIED:20170815T142702Z
UID:4323-1577779200-1577811600@tampabaynetworkingcalendar.com
SUMMARY:Catholic Business Networking
DESCRIPTION:Come join a dozen or so business owners at Our Lady of the Rosary church off of 54 every Tuesday morning 8-9 am; coffee starts brewing @7:45!!\nDrive in and look for the sign in front of the church when you enter off of Collier Parkway\, park close to the building\, we post where we hold our meetings up front.\nFor over 6 years we’ve been gathering here at this Catholic Church\, you need NOT to be Catholic\, many members aren’t!!\nFREE to come experience the meeting a few times before you decide if you’d like to join as a member\, come this Tuesday morning; see the magic!!! 727-222-1420 for details
URL:https://tampabaynetworkingcalendar.com/event/catholic-business-networking-2019-12-31-2/
LOCATION:our lady of the Rosary\, Collier Parkway\, Land O Lakes\, United States
END:VEVENT
BEGIN:VEVENT
DTSTART;TZID=UTC:20191231T080000
DTEND;TZID=UTC:20191231T080000
DTSTAMP:20260423T185619
CREATED:20170815T142702Z
LAST-MODIFIED:20170815T142702Z
UID:1086-1577779200-1577779200@tampabaynetworkingcalendar.com
SUMMARY:Catholic Business Networking
DESCRIPTION:Come join a dozen or so business owners at Our Lady of the Rosary church off of 54 every Tuesday morning 8-9 am; coffee starts brewing @7:45!!\nDrive in and look for the sign in front of the church when you enter off of Collier Parkway\, park close to the building\, we post where we hold our meetings up front.\nFor over 6 years we’ve been gathering here at this Catholic Church\, you need NOT to be Catholic\, many members aren’t!!\nFREE to come experience the meeting a few times before you decide if you’d like to join as a member\, come this Tuesday morning; see the magic!!! 727-222-1420 for details
URL:https://tampabaynetworkingcalendar.com/event/catholic-business-networking-2019-12-31/
LOCATION:our lady of the Rosary\, Collier Parkway\, Land O Lakes\, United States
END:VEVENT
BEGIN:VEVENT
DTSTART;TZID=UTC:20191230T073000
DTEND;TZID=UTC:20191230T083000
DTSTAMP:20260423T185619
CREATED:20170830T135408Z
LAST-MODIFIED:20170830T135408Z
UID:1085-1577691000-1577694600@tampabaynetworkingcalendar.com
SUMMARY:RGA Network - City of Seminole
DESCRIPTION:DAYS: Monday\nTIME: 7:30am-8:30am\, Doors open at 7:am \nLOCATION: Seabreeze Family Restaurant\, 6864 Seminole Blvd\,Seminole\, FL 33772 \nDIRECTOR: Dana Callahan\nPHONE: 321-247-8773\nEMAIL: TheDominoEffectHealth@gmail.com
URL:https://tampabaynetworkingcalendar.com/event/rga-network-city-of-seminole-2019-12-30/
LOCATION:Seabreeze Family Restaurant\, 6864 Seminole Blvd\, Seminole\, FL\, 33772\, United States
CATEGORIES:Networking Meeting
ORGANIZER;CN="RGA Network":MAILTO:info@rganetwork.net
END:VEVENT
BEGIN:VEVENT
DTSTART;TZID=UTC:20191227T113000
DTEND;TZID=UTC:20191227T130000
DTSTAMP:20260423T185619
CREATED:20170827T205031Z
LAST-MODIFIED:20170827T205031Z
UID:3329-1577446200-1577451600@tampabaynetworkingcalendar.com
SUMMARY:RGA Network Sabal Park
DESCRIPTION:The best group of networkers in the area! RGA meets weekly and several locations throughout the area. If you are looking for great networking in an upbeat\, relaxed atmosphere\, then you need RGA. There is no cost to come as a guest\, and membership is inexpensive.
URL:https://tampabaynetworkingcalendar.com/event/rga-network-sabal-park-2019-12-27/
LOCATION:Cafe Delanie\, 3016 N US Highway 301\, Ste 300\, Tampa\, Florida 33619\, 3104 Cherry Palm Dr\, Tampa\, FL\, 33619\, United States
CATEGORIES:Networking Meeting
END:VEVENT
BEGIN:VEVENT
DTSTART;TZID=UTC:20191225T113000
DTEND;TZID=UTC:20191225T130000
DTSTAMP:20260423T185619
CREATED:20180531T202528Z
LAST-MODIFIED:20180531T202528Z
UID:1958-1577273400-1577278800@tampabaynetworkingcalendar.com
SUMMARY:Downtown Tampa Business Networking
DESCRIPTION:Join us every Wednesday at American Social for some great business networking designed to help you gain more referrals! Our meetings start with open networking from 11:30am – 12pm and then our meeting takes place from 12p – 1p. We are not seat specific\, there is no mandatory attendance policy\, guests are always welcome to participate during our meetings\, and our meetings are designed to make the most of your lunch hour! Contact co-leader Philippa Main at pm@yourmainagent.com for more information.
URL:https://tampabaynetworkingcalendar.com/event/downtown-tampa-business-networking-2019-12-25/
LOCATION:American Social\, 601 S Harbour Island Blvd suite 107\, Tampa\, FL\, 33602\, United States
CATEGORIES:Networking Meeting
ORGANIZER;CN="RGA Network":MAILTO:info@rganetwork.net
END:VEVENT
BEGIN:VEVENT
DTSTART;TZID=UTC:20191224T190000
DTEND;TZID=UTC:20191224T200000
DTSTAMP:20260423T185619
CREATED:20170815T142526Z
LAST-MODIFIED:20170815T142526Z
UID:1083-1577214000-1577217600@tampabaynetworkingcalendar.com
SUMMARY:Money and Business Seminar
DESCRIPTION:Join us at our office as we host our Money and Business Seninar. You will learn the rules of money\, how to make money and how to save money. Dress is business/business casual. No shorts or flip flops permitted. Bring a notepad and be ready to learn. We are changing the financial lives of families in our community\, join us for a fun and informative night.
URL:https://tampabaynetworkingcalendar.com/event/money-and-business-seminar-2019-12-24/
LOCATION:bryan and melinda turner\, 8902 N. Dale Mabry Hwy\, Tampa\, 33614\, United States
CATEGORIES:Educational
END:VEVENT
BEGIN:VEVENT
DTSTART;TZID=UTC:20191224T080000
DTEND;TZID=UTC:20191224T170000
DTSTAMP:20260423T185619
CREATED:20170815T142702Z
LAST-MODIFIED:20170815T142702Z
UID:4322-1577174400-1577206800@tampabaynetworkingcalendar.com
SUMMARY:Catholic Business Networking
DESCRIPTION:Come join a dozen or so business owners at Our Lady of the Rosary church off of 54 every Tuesday morning 8-9 am; coffee starts brewing @7:45!!\nDrive in and look for the sign in front of the church when you enter off of Collier Parkway\, park close to the building\, we post where we hold our meetings up front.\nFor over 6 years we’ve been gathering here at this Catholic Church\, you need NOT to be Catholic\, many members aren’t!!\nFREE to come experience the meeting a few times before you decide if you’d like to join as a member\, come this Tuesday morning; see the magic!!! 727-222-1420 for details
URL:https://tampabaynetworkingcalendar.com/event/catholic-business-networking-2019-12-24-2/
LOCATION:our lady of the Rosary\, Collier Parkway\, Land O Lakes\, United States
END:VEVENT
BEGIN:VEVENT
DTSTART;TZID=UTC:20191224T080000
DTEND;TZID=UTC:20191224T080000
DTSTAMP:20260423T185619
CREATED:20170815T142702Z
LAST-MODIFIED:20170815T142702Z
UID:1082-1577174400-1577174400@tampabaynetworkingcalendar.com
SUMMARY:Catholic Business Networking
DESCRIPTION:Come join a dozen or so business owners at Our Lady of the Rosary church off of 54 every Tuesday morning 8-9 am; coffee starts brewing @7:45!!\nDrive in and look for the sign in front of the church when you enter off of Collier Parkway\, park close to the building\, we post where we hold our meetings up front.\nFor over 6 years we’ve been gathering here at this Catholic Church\, you need NOT to be Catholic\, many members aren’t!!\nFREE to come experience the meeting a few times before you decide if you’d like to join as a member\, come this Tuesday morning; see the magic!!! 727-222-1420 for details
URL:https://tampabaynetworkingcalendar.com/event/catholic-business-networking-2019-12-24/
LOCATION:our lady of the Rosary\, Collier Parkway\, Land O Lakes\, United States
END:VEVENT
BEGIN:VEVENT
DTSTART;TZID=UTC:20191223T073000
DTEND;TZID=UTC:20191223T083000
DTSTAMP:20260423T185619
CREATED:20170830T135408Z
LAST-MODIFIED:20170830T135408Z
UID:1081-1577086200-1577089800@tampabaynetworkingcalendar.com
SUMMARY:RGA Network - City of Seminole
DESCRIPTION:DAYS: Monday\nTIME: 7:30am-8:30am\, Doors open at 7:am \nLOCATION: Seabreeze Family Restaurant\, 6864 Seminole Blvd\,Seminole\, FL 33772 \nDIRECTOR: Dana Callahan\nPHONE: 321-247-8773\nEMAIL: TheDominoEffectHealth@gmail.com
URL:https://tampabaynetworkingcalendar.com/event/rga-network-city-of-seminole-2019-12-23/
LOCATION:Seabreeze Family Restaurant\, 6864 Seminole Blvd\, Seminole\, FL\, 33772\, United States
CATEGORIES:Networking Meeting
ORGANIZER;CN="RGA Network":MAILTO:info@rganetwork.net
END:VEVENT
BEGIN:VEVENT
DTSTART;TZID=UTC:20191220T113000
DTEND;TZID=UTC:20191220T130000
DTSTAMP:20260423T185619
CREATED:20170827T205031Z
LAST-MODIFIED:20170827T205031Z
UID:3328-1576841400-1576846800@tampabaynetworkingcalendar.com
SUMMARY:RGA Network Sabal Park
DESCRIPTION:The best group of networkers in the area! RGA meets weekly and several locations throughout the area. If you are looking for great networking in an upbeat\, relaxed atmosphere\, then you need RGA. There is no cost to come as a guest\, and membership is inexpensive.
URL:https://tampabaynetworkingcalendar.com/event/rga-network-sabal-park-2019-12-20/
LOCATION:Cafe Delanie\, 3016 N US Highway 301\, Ste 300\, Tampa\, Florida 33619\, 3104 Cherry Palm Dr\, Tampa\, FL\, 33619\, United States
CATEGORIES:Networking Meeting
END:VEVENT
BEGIN:VEVENT
DTSTART;TZID=UTC:20191218T113000
DTEND;TZID=UTC:20191218T130000
DTSTAMP:20260423T185619
CREATED:20180531T202528Z
LAST-MODIFIED:20180531T202528Z
UID:1957-1576668600-1576674000@tampabaynetworkingcalendar.com
SUMMARY:Downtown Tampa Business Networking
DESCRIPTION:Join us every Wednesday at American Social for some great business networking designed to help you gain more referrals! Our meetings start with open networking from 11:30am – 12pm and then our meeting takes place from 12p – 1p. We are not seat specific\, there is no mandatory attendance policy\, guests are always welcome to participate during our meetings\, and our meetings are designed to make the most of your lunch hour! Contact co-leader Philippa Main at pm@yourmainagent.com for more information.
URL:https://tampabaynetworkingcalendar.com/event/downtown-tampa-business-networking-2019-12-18/
LOCATION:American Social\, 601 S Harbour Island Blvd suite 107\, Tampa\, FL\, 33602\, United States
CATEGORIES:Networking Meeting
ORGANIZER;CN="RGA Network":MAILTO:info@rganetwork.net
END:VEVENT
BEGIN:VEVENT
DTSTART;TZID=UTC:20191217T190000
DTEND;TZID=UTC:20191217T200000
DTSTAMP:20260423T185619
CREATED:20170815T142526Z
LAST-MODIFIED:20170815T142526Z
UID:1079-1576609200-1576612800@tampabaynetworkingcalendar.com
SUMMARY:Money and Business Seminar
DESCRIPTION:Join us at our office as we host our Money and Business Seninar. You will learn the rules of money\, how to make money and how to save money. Dress is business/business casual. No shorts or flip flops permitted. Bring a notepad and be ready to learn. We are changing the financial lives of families in our community\, join us for a fun and informative night.
URL:https://tampabaynetworkingcalendar.com/event/money-and-business-seminar-2019-12-17/
LOCATION:bryan and melinda turner\, 8902 N. Dale Mabry Hwy\, Tampa\, 33614\, United States
CATEGORIES:Educational
END:VEVENT
BEGIN:VEVENT
DTSTART;TZID=UTC:20191217T080000
DTEND;TZID=UTC:20191217T170000
DTSTAMP:20260423T185619
CREATED:20170815T142702Z
LAST-MODIFIED:20170815T142702Z
UID:4321-1576569600-1576602000@tampabaynetworkingcalendar.com
SUMMARY:Catholic Business Networking
DESCRIPTION:Come join a dozen or so business owners at Our Lady of the Rosary church off of 54 every Tuesday morning 8-9 am; coffee starts brewing @7:45!!\nDrive in and look for the sign in front of the church when you enter off of Collier Parkway\, park close to the building\, we post where we hold our meetings up front.\nFor over 6 years we’ve been gathering here at this Catholic Church\, you need NOT to be Catholic\, many members aren’t!!\nFREE to come experience the meeting a few times before you decide if you’d like to join as a member\, come this Tuesday morning; see the magic!!! 727-222-1420 for details
URL:https://tampabaynetworkingcalendar.com/event/catholic-business-networking-2019-12-17-2/
LOCATION:our lady of the Rosary\, Collier Parkway\, Land O Lakes\, United States
END:VEVENT
BEGIN:VEVENT
DTSTART;TZID=UTC:20191217T080000
DTEND;TZID=UTC:20191217T080000
DTSTAMP:20260423T185619
CREATED:20170815T142702Z
LAST-MODIFIED:20170815T142702Z
UID:1078-1576569600-1576569600@tampabaynetworkingcalendar.com
SUMMARY:Catholic Business Networking
DESCRIPTION:Come join a dozen or so business owners at Our Lady of the Rosary church off of 54 every Tuesday morning 8-9 am; coffee starts brewing @7:45!!\nDrive in and look for the sign in front of the church when you enter off of Collier Parkway\, park close to the building\, we post where we hold our meetings up front.\nFor over 6 years we’ve been gathering here at this Catholic Church\, you need NOT to be Catholic\, many members aren’t!!\nFREE to come experience the meeting a few times before you decide if you’d like to join as a member\, come this Tuesday morning; see the magic!!! 727-222-1420 for details
URL:https://tampabaynetworkingcalendar.com/event/catholic-business-networking-2019-12-17/
LOCATION:our lady of the Rosary\, Collier Parkway\, Land O Lakes\, United States
END:VEVENT
BEGIN:VEVENT
DTSTART;TZID=UTC:20191216T073000
DTEND;TZID=UTC:20191216T083000
DTSTAMP:20260423T185619
CREATED:20170830T135408Z
LAST-MODIFIED:20170830T135408Z
UID:1077-1576481400-1576485000@tampabaynetworkingcalendar.com
SUMMARY:RGA Network - City of Seminole
DESCRIPTION:DAYS: Monday\nTIME: 7:30am-8:30am\, Doors open at 7:am \nLOCATION: Seabreeze Family Restaurant\, 6864 Seminole Blvd\,Seminole\, FL 33772 \nDIRECTOR: Dana Callahan\nPHONE: 321-247-8773\nEMAIL: TheDominoEffectHealth@gmail.com
URL:https://tampabaynetworkingcalendar.com/event/rga-network-city-of-seminole-2019-12-16/
LOCATION:Seabreeze Family Restaurant\, 6864 Seminole Blvd\, Seminole\, FL\, 33772\, United States
CATEGORIES:Networking Meeting
ORGANIZER;CN="RGA Network":MAILTO:info@rganetwork.net
END:VEVENT
BEGIN:VEVENT
DTSTART;TZID=UTC:20191213T113000
DTEND;TZID=UTC:20191213T130000
DTSTAMP:20260423T185619
CREATED:20170827T205031Z
LAST-MODIFIED:20170827T205031Z
UID:3327-1576236600-1576242000@tampabaynetworkingcalendar.com
SUMMARY:RGA Network Sabal Park
DESCRIPTION:The best group of networkers in the area! RGA meets weekly and several locations throughout the area. If you are looking for great networking in an upbeat\, relaxed atmosphere\, then you need RGA. There is no cost to come as a guest\, and membership is inexpensive.
URL:https://tampabaynetworkingcalendar.com/event/rga-network-sabal-park-2019-12-13/
LOCATION:Cafe Delanie\, 3016 N US Highway 301\, Ste 300\, Tampa\, Florida 33619\, 3104 Cherry Palm Dr\, Tampa\, FL\, 33619\, United States
CATEGORIES:Networking Meeting
END:VEVENT
BEGIN:VEVENT
DTSTART;TZID=UTC:20191211T113000
DTEND;TZID=UTC:20191211T130000
DTSTAMP:20260423T185619
CREATED:20180531T202528Z
LAST-MODIFIED:20180531T202528Z
UID:1956-1576063800-1576069200@tampabaynetworkingcalendar.com
SUMMARY:Downtown Tampa Business Networking
DESCRIPTION:Join us every Wednesday at American Social for some great business networking designed to help you gain more referrals! Our meetings start with open networking from 11:30am – 12pm and then our meeting takes place from 12p – 1p. We are not seat specific\, there is no mandatory attendance policy\, guests are always welcome to participate during our meetings\, and our meetings are designed to make the most of your lunch hour! Contact co-leader Philippa Main at pm@yourmainagent.com for more information.
URL:https://tampabaynetworkingcalendar.com/event/downtown-tampa-business-networking-2019-12-11/
LOCATION:American Social\, 601 S Harbour Island Blvd suite 107\, Tampa\, FL\, 33602\, United States
CATEGORIES:Networking Meeting
ORGANIZER;CN="RGA Network":MAILTO:info@rganetwork.net
END:VEVENT
BEGIN:VEVENT
DTSTART;TZID=UTC:20191210T190000
DTEND;TZID=UTC:20191210T200000
DTSTAMP:20260423T185619
CREATED:20170815T142526Z
LAST-MODIFIED:20170815T142526Z
UID:1075-1576004400-1576008000@tampabaynetworkingcalendar.com
SUMMARY:Money and Business Seminar
DESCRIPTION:Join us at our office as we host our Money and Business Seninar. You will learn the rules of money\, how to make money and how to save money. Dress is business/business casual. No shorts or flip flops permitted. Bring a notepad and be ready to learn. We are changing the financial lives of families in our community\, join us for a fun and informative night.
URL:https://tampabaynetworkingcalendar.com/event/money-and-business-seminar-2019-12-10/
LOCATION:bryan and melinda turner\, 8902 N. Dale Mabry Hwy\, Tampa\, 33614\, United States
CATEGORIES:Educational
END:VEVENT
BEGIN:VEVENT
DTSTART;TZID=UTC:20191210T080000
DTEND;TZID=UTC:20191210T170000
DTSTAMP:20260423T185619
CREATED:20170815T142702Z
LAST-MODIFIED:20170815T142702Z
UID:4320-1575964800-1575997200@tampabaynetworkingcalendar.com
SUMMARY:Catholic Business Networking
DESCRIPTION:Come join a dozen or so business owners at Our Lady of the Rosary church off of 54 every Tuesday morning 8-9 am; coffee starts brewing @7:45!!\nDrive in and look for the sign in front of the church when you enter off of Collier Parkway\, park close to the building\, we post where we hold our meetings up front.\nFor over 6 years we’ve been gathering here at this Catholic Church\, you need NOT to be Catholic\, many members aren’t!!\nFREE to come experience the meeting a few times before you decide if you’d like to join as a member\, come this Tuesday morning; see the magic!!! 727-222-1420 for details
URL:https://tampabaynetworkingcalendar.com/event/catholic-business-networking-2019-12-10-2/
LOCATION:our lady of the Rosary\, Collier Parkway\, Land O Lakes\, United States
END:VEVENT
BEGIN:VEVENT
DTSTART;TZID=UTC:20191210T080000
DTEND;TZID=UTC:20191210T080000
DTSTAMP:20260423T185619
CREATED:20170815T142702Z
LAST-MODIFIED:20170815T142702Z
UID:1074-1575964800-1575964800@tampabaynetworkingcalendar.com
SUMMARY:Catholic Business Networking
DESCRIPTION:Come join a dozen or so business owners at Our Lady of the Rosary church off of 54 every Tuesday morning 8-9 am; coffee starts brewing @7:45!!\nDrive in and look for the sign in front of the church when you enter off of Collier Parkway\, park close to the building\, we post where we hold our meetings up front.\nFor over 6 years we’ve been gathering here at this Catholic Church\, you need NOT to be Catholic\, many members aren’t!!\nFREE to come experience the meeting a few times before you decide if you’d like to join as a member\, come this Tuesday morning; see the magic!!! 727-222-1420 for details
URL:https://tampabaynetworkingcalendar.com/event/catholic-business-networking-2019-12-10/
LOCATION:our lady of the Rosary\, Collier Parkway\, Land O Lakes\, United States
END:VEVENT
BEGIN:VEVENT
DTSTART;TZID=UTC:20191209T073000
DTEND;TZID=UTC:20191209T083000
DTSTAMP:20260423T185619
CREATED:20170830T135408Z
LAST-MODIFIED:20170830T135408Z
UID:1073-1575876600-1575880200@tampabaynetworkingcalendar.com
SUMMARY:RGA Network - City of Seminole
DESCRIPTION:DAYS: Monday\nTIME: 7:30am-8:30am\, Doors open at 7:am \nLOCATION: Seabreeze Family Restaurant\, 6864 Seminole Blvd\,Seminole\, FL 33772 \nDIRECTOR: Dana Callahan\nPHONE: 321-247-8773\nEMAIL: TheDominoEffectHealth@gmail.com
URL:https://tampabaynetworkingcalendar.com/event/rga-network-city-of-seminole-2019-12-09/
LOCATION:Seabreeze Family Restaurant\, 6864 Seminole Blvd\, Seminole\, FL\, 33772\, United States
CATEGORIES:Networking Meeting
ORGANIZER;CN="RGA Network":MAILTO:info@rganetwork.net
END:VEVENT
BEGIN:VEVENT
DTSTART;TZID=UTC:20191206T113000
DTEND;TZID=UTC:20191206T130000
DTSTAMP:20260423T185619
CREATED:20170827T205031Z
LAST-MODIFIED:20170827T205031Z
UID:3326-1575631800-1575637200@tampabaynetworkingcalendar.com
SUMMARY:RGA Network Sabal Park
DESCRIPTION:The best group of networkers in the area! RGA meets weekly and several locations throughout the area. If you are looking for great networking in an upbeat\, relaxed atmosphere\, then you need RGA. There is no cost to come as a guest\, and membership is inexpensive.
URL:https://tampabaynetworkingcalendar.com/event/rga-network-sabal-park-2019-12-06/
LOCATION:Cafe Delanie\, 3016 N US Highway 301\, Ste 300\, Tampa\, Florida 33619\, 3104 Cherry Palm Dr\, Tampa\, FL\, 33619\, United States
CATEGORIES:Networking Meeting
END:VEVENT
BEGIN:VEVENT
DTSTART;TZID=UTC:20191204T113000
DTEND;TZID=UTC:20191204T130000
DTSTAMP:20260423T185619
CREATED:20180531T202528Z
LAST-MODIFIED:20180531T202528Z
UID:1955-1575459000-1575464400@tampabaynetworkingcalendar.com
SUMMARY:Downtown Tampa Business Networking
DESCRIPTION:Join us every Wednesday at American Social for some great business networking designed to help you gain more referrals! Our meetings start with open networking from 11:30am – 12pm and then our meeting takes place from 12p – 1p. We are not seat specific\, there is no mandatory attendance policy\, guests are always welcome to participate during our meetings\, and our meetings are designed to make the most of your lunch hour! Contact co-leader Philippa Main at pm@yourmainagent.com for more information.
URL:https://tampabaynetworkingcalendar.com/event/downtown-tampa-business-networking-2019-12-04/
LOCATION:American Social\, 601 S Harbour Island Blvd suite 107\, Tampa\, FL\, 33602\, United States
CATEGORIES:Networking Meeting
ORGANIZER;CN="RGA Network":MAILTO:info@rganetwork.net
END:VEVENT
BEGIN:VEVENT
DTSTART;TZID=UTC:20191203T190000
DTEND;TZID=UTC:20191203T200000
DTSTAMP:20260423T185619
CREATED:20170815T142526Z
LAST-MODIFIED:20170815T142526Z
UID:1070-1575399600-1575403200@tampabaynetworkingcalendar.com
SUMMARY:Money and Business Seminar
DESCRIPTION:Join us at our office as we host our Money and Business Seninar. You will learn the rules of money\, how to make money and how to save money. Dress is business/business casual. No shorts or flip flops permitted. Bring a notepad and be ready to learn. We are changing the financial lives of families in our community\, join us for a fun and informative night.
URL:https://tampabaynetworkingcalendar.com/event/money-and-business-seminar-2019-12-03/
LOCATION:bryan and melinda turner\, 8902 N. Dale Mabry Hwy\, Tampa\, 33614\, United States
CATEGORIES:Educational
END:VEVENT
BEGIN:VEVENT
DTSTART;TZID=UTC:20191203T080000
DTEND;TZID=UTC:20191203T170000
DTSTAMP:20260423T185619
CREATED:20170815T142702Z
LAST-MODIFIED:20170815T142702Z
UID:4319-1575360000-1575392400@tampabaynetworkingcalendar.com
SUMMARY:Catholic Business Networking
DESCRIPTION:Come join a dozen or so business owners at Our Lady of the Rosary church off of 54 every Tuesday morning 8-9 am; coffee starts brewing @7:45!!\nDrive in and look for the sign in front of the church when you enter off of Collier Parkway\, park close to the building\, we post where we hold our meetings up front.\nFor over 6 years we’ve been gathering here at this Catholic Church\, you need NOT to be Catholic\, many members aren’t!!\nFREE to come experience the meeting a few times before you decide if you’d like to join as a member\, come this Tuesday morning; see the magic!!! 727-222-1420 for details
URL:https://tampabaynetworkingcalendar.com/event/catholic-business-networking-2019-12-03-2/
LOCATION:our lady of the Rosary\, Collier Parkway\, Land O Lakes\, United States
END:VEVENT
BEGIN:VEVENT
DTSTART;TZID=UTC:20191203T080000
DTEND;TZID=UTC:20191203T080000
DTSTAMP:20260423T185619
CREATED:20170815T142702Z
LAST-MODIFIED:20170815T142702Z
UID:1069-1575360000-1575360000@tampabaynetworkingcalendar.com
SUMMARY:Catholic Business Networking
DESCRIPTION:Come join a dozen or so business owners at Our Lady of the Rosary church off of 54 every Tuesday morning 8-9 am; coffee starts brewing @7:45!!\nDrive in and look for the sign in front of the church when you enter off of Collier Parkway\, park close to the building\, we post where we hold our meetings up front.\nFor over 6 years we’ve been gathering here at this Catholic Church\, you need NOT to be Catholic\, many members aren’t!!\nFREE to come experience the meeting a few times before you decide if you’d like to join as a member\, come this Tuesday morning; see the magic!!! 727-222-1420 for details
URL:https://tampabaynetworkingcalendar.com/event/catholic-business-networking-2019-12-03/
LOCATION:our lady of the Rosary\, Collier Parkway\, Land O Lakes\, United States
END:VEVENT
END:VCALENDAR