BEGIN:VCALENDAR
VERSION:2.0
PRODID:-//Tampa Bay Networking Calendar - ECPv6.15.20//NONSGML v1.0//EN
CALSCALE:GREGORIAN
METHOD:PUBLISH
X-WR-CALNAME:Tampa Bay Networking Calendar
X-ORIGINAL-URL:https://tampabaynetworkingcalendar.com
X-WR-CALDESC:Events for Tampa Bay Networking Calendar
REFRESH-INTERVAL;VALUE=DURATION:PT1H
X-Robots-Tag:noindex
X-PUBLISHED-TTL:PT1H
BEGIN:VTIMEZONE
TZID:UTC
BEGIN:STANDARD
TZOFFSETFROM:+0000
TZOFFSETTO:+0000
TZNAME:UTC
DTSTART:20190101T000000
END:STANDARD
END:VTIMEZONE
BEGIN:VEVENT
DTSTART;TZID=UTC:20200610T113000
DTEND;TZID=UTC:20200610T130000
DTSTAMP:20260420T174746
CREATED:20180531T202528Z
LAST-MODIFIED:20180531T202528Z
UID:2526-1591788600-1591794000@tampabaynetworkingcalendar.com
SUMMARY:Downtown Tampa Business Networking
DESCRIPTION:Join us every Wednesday at American Social for some great business networking designed to help you gain more referrals! Our meetings start with open networking from 11:30am – 12pm and then our meeting takes place from 12p – 1p. We are not seat specific\, there is no mandatory attendance policy\, guests are always welcome to participate during our meetings\, and our meetings are designed to make the most of your lunch hour! Contact co-leader Philippa Main at pm@yourmainagent.com for more information.
URL:https://tampabaynetworkingcalendar.com/event/downtown-tampa-business-networking-2020-06-10/
LOCATION:American Social\, 601 S Harbour Island Blvd suite 107\, Tampa\, FL\, 33602\, United States
CATEGORIES:Networking Meeting
ORGANIZER;CN="RGA Network":MAILTO:info@rganetwork.net
END:VEVENT
BEGIN:VEVENT
DTSTART;TZID=UTC:20200609T190000
DTEND;TZID=UTC:20200609T200000
DTSTAMP:20260420T174746
CREATED:20170815T142526Z
LAST-MODIFIED:20170815T142526Z
UID:2523-1591729200-1591732800@tampabaynetworkingcalendar.com
SUMMARY:Money and Business Seminar
DESCRIPTION:Join us at our office as we host our Money and Business Seninar. You will learn the rules of money\, how to make money and how to save money. Dress is business/business casual. No shorts or flip flops permitted. Bring a notepad and be ready to learn. We are changing the financial lives of families in our community\, join us for a fun and informative night.
URL:https://tampabaynetworkingcalendar.com/event/money-and-business-seminar-2020-06-09/
LOCATION:bryan and melinda turner\, 8902 N. Dale Mabry Hwy\, Tampa\, 33614\, United States
CATEGORIES:Educational
END:VEVENT
BEGIN:VEVENT
DTSTART;TZID=UTC:20200609T080000
DTEND;TZID=UTC:20200609T170000
DTSTAMP:20260420T174746
CREATED:20170815T142702Z
LAST-MODIFIED:20170815T142702Z
UID:4346-1591689600-1591722000@tampabaynetworkingcalendar.com
SUMMARY:Catholic Business Networking
DESCRIPTION:Come join a dozen or so business owners at Our Lady of the Rosary church off of 54 every Tuesday morning 8-9 am; coffee starts brewing @7:45!!\nDrive in and look for the sign in front of the church when you enter off of Collier Parkway\, park close to the building\, we post where we hold our meetings up front.\nFor over 6 years we’ve been gathering here at this Catholic Church\, you need NOT to be Catholic\, many members aren’t!!\nFREE to come experience the meeting a few times before you decide if you’d like to join as a member\, come this Tuesday morning; see the magic!!! 727-222-1420 for details
URL:https://tampabaynetworkingcalendar.com/event/catholic-business-networking-2020-06-09-2/
LOCATION:our lady of the Rosary\, Collier Parkway\, Land O Lakes\, United States
END:VEVENT
BEGIN:VEVENT
DTSTART;TZID=UTC:20200609T080000
DTEND;TZID=UTC:20200609T080000
DTSTAMP:20260420T174746
CREATED:20170815T142702Z
LAST-MODIFIED:20170815T142702Z
UID:2522-1591689600-1591689600@tampabaynetworkingcalendar.com
SUMMARY:Catholic Business Networking
DESCRIPTION:Come join a dozen or so business owners at Our Lady of the Rosary church off of 54 every Tuesday morning 8-9 am; coffee starts brewing @7:45!!\nDrive in and look for the sign in front of the church when you enter off of Collier Parkway\, park close to the building\, we post where we hold our meetings up front.\nFor over 6 years we’ve been gathering here at this Catholic Church\, you need NOT to be Catholic\, many members aren’t!!\nFREE to come experience the meeting a few times before you decide if you’d like to join as a member\, come this Tuesday morning; see the magic!!! 727-222-1420 for details
URL:https://tampabaynetworkingcalendar.com/event/catholic-business-networking-2020-06-09/
LOCATION:our lady of the Rosary\, Collier Parkway\, Land O Lakes\, United States
END:VEVENT
BEGIN:VEVENT
DTSTART;TZID=UTC:20200608T073000
DTEND;TZID=UTC:20200608T083000
DTSTAMP:20260420T174746
CREATED:20170830T135408Z
LAST-MODIFIED:20170830T135408Z
UID:2521-1591601400-1591605000@tampabaynetworkingcalendar.com
SUMMARY:RGA Network - City of Seminole
DESCRIPTION:DAYS: Monday\nTIME: 7:30am-8:30am\, Doors open at 7:am \nLOCATION: Seabreeze Family Restaurant\, 6864 Seminole Blvd\,Seminole\, FL 33772 \nDIRECTOR: Dana Callahan\nPHONE: 321-247-8773\nEMAIL: TheDominoEffectHealth@gmail.com
URL:https://tampabaynetworkingcalendar.com/event/rga-network-city-of-seminole-2020-06-08/
LOCATION:Seabreeze Family Restaurant\, 6864 Seminole Blvd\, Seminole\, FL\, 33772\, United States
CATEGORIES:Networking Meeting
ORGANIZER;CN="RGA Network":MAILTO:info@rganetwork.net
END:VEVENT
BEGIN:VEVENT
DTSTART;TZID=UTC:20200605T113000
DTEND;TZID=UTC:20200605T130000
DTSTAMP:20260420T174746
CREATED:20170827T205031Z
LAST-MODIFIED:20170827T205031Z
UID:3352-1591356600-1591362000@tampabaynetworkingcalendar.com
SUMMARY:RGA Network Sabal Park
DESCRIPTION:The best group of networkers in the area! RGA meets weekly and several locations throughout the area. If you are looking for great networking in an upbeat\, relaxed atmosphere\, then you need RGA. There is no cost to come as a guest\, and membership is inexpensive.
URL:https://tampabaynetworkingcalendar.com/event/rga-network-sabal-park-2020-06-05/
LOCATION:Cafe Delanie\, 3016 N US Highway 301\, Ste 300\, Tampa\, Florida 33619\, 3104 Cherry Palm Dr\, Tampa\, FL\, 33619\, United States
CATEGORIES:Networking Meeting
END:VEVENT
BEGIN:VEVENT
DTSTART;TZID=UTC:20200603T113000
DTEND;TZID=UTC:20200603T130000
DTSTAMP:20260420T174746
CREATED:20180531T202528Z
LAST-MODIFIED:20180531T202528Z
UID:2508-1591183800-1591189200@tampabaynetworkingcalendar.com
SUMMARY:Downtown Tampa Business Networking
DESCRIPTION:Join us every Wednesday at American Social for some great business networking designed to help you gain more referrals! Our meetings start with open networking from 11:30am – 12pm and then our meeting takes place from 12p – 1p. We are not seat specific\, there is no mandatory attendance policy\, guests are always welcome to participate during our meetings\, and our meetings are designed to make the most of your lunch hour! Contact co-leader Philippa Main at pm@yourmainagent.com for more information.
URL:https://tampabaynetworkingcalendar.com/event/downtown-tampa-business-networking-2020-06-03/
LOCATION:American Social\, 601 S Harbour Island Blvd suite 107\, Tampa\, FL\, 33602\, United States
CATEGORIES:Networking Meeting
ORGANIZER;CN="RGA Network":MAILTO:info@rganetwork.net
END:VEVENT
BEGIN:VEVENT
DTSTART;TZID=UTC:20200602T190000
DTEND;TZID=UTC:20200602T200000
DTSTAMP:20260420T174746
CREATED:20170815T142526Z
LAST-MODIFIED:20170815T142526Z
UID:2495-1591124400-1591128000@tampabaynetworkingcalendar.com
SUMMARY:Money and Business Seminar
DESCRIPTION:Join us at our office as we host our Money and Business Seninar. You will learn the rules of money\, how to make money and how to save money. Dress is business/business casual. No shorts or flip flops permitted. Bring a notepad and be ready to learn. We are changing the financial lives of families in our community\, join us for a fun and informative night.
URL:https://tampabaynetworkingcalendar.com/event/money-and-business-seminar-2020-06-02/
LOCATION:bryan and melinda turner\, 8902 N. Dale Mabry Hwy\, Tampa\, 33614\, United States
CATEGORIES:Educational
END:VEVENT
BEGIN:VEVENT
DTSTART;TZID=UTC:20200602T080000
DTEND;TZID=UTC:20200602T170000
DTSTAMP:20260420T174746
CREATED:20170815T142702Z
LAST-MODIFIED:20170815T142702Z
UID:4345-1591084800-1591117200@tampabaynetworkingcalendar.com
SUMMARY:Catholic Business Networking
DESCRIPTION:Come join a dozen or so business owners at Our Lady of the Rosary church off of 54 every Tuesday morning 8-9 am; coffee starts brewing @7:45!!\nDrive in and look for the sign in front of the church when you enter off of Collier Parkway\, park close to the building\, we post where we hold our meetings up front.\nFor over 6 years we’ve been gathering here at this Catholic Church\, you need NOT to be Catholic\, many members aren’t!!\nFREE to come experience the meeting a few times before you decide if you’d like to join as a member\, come this Tuesday morning; see the magic!!! 727-222-1420 for details
URL:https://tampabaynetworkingcalendar.com/event/catholic-business-networking-2020-06-02-2/
LOCATION:our lady of the Rosary\, Collier Parkway\, Land O Lakes\, United States
END:VEVENT
BEGIN:VEVENT
DTSTART;TZID=UTC:20200602T080000
DTEND;TZID=UTC:20200602T080000
DTSTAMP:20260420T174746
CREATED:20170815T142702Z
LAST-MODIFIED:20170815T142702Z
UID:2494-1591084800-1591084800@tampabaynetworkingcalendar.com
SUMMARY:Catholic Business Networking
DESCRIPTION:Come join a dozen or so business owners at Our Lady of the Rosary church off of 54 every Tuesday morning 8-9 am; coffee starts brewing @7:45!!\nDrive in and look for the sign in front of the church when you enter off of Collier Parkway\, park close to the building\, we post where we hold our meetings up front.\nFor over 6 years we’ve been gathering here at this Catholic Church\, you need NOT to be Catholic\, many members aren’t!!\nFREE to come experience the meeting a few times before you decide if you’d like to join as a member\, come this Tuesday morning; see the magic!!! 727-222-1420 for details
URL:https://tampabaynetworkingcalendar.com/event/catholic-business-networking-2020-06-02/
LOCATION:our lady of the Rosary\, Collier Parkway\, Land O Lakes\, United States
END:VEVENT
BEGIN:VEVENT
DTSTART;TZID=UTC:20200601T073000
DTEND;TZID=UTC:20200601T083000
DTSTAMP:20260420T174746
CREATED:20170830T135408Z
LAST-MODIFIED:20170830T135408Z
UID:2462-1590996600-1591000200@tampabaynetworkingcalendar.com
SUMMARY:RGA Network - City of Seminole
DESCRIPTION:DAYS: Monday\nTIME: 7:30am-8:30am\, Doors open at 7:am \nLOCATION: Seabreeze Family Restaurant\, 6864 Seminole Blvd\,Seminole\, FL 33772 \nDIRECTOR: Dana Callahan\nPHONE: 321-247-8773\nEMAIL: TheDominoEffectHealth@gmail.com
URL:https://tampabaynetworkingcalendar.com/event/rga-network-city-of-seminole-2020-06-01/
LOCATION:Seabreeze Family Restaurant\, 6864 Seminole Blvd\, Seminole\, FL\, 33772\, United States
CATEGORIES:Networking Meeting
ORGANIZER;CN="RGA Network":MAILTO:info@rganetwork.net
END:VEVENT
BEGIN:VEVENT
DTSTART;TZID=UTC:20200529T113000
DTEND;TZID=UTC:20200529T130000
DTSTAMP:20260420T174746
CREATED:20170827T205031Z
LAST-MODIFIED:20170827T205031Z
UID:3351-1590751800-1590757200@tampabaynetworkingcalendar.com
SUMMARY:RGA Network Sabal Park
DESCRIPTION:The best group of networkers in the area! RGA meets weekly and several locations throughout the area. If you are looking for great networking in an upbeat\, relaxed atmosphere\, then you need RGA. There is no cost to come as a guest\, and membership is inexpensive.
URL:https://tampabaynetworkingcalendar.com/event/rga-network-sabal-park-2020-05-29/
LOCATION:Cafe Delanie\, 3016 N US Highway 301\, Ste 300\, Tampa\, Florida 33619\, 3104 Cherry Palm Dr\, Tampa\, FL\, 33619\, United States
CATEGORIES:Networking Meeting
END:VEVENT
BEGIN:VEVENT
DTSTART;TZID=UTC:20200528T080000
DTEND;TZID=UTC:20200530T233000
DTSTAMP:20260420T174746
CREATED:20200516T121032Z
LAST-MODIFIED:20200516T121032Z
UID:3854-1590652800-1590881400@tampabaynetworkingcalendar.com
SUMMARY:International Franchise Online Expo
DESCRIPTION:For nearly 30 years\, the International Franchise Expo has drawn thousands of people from the United States and around the world to meet with leading franchise brands. Now this life-changing event is available to you online. Meet with financial experts on how to best fund your franchise\, and how to budget for your future and discover opportunities in industries that are new or that you might not have considered.
URL:https://tampabaynetworkingcalendar.com/event/international-franchise-online-expo/
LOCATION:online\, tampa florida\, tampa\, Florida\, 10022\, Canada
CATEGORIES:Festival
ORGANIZER;CN="david wood":MAILTO:marketing@businessexchange.ca
END:VEVENT
BEGIN:VEVENT
DTSTART;TZID=UTC:20200527T113000
DTEND;TZID=UTC:20200527T130000
DTSTAMP:20260420T174746
CREATED:20180531T202528Z
LAST-MODIFIED:20180531T202528Z
UID:1980-1590579000-1590584400@tampabaynetworkingcalendar.com
SUMMARY:Downtown Tampa Business Networking
DESCRIPTION:Join us every Wednesday at American Social for some great business networking designed to help you gain more referrals! Our meetings start with open networking from 11:30am – 12pm and then our meeting takes place from 12p – 1p. We are not seat specific\, there is no mandatory attendance policy\, guests are always welcome to participate during our meetings\, and our meetings are designed to make the most of your lunch hour! Contact co-leader Philippa Main at pm@yourmainagent.com for more information.
URL:https://tampabaynetworkingcalendar.com/event/downtown-tampa-business-networking-2020-05-27/
LOCATION:American Social\, 601 S Harbour Island Blvd suite 107\, Tampa\, FL\, 33602\, United States
CATEGORIES:Networking Meeting
ORGANIZER;CN="RGA Network":MAILTO:info@rganetwork.net
END:VEVENT
BEGIN:VEVENT
DTSTART;TZID=UTC:20200526T190000
DTEND;TZID=UTC:20200526T200000
DTSTAMP:20260420T174746
CREATED:20170815T142526Z
LAST-MODIFIED:20170815T142526Z
UID:1444-1590519600-1590523200@tampabaynetworkingcalendar.com
SUMMARY:Money and Business Seminar
DESCRIPTION:Join us at our office as we host our Money and Business Seninar. You will learn the rules of money\, how to make money and how to save money. Dress is business/business casual. No shorts or flip flops permitted. Bring a notepad and be ready to learn. We are changing the financial lives of families in our community\, join us for a fun and informative night.
URL:https://tampabaynetworkingcalendar.com/event/money-and-business-seminar-2020-05-26/
LOCATION:bryan and melinda turner\, 8902 N. Dale Mabry Hwy\, Tampa\, 33614\, United States
CATEGORIES:Educational
END:VEVENT
BEGIN:VEVENT
DTSTART;TZID=UTC:20200526T080000
DTEND;TZID=UTC:20200526T170000
DTSTAMP:20260420T174746
CREATED:20170815T142702Z
LAST-MODIFIED:20170815T142702Z
UID:4344-1590480000-1590512400@tampabaynetworkingcalendar.com
SUMMARY:Catholic Business Networking
DESCRIPTION:Come join a dozen or so business owners at Our Lady of the Rosary church off of 54 every Tuesday morning 8-9 am; coffee starts brewing @7:45!!\nDrive in and look for the sign in front of the church when you enter off of Collier Parkway\, park close to the building\, we post where we hold our meetings up front.\nFor over 6 years we’ve been gathering here at this Catholic Church\, you need NOT to be Catholic\, many members aren’t!!\nFREE to come experience the meeting a few times before you decide if you’d like to join as a member\, come this Tuesday morning; see the magic!!! 727-222-1420 for details
URL:https://tampabaynetworkingcalendar.com/event/catholic-business-networking-2020-05-26-2/
LOCATION:our lady of the Rosary\, Collier Parkway\, Land O Lakes\, United States
END:VEVENT
BEGIN:VEVENT
DTSTART;TZID=UTC:20200526T080000
DTEND;TZID=UTC:20200526T080000
DTSTAMP:20260420T174746
CREATED:20170815T142702Z
LAST-MODIFIED:20170815T142702Z
UID:1443-1590480000-1590480000@tampabaynetworkingcalendar.com
SUMMARY:Catholic Business Networking
DESCRIPTION:Come join a dozen or so business owners at Our Lady of the Rosary church off of 54 every Tuesday morning 8-9 am; coffee starts brewing @7:45!!\nDrive in and look for the sign in front of the church when you enter off of Collier Parkway\, park close to the building\, we post where we hold our meetings up front.\nFor over 6 years we’ve been gathering here at this Catholic Church\, you need NOT to be Catholic\, many members aren’t!!\nFREE to come experience the meeting a few times before you decide if you’d like to join as a member\, come this Tuesday morning; see the magic!!! 727-222-1420 for details
URL:https://tampabaynetworkingcalendar.com/event/catholic-business-networking-2020-05-26/
LOCATION:our lady of the Rosary\, Collier Parkway\, Land O Lakes\, United States
END:VEVENT
BEGIN:VEVENT
DTSTART;TZID=UTC:20200525T073000
DTEND;TZID=UTC:20200525T083000
DTSTAMP:20260420T174746
CREATED:20170830T135408Z
LAST-MODIFIED:20170830T135408Z
UID:1442-1590391800-1590395400@tampabaynetworkingcalendar.com
SUMMARY:RGA Network - City of Seminole
DESCRIPTION:DAYS: Monday\nTIME: 7:30am-8:30am\, Doors open at 7:am \nLOCATION: Seabreeze Family Restaurant\, 6864 Seminole Blvd\,Seminole\, FL 33772 \nDIRECTOR: Dana Callahan\nPHONE: 321-247-8773\nEMAIL: TheDominoEffectHealth@gmail.com
URL:https://tampabaynetworkingcalendar.com/event/rga-network-city-of-seminole-2020-05-25/
LOCATION:Seabreeze Family Restaurant\, 6864 Seminole Blvd\, Seminole\, FL\, 33772\, United States
CATEGORIES:Networking Meeting
ORGANIZER;CN="RGA Network":MAILTO:info@rganetwork.net
END:VEVENT
BEGIN:VEVENT
DTSTART;TZID=UTC:20200522T113000
DTEND;TZID=UTC:20200522T130000
DTSTAMP:20260420T174746
CREATED:20170827T205031Z
LAST-MODIFIED:20170827T205031Z
UID:3350-1590147000-1590152400@tampabaynetworkingcalendar.com
SUMMARY:RGA Network Sabal Park
DESCRIPTION:The best group of networkers in the area! RGA meets weekly and several locations throughout the area. If you are looking for great networking in an upbeat\, relaxed atmosphere\, then you need RGA. There is no cost to come as a guest\, and membership is inexpensive.
URL:https://tampabaynetworkingcalendar.com/event/rga-network-sabal-park-2020-05-22/
LOCATION:Cafe Delanie\, 3016 N US Highway 301\, Ste 300\, Tampa\, Florida 33619\, 3104 Cherry Palm Dr\, Tampa\, FL\, 33619\, United States
CATEGORIES:Networking Meeting
END:VEVENT
BEGIN:VEVENT
DTSTART;TZID=UTC:20200520T113000
DTEND;TZID=UTC:20200520T130000
DTSTAMP:20260420T174746
CREATED:20180531T202528Z
LAST-MODIFIED:20180531T202528Z
UID:1979-1589974200-1589979600@tampabaynetworkingcalendar.com
SUMMARY:Downtown Tampa Business Networking
DESCRIPTION:Join us every Wednesday at American Social for some great business networking designed to help you gain more referrals! Our meetings start with open networking from 11:30am – 12pm and then our meeting takes place from 12p – 1p. We are not seat specific\, there is no mandatory attendance policy\, guests are always welcome to participate during our meetings\, and our meetings are designed to make the most of your lunch hour! Contact co-leader Philippa Main at pm@yourmainagent.com for more information.
URL:https://tampabaynetworkingcalendar.com/event/downtown-tampa-business-networking-2020-05-20/
LOCATION:American Social\, 601 S Harbour Island Blvd suite 107\, Tampa\, FL\, 33602\, United States
CATEGORIES:Networking Meeting
ORGANIZER;CN="RGA Network":MAILTO:info@rganetwork.net
END:VEVENT
BEGIN:VEVENT
DTSTART;TZID=UTC:20200519T190000
DTEND;TZID=UTC:20200519T200000
DTSTAMP:20260420T174746
CREATED:20170815T142526Z
LAST-MODIFIED:20170815T142526Z
UID:1437-1589914800-1589918400@tampabaynetworkingcalendar.com
SUMMARY:Money and Business Seminar
DESCRIPTION:Join us at our office as we host our Money and Business Seninar. You will learn the rules of money\, how to make money and how to save money. Dress is business/business casual. No shorts or flip flops permitted. Bring a notepad and be ready to learn. We are changing the financial lives of families in our community\, join us for a fun and informative night.
URL:https://tampabaynetworkingcalendar.com/event/money-and-business-seminar-2020-05-19/
LOCATION:bryan and melinda turner\, 8902 N. Dale Mabry Hwy\, Tampa\, 33614\, United States
CATEGORIES:Educational
END:VEVENT
BEGIN:VEVENT
DTSTART;TZID=UTC:20200519T080000
DTEND;TZID=UTC:20200519T170000
DTSTAMP:20260420T174746
CREATED:20170815T142702Z
LAST-MODIFIED:20170815T142702Z
UID:4343-1589875200-1589907600@tampabaynetworkingcalendar.com
SUMMARY:Catholic Business Networking
DESCRIPTION:Come join a dozen or so business owners at Our Lady of the Rosary church off of 54 every Tuesday morning 8-9 am; coffee starts brewing @7:45!!\nDrive in and look for the sign in front of the church when you enter off of Collier Parkway\, park close to the building\, we post where we hold our meetings up front.\nFor over 6 years we’ve been gathering here at this Catholic Church\, you need NOT to be Catholic\, many members aren’t!!\nFREE to come experience the meeting a few times before you decide if you’d like to join as a member\, come this Tuesday morning; see the magic!!! 727-222-1420 for details
URL:https://tampabaynetworkingcalendar.com/event/catholic-business-networking-2020-05-19-2/
LOCATION:our lady of the Rosary\, Collier Parkway\, Land O Lakes\, United States
END:VEVENT
BEGIN:VEVENT
DTSTART;TZID=UTC:20200519T080000
DTEND;TZID=UTC:20200519T080000
DTSTAMP:20260420T174746
CREATED:20170815T142702Z
LAST-MODIFIED:20170815T142702Z
UID:1436-1589875200-1589875200@tampabaynetworkingcalendar.com
SUMMARY:Catholic Business Networking
DESCRIPTION:Come join a dozen or so business owners at Our Lady of the Rosary church off of 54 every Tuesday morning 8-9 am; coffee starts brewing @7:45!!\nDrive in and look for the sign in front of the church when you enter off of Collier Parkway\, park close to the building\, we post where we hold our meetings up front.\nFor over 6 years we’ve been gathering here at this Catholic Church\, you need NOT to be Catholic\, many members aren’t!!\nFREE to come experience the meeting a few times before you decide if you’d like to join as a member\, come this Tuesday morning; see the magic!!! 727-222-1420 for details
URL:https://tampabaynetworkingcalendar.com/event/catholic-business-networking-2020-05-19/
LOCATION:our lady of the Rosary\, Collier Parkway\, Land O Lakes\, United States
END:VEVENT
BEGIN:VEVENT
DTSTART;TZID=UTC:20200518T073000
DTEND;TZID=UTC:20200518T083000
DTSTAMP:20260420T174746
CREATED:20170830T135408Z
LAST-MODIFIED:20170830T135408Z
UID:1435-1589787000-1589790600@tampabaynetworkingcalendar.com
SUMMARY:RGA Network - City of Seminole
DESCRIPTION:DAYS: Monday\nTIME: 7:30am-8:30am\, Doors open at 7:am \nLOCATION: Seabreeze Family Restaurant\, 6864 Seminole Blvd\,Seminole\, FL 33772 \nDIRECTOR: Dana Callahan\nPHONE: 321-247-8773\nEMAIL: TheDominoEffectHealth@gmail.com
URL:https://tampabaynetworkingcalendar.com/event/rga-network-city-of-seminole-2020-05-18/
LOCATION:Seabreeze Family Restaurant\, 6864 Seminole Blvd\, Seminole\, FL\, 33772\, United States
CATEGORIES:Networking Meeting
ORGANIZER;CN="RGA Network":MAILTO:info@rganetwork.net
END:VEVENT
BEGIN:VEVENT
DTSTART;TZID=UTC:20200515T113000
DTEND;TZID=UTC:20200515T130000
DTSTAMP:20260420T174746
CREATED:20170827T205031Z
LAST-MODIFIED:20170827T205031Z
UID:3349-1589542200-1589547600@tampabaynetworkingcalendar.com
SUMMARY:RGA Network Sabal Park
DESCRIPTION:The best group of networkers in the area! RGA meets weekly and several locations throughout the area. If you are looking for great networking in an upbeat\, relaxed atmosphere\, then you need RGA. There is no cost to come as a guest\, and membership is inexpensive.
URL:https://tampabaynetworkingcalendar.com/event/rga-network-sabal-park-2020-05-15/
LOCATION:Cafe Delanie\, 3016 N US Highway 301\, Ste 300\, Tampa\, Florida 33619\, 3104 Cherry Palm Dr\, Tampa\, FL\, 33619\, United States
CATEGORIES:Networking Meeting
END:VEVENT
BEGIN:VEVENT
DTSTART;TZID=UTC:20200513T113000
DTEND;TZID=UTC:20200513T130000
DTSTAMP:20260420T174746
CREATED:20180531T202528Z
LAST-MODIFIED:20180531T202528Z
UID:1978-1589369400-1589374800@tampabaynetworkingcalendar.com
SUMMARY:Downtown Tampa Business Networking
DESCRIPTION:Join us every Wednesday at American Social for some great business networking designed to help you gain more referrals! Our meetings start with open networking from 11:30am – 12pm and then our meeting takes place from 12p – 1p. We are not seat specific\, there is no mandatory attendance policy\, guests are always welcome to participate during our meetings\, and our meetings are designed to make the most of your lunch hour! Contact co-leader Philippa Main at pm@yourmainagent.com for more information.
URL:https://tampabaynetworkingcalendar.com/event/downtown-tampa-business-networking-2020-05-13/
LOCATION:American Social\, 601 S Harbour Island Blvd suite 107\, Tampa\, FL\, 33602\, United States
CATEGORIES:Networking Meeting
ORGANIZER;CN="RGA Network":MAILTO:info@rganetwork.net
END:VEVENT
BEGIN:VEVENT
DTSTART;TZID=UTC:20200512T190000
DTEND;TZID=UTC:20200512T200000
DTSTAMP:20260420T174746
CREATED:20170815T142526Z
LAST-MODIFIED:20170815T142526Z
UID:1418-1589310000-1589313600@tampabaynetworkingcalendar.com
SUMMARY:Money and Business Seminar
DESCRIPTION:Join us at our office as we host our Money and Business Seninar. You will learn the rules of money\, how to make money and how to save money. Dress is business/business casual. No shorts or flip flops permitted. Bring a notepad and be ready to learn. We are changing the financial lives of families in our community\, join us for a fun and informative night.
URL:https://tampabaynetworkingcalendar.com/event/money-and-business-seminar-2020-05-12/
LOCATION:bryan and melinda turner\, 8902 N. Dale Mabry Hwy\, Tampa\, 33614\, United States
CATEGORIES:Educational
END:VEVENT
BEGIN:VEVENT
DTSTART;TZID=UTC:20200512T080000
DTEND;TZID=UTC:20200512T170000
DTSTAMP:20260420T174746
CREATED:20170815T142702Z
LAST-MODIFIED:20170815T142702Z
UID:4342-1589270400-1589302800@tampabaynetworkingcalendar.com
SUMMARY:Catholic Business Networking
DESCRIPTION:Come join a dozen or so business owners at Our Lady of the Rosary church off of 54 every Tuesday morning 8-9 am; coffee starts brewing @7:45!!\nDrive in and look for the sign in front of the church when you enter off of Collier Parkway\, park close to the building\, we post where we hold our meetings up front.\nFor over 6 years we’ve been gathering here at this Catholic Church\, you need NOT to be Catholic\, many members aren’t!!\nFREE to come experience the meeting a few times before you decide if you’d like to join as a member\, come this Tuesday morning; see the magic!!! 727-222-1420 for details
URL:https://tampabaynetworkingcalendar.com/event/catholic-business-networking-2020-05-12-2/
LOCATION:our lady of the Rosary\, Collier Parkway\, Land O Lakes\, United States
END:VEVENT
BEGIN:VEVENT
DTSTART;TZID=UTC:20200512T080000
DTEND;TZID=UTC:20200512T080000
DTSTAMP:20260420T174746
CREATED:20170815T142702Z
LAST-MODIFIED:20170815T142702Z
UID:1417-1589270400-1589270400@tampabaynetworkingcalendar.com
SUMMARY:Catholic Business Networking
DESCRIPTION:Come join a dozen or so business owners at Our Lady of the Rosary church off of 54 every Tuesday morning 8-9 am; coffee starts brewing @7:45!!\nDrive in and look for the sign in front of the church when you enter off of Collier Parkway\, park close to the building\, we post where we hold our meetings up front.\nFor over 6 years we’ve been gathering here at this Catholic Church\, you need NOT to be Catholic\, many members aren’t!!\nFREE to come experience the meeting a few times before you decide if you’d like to join as a member\, come this Tuesday morning; see the magic!!! 727-222-1420 for details
URL:https://tampabaynetworkingcalendar.com/event/catholic-business-networking-2020-05-12/
LOCATION:our lady of the Rosary\, Collier Parkway\, Land O Lakes\, United States
END:VEVENT
BEGIN:VEVENT
DTSTART;TZID=UTC:20200511T073000
DTEND;TZID=UTC:20200511T083000
DTSTAMP:20260420T174746
CREATED:20170830T135408Z
LAST-MODIFIED:20170830T135408Z
UID:1416-1589182200-1589185800@tampabaynetworkingcalendar.com
SUMMARY:RGA Network - City of Seminole
DESCRIPTION:DAYS: Monday\nTIME: 7:30am-8:30am\, Doors open at 7:am \nLOCATION: Seabreeze Family Restaurant\, 6864 Seminole Blvd\,Seminole\, FL 33772 \nDIRECTOR: Dana Callahan\nPHONE: 321-247-8773\nEMAIL: TheDominoEffectHealth@gmail.com
URL:https://tampabaynetworkingcalendar.com/event/rga-network-city-of-seminole-2020-05-11/
LOCATION:Seabreeze Family Restaurant\, 6864 Seminole Blvd\, Seminole\, FL\, 33772\, United States
CATEGORIES:Networking Meeting
ORGANIZER;CN="RGA Network":MAILTO:info@rganetwork.net
END:VEVENT
END:VCALENDAR