BEGIN:VCALENDAR
VERSION:2.0
PRODID:-//Tampa Bay Networking Calendar - ECPv6.15.20//NONSGML v1.0//EN
CALSCALE:GREGORIAN
METHOD:PUBLISH
X-WR-CALNAME:Tampa Bay Networking Calendar
X-ORIGINAL-URL:https://tampabaynetworkingcalendar.com
X-WR-CALDESC:Events for Tampa Bay Networking Calendar
REFRESH-INTERVAL;VALUE=DURATION:PT1H
X-Robots-Tag:noindex
X-PUBLISHED-TTL:PT1H
BEGIN:VTIMEZONE
TZID:UTC
BEGIN:STANDARD
TZOFFSETFROM:+0000
TZOFFSETTO:+0000
TZNAME:UTC
DTSTART:20190101T000000
END:STANDARD
END:VTIMEZONE
BEGIN:VEVENT
DTSTART;TZID=UTC:20200818T190000
DTEND;TZID=UTC:20200818T200000
DTSTAMP:20260421T011553
CREATED:20170815T142526Z
LAST-MODIFIED:20170815T142526Z
UID:2694-1597777200-1597780800@tampabaynetworkingcalendar.com
SUMMARY:Money and Business Seminar
DESCRIPTION:Join us at our office as we host our Money and Business Seninar. You will learn the rules of money\, how to make money and how to save money. Dress is business/business casual. No shorts or flip flops permitted. Bring a notepad and be ready to learn. We are changing the financial lives of families in our community\, join us for a fun and informative night.
URL:https://tampabaynetworkingcalendar.com/event/money-and-business-seminar-2020-08-18/
LOCATION:bryan and melinda turner\, 8902 N. Dale Mabry Hwy\, Tampa\, 33614\, United States
CATEGORIES:Educational
END:VEVENT
BEGIN:VEVENT
DTSTART;TZID=UTC:20200818T080000
DTEND;TZID=UTC:20200818T170000
DTSTAMP:20260421T011553
CREATED:20170815T142702Z
LAST-MODIFIED:20170815T142702Z
UID:4356-1597737600-1597770000@tampabaynetworkingcalendar.com
SUMMARY:Catholic Business Networking
DESCRIPTION:Come join a dozen or so business owners at Our Lady of the Rosary church off of 54 every Tuesday morning 8-9 am; coffee starts brewing @7:45!!\nDrive in and look for the sign in front of the church when you enter off of Collier Parkway\, park close to the building\, we post where we hold our meetings up front.\nFor over 6 years we’ve been gathering here at this Catholic Church\, you need NOT to be Catholic\, many members aren’t!!\nFREE to come experience the meeting a few times before you decide if you’d like to join as a member\, come this Tuesday morning; see the magic!!! 727-222-1420 for details
URL:https://tampabaynetworkingcalendar.com/event/catholic-business-networking-2020-08-18-2/
LOCATION:our lady of the Rosary\, Collier Parkway\, Land O Lakes\, United States
END:VEVENT
BEGIN:VEVENT
DTSTART;TZID=UTC:20200818T080000
DTEND;TZID=UTC:20200818T080000
DTSTAMP:20260421T011553
CREATED:20170815T142702Z
LAST-MODIFIED:20170815T142702Z
UID:2693-1597737600-1597737600@tampabaynetworkingcalendar.com
SUMMARY:Catholic Business Networking
DESCRIPTION:Come join a dozen or so business owners at Our Lady of the Rosary church off of 54 every Tuesday morning 8-9 am; coffee starts brewing @7:45!!\nDrive in and look for the sign in front of the church when you enter off of Collier Parkway\, park close to the building\, we post where we hold our meetings up front.\nFor over 6 years we’ve been gathering here at this Catholic Church\, you need NOT to be Catholic\, many members aren’t!!\nFREE to come experience the meeting a few times before you decide if you’d like to join as a member\, come this Tuesday morning; see the magic!!! 727-222-1420 for details
URL:https://tampabaynetworkingcalendar.com/event/catholic-business-networking-2020-08-18/
LOCATION:our lady of the Rosary\, Collier Parkway\, Land O Lakes\, United States
END:VEVENT
BEGIN:VEVENT
DTSTART;TZID=UTC:20200817T073000
DTEND;TZID=UTC:20200817T083000
DTSTAMP:20260421T011553
CREATED:20170830T135408Z
LAST-MODIFIED:20170830T135408Z
UID:2692-1597649400-1597653000@tampabaynetworkingcalendar.com
SUMMARY:RGA Network - City of Seminole
DESCRIPTION:DAYS: Monday\nTIME: 7:30am-8:30am\, Doors open at 7:am \nLOCATION: Seabreeze Family Restaurant\, 6864 Seminole Blvd\,Seminole\, FL 33772 \nDIRECTOR: Dana Callahan\nPHONE: 321-247-8773\nEMAIL: TheDominoEffectHealth@gmail.com
URL:https://tampabaynetworkingcalendar.com/event/rga-network-city-of-seminole-2020-08-17/
LOCATION:Seabreeze Family Restaurant\, 6864 Seminole Blvd\, Seminole\, FL\, 33772\, United States
CATEGORIES:Networking Meeting
ORGANIZER;CN="RGA Network":MAILTO:info@rganetwork.net
END:VEVENT
BEGIN:VEVENT
DTSTART;TZID=UTC:20200814T113000
DTEND;TZID=UTC:20200814T130000
DTSTAMP:20260421T011553
CREATED:20170827T205031Z
LAST-MODIFIED:20170827T205031Z
UID:3362-1597404600-1597410000@tampabaynetworkingcalendar.com
SUMMARY:RGA Network Sabal Park
DESCRIPTION:The best group of networkers in the area! RGA meets weekly and several locations throughout the area. If you are looking for great networking in an upbeat\, relaxed atmosphere\, then you need RGA. There is no cost to come as a guest\, and membership is inexpensive.
URL:https://tampabaynetworkingcalendar.com/event/rga-network-sabal-park-2020-08-14/
LOCATION:Cafe Delanie\, 3016 N US Highway 301\, Ste 300\, Tampa\, Florida 33619\, 3104 Cherry Palm Dr\, Tampa\, FL\, 33619\, United States
CATEGORIES:Networking Meeting
END:VEVENT
BEGIN:VEVENT
DTSTART;TZID=UTC:20200812T113000
DTEND;TZID=UTC:20200812T130000
DTSTAMP:20260421T011553
CREATED:20180531T202528Z
LAST-MODIFIED:20180531T202528Z
UID:2687-1597231800-1597237200@tampabaynetworkingcalendar.com
SUMMARY:Downtown Tampa Business Networking
DESCRIPTION:Join us every Wednesday at American Social for some great business networking designed to help you gain more referrals! Our meetings start with open networking from 11:30am – 12pm and then our meeting takes place from 12p – 1p. We are not seat specific\, there is no mandatory attendance policy\, guests are always welcome to participate during our meetings\, and our meetings are designed to make the most of your lunch hour! Contact co-leader Philippa Main at pm@yourmainagent.com for more information.
URL:https://tampabaynetworkingcalendar.com/event/downtown-tampa-business-networking-2020-08-12/
LOCATION:American Social\, 601 S Harbour Island Blvd suite 107\, Tampa\, FL\, 33602\, United States
CATEGORIES:Networking Meeting
ORGANIZER;CN="RGA Network":MAILTO:info@rganetwork.net
END:VEVENT
BEGIN:VEVENT
DTSTART;TZID=UTC:20200811T190000
DTEND;TZID=UTC:20200811T200000
DTSTAMP:20260421T011553
CREATED:20170815T142526Z
LAST-MODIFIED:20170815T142526Z
UID:2685-1597172400-1597176000@tampabaynetworkingcalendar.com
SUMMARY:Money and Business Seminar
DESCRIPTION:Join us at our office as we host our Money and Business Seninar. You will learn the rules of money\, how to make money and how to save money. Dress is business/business casual. No shorts or flip flops permitted. Bring a notepad and be ready to learn. We are changing the financial lives of families in our community\, join us for a fun and informative night.
URL:https://tampabaynetworkingcalendar.com/event/money-and-business-seminar-2020-08-11/
LOCATION:bryan and melinda turner\, 8902 N. Dale Mabry Hwy\, Tampa\, 33614\, United States
CATEGORIES:Educational
END:VEVENT
BEGIN:VEVENT
DTSTART;TZID=UTC:20200811T080000
DTEND;TZID=UTC:20200811T170000
DTSTAMP:20260421T011553
CREATED:20170815T142702Z
LAST-MODIFIED:20170815T142702Z
UID:4355-1597132800-1597165200@tampabaynetworkingcalendar.com
SUMMARY:Catholic Business Networking
DESCRIPTION:Come join a dozen or so business owners at Our Lady of the Rosary church off of 54 every Tuesday morning 8-9 am; coffee starts brewing @7:45!!\nDrive in and look for the sign in front of the church when you enter off of Collier Parkway\, park close to the building\, we post where we hold our meetings up front.\nFor over 6 years we’ve been gathering here at this Catholic Church\, you need NOT to be Catholic\, many members aren’t!!\nFREE to come experience the meeting a few times before you decide if you’d like to join as a member\, come this Tuesday morning; see the magic!!! 727-222-1420 for details
URL:https://tampabaynetworkingcalendar.com/event/catholic-business-networking-2020-08-11-2/
LOCATION:our lady of the Rosary\, Collier Parkway\, Land O Lakes\, United States
END:VEVENT
BEGIN:VEVENT
DTSTART;TZID=UTC:20200811T080000
DTEND;TZID=UTC:20200811T080000
DTSTAMP:20260421T011553
CREATED:20170815T142702Z
LAST-MODIFIED:20170815T142702Z
UID:2684-1597132800-1597132800@tampabaynetworkingcalendar.com
SUMMARY:Catholic Business Networking
DESCRIPTION:Come join a dozen or so business owners at Our Lady of the Rosary church off of 54 every Tuesday morning 8-9 am; coffee starts brewing @7:45!!\nDrive in and look for the sign in front of the church when you enter off of Collier Parkway\, park close to the building\, we post where we hold our meetings up front.\nFor over 6 years we’ve been gathering here at this Catholic Church\, you need NOT to be Catholic\, many members aren’t!!\nFREE to come experience the meeting a few times before you decide if you’d like to join as a member\, come this Tuesday morning; see the magic!!! 727-222-1420 for details
URL:https://tampabaynetworkingcalendar.com/event/catholic-business-networking-2020-08-11/
LOCATION:our lady of the Rosary\, Collier Parkway\, Land O Lakes\, United States
END:VEVENT
BEGIN:VEVENT
DTSTART;TZID=UTC:20200810T073000
DTEND;TZID=UTC:20200810T083000
DTSTAMP:20260421T011553
CREATED:20170830T135408Z
LAST-MODIFIED:20170830T135408Z
UID:2683-1597044600-1597048200@tampabaynetworkingcalendar.com
SUMMARY:RGA Network - City of Seminole
DESCRIPTION:DAYS: Monday\nTIME: 7:30am-8:30am\, Doors open at 7:am \nLOCATION: Seabreeze Family Restaurant\, 6864 Seminole Blvd\,Seminole\, FL 33772 \nDIRECTOR: Dana Callahan\nPHONE: 321-247-8773\nEMAIL: TheDominoEffectHealth@gmail.com
URL:https://tampabaynetworkingcalendar.com/event/rga-network-city-of-seminole-2020-08-10/
LOCATION:Seabreeze Family Restaurant\, 6864 Seminole Blvd\, Seminole\, FL\, 33772\, United States
CATEGORIES:Networking Meeting
ORGANIZER;CN="RGA Network":MAILTO:info@rganetwork.net
END:VEVENT
BEGIN:VEVENT
DTSTART;TZID=UTC:20200807T113000
DTEND;TZID=UTC:20200807T130000
DTSTAMP:20260421T011553
CREATED:20170827T205031Z
LAST-MODIFIED:20170827T205031Z
UID:3361-1596799800-1596805200@tampabaynetworkingcalendar.com
SUMMARY:RGA Network Sabal Park
DESCRIPTION:The best group of networkers in the area! RGA meets weekly and several locations throughout the area. If you are looking for great networking in an upbeat\, relaxed atmosphere\, then you need RGA. There is no cost to come as a guest\, and membership is inexpensive.
URL:https://tampabaynetworkingcalendar.com/event/rga-network-sabal-park-2020-08-07/
LOCATION:Cafe Delanie\, 3016 N US Highway 301\, Ste 300\, Tampa\, Florida 33619\, 3104 Cherry Palm Dr\, Tampa\, FL\, 33619\, United States
CATEGORIES:Networking Meeting
END:VEVENT
BEGIN:VEVENT
DTSTART;TZID=UTC:20200805T113000
DTEND;TZID=UTC:20200805T130000
DTSTAMP:20260421T011553
CREATED:20180531T202528Z
LAST-MODIFIED:20180531T202528Z
UID:2682-1596627000-1596632400@tampabaynetworkingcalendar.com
SUMMARY:Downtown Tampa Business Networking
DESCRIPTION:Join us every Wednesday at American Social for some great business networking designed to help you gain more referrals! Our meetings start with open networking from 11:30am – 12pm and then our meeting takes place from 12p – 1p. We are not seat specific\, there is no mandatory attendance policy\, guests are always welcome to participate during our meetings\, and our meetings are designed to make the most of your lunch hour! Contact co-leader Philippa Main at pm@yourmainagent.com for more information.
URL:https://tampabaynetworkingcalendar.com/event/downtown-tampa-business-networking-2020-08-05/
LOCATION:American Social\, 601 S Harbour Island Blvd suite 107\, Tampa\, FL\, 33602\, United States
CATEGORIES:Networking Meeting
ORGANIZER;CN="RGA Network":MAILTO:info@rganetwork.net
END:VEVENT
BEGIN:VEVENT
DTSTART;TZID=UTC:20200804T190000
DTEND;TZID=UTC:20200804T200000
DTSTAMP:20260421T011553
CREATED:20170815T142526Z
LAST-MODIFIED:20170815T142526Z
UID:2680-1596567600-1596571200@tampabaynetworkingcalendar.com
SUMMARY:Money and Business Seminar
DESCRIPTION:Join us at our office as we host our Money and Business Seninar. You will learn the rules of money\, how to make money and how to save money. Dress is business/business casual. No shorts or flip flops permitted. Bring a notepad and be ready to learn. We are changing the financial lives of families in our community\, join us for a fun and informative night.
URL:https://tampabaynetworkingcalendar.com/event/money-and-business-seminar-2020-08-04/
LOCATION:bryan and melinda turner\, 8902 N. Dale Mabry Hwy\, Tampa\, 33614\, United States
CATEGORIES:Educational
END:VEVENT
BEGIN:VEVENT
DTSTART;TZID=UTC:20200804T080000
DTEND;TZID=UTC:20200804T170000
DTSTAMP:20260421T011553
CREATED:20170815T142702Z
LAST-MODIFIED:20170815T142702Z
UID:4354-1596528000-1596560400@tampabaynetworkingcalendar.com
SUMMARY:Catholic Business Networking
DESCRIPTION:Come join a dozen or so business owners at Our Lady of the Rosary church off of 54 every Tuesday morning 8-9 am; coffee starts brewing @7:45!!\nDrive in and look for the sign in front of the church when you enter off of Collier Parkway\, park close to the building\, we post where we hold our meetings up front.\nFor over 6 years we’ve been gathering here at this Catholic Church\, you need NOT to be Catholic\, many members aren’t!!\nFREE to come experience the meeting a few times before you decide if you’d like to join as a member\, come this Tuesday morning; see the magic!!! 727-222-1420 for details
URL:https://tampabaynetworkingcalendar.com/event/catholic-business-networking-2020-08-04-2/
LOCATION:our lady of the Rosary\, Collier Parkway\, Land O Lakes\, United States
END:VEVENT
BEGIN:VEVENT
DTSTART;TZID=UTC:20200804T080000
DTEND;TZID=UTC:20200804T080000
DTSTAMP:20260421T011553
CREATED:20170815T142702Z
LAST-MODIFIED:20170815T142702Z
UID:2679-1596528000-1596528000@tampabaynetworkingcalendar.com
SUMMARY:Catholic Business Networking
DESCRIPTION:Come join a dozen or so business owners at Our Lady of the Rosary church off of 54 every Tuesday morning 8-9 am; coffee starts brewing @7:45!!\nDrive in and look for the sign in front of the church when you enter off of Collier Parkway\, park close to the building\, we post where we hold our meetings up front.\nFor over 6 years we’ve been gathering here at this Catholic Church\, you need NOT to be Catholic\, many members aren’t!!\nFREE to come experience the meeting a few times before you decide if you’d like to join as a member\, come this Tuesday morning; see the magic!!! 727-222-1420 for details
URL:https://tampabaynetworkingcalendar.com/event/catholic-business-networking-2020-08-04/
LOCATION:our lady of the Rosary\, Collier Parkway\, Land O Lakes\, United States
END:VEVENT
BEGIN:VEVENT
DTSTART;TZID=UTC:20200803T073000
DTEND;TZID=UTC:20200803T083000
DTSTAMP:20260421T011553
CREATED:20170830T135408Z
LAST-MODIFIED:20170830T135408Z
UID:2678-1596439800-1596443400@tampabaynetworkingcalendar.com
SUMMARY:RGA Network - City of Seminole
DESCRIPTION:DAYS: Monday\nTIME: 7:30am-8:30am\, Doors open at 7:am \nLOCATION: Seabreeze Family Restaurant\, 6864 Seminole Blvd\,Seminole\, FL 33772 \nDIRECTOR: Dana Callahan\nPHONE: 321-247-8773\nEMAIL: TheDominoEffectHealth@gmail.com
URL:https://tampabaynetworkingcalendar.com/event/rga-network-city-of-seminole-2020-08-03/
LOCATION:Seabreeze Family Restaurant\, 6864 Seminole Blvd\, Seminole\, FL\, 33772\, United States
CATEGORIES:Networking Meeting
ORGANIZER;CN="RGA Network":MAILTO:info@rganetwork.net
END:VEVENT
BEGIN:VEVENT
DTSTART;TZID=UTC:20200731T113000
DTEND;TZID=UTC:20200731T130000
DTSTAMP:20260421T011553
CREATED:20170827T205031Z
LAST-MODIFIED:20170827T205031Z
UID:3360-1596195000-1596200400@tampabaynetworkingcalendar.com
SUMMARY:RGA Network Sabal Park
DESCRIPTION:The best group of networkers in the area! RGA meets weekly and several locations throughout the area. If you are looking for great networking in an upbeat\, relaxed atmosphere\, then you need RGA. There is no cost to come as a guest\, and membership is inexpensive.
URL:https://tampabaynetworkingcalendar.com/event/rga-network-sabal-park-2020-07-31/
LOCATION:Cafe Delanie\, 3016 N US Highway 301\, Ste 300\, Tampa\, Florida 33619\, 3104 Cherry Palm Dr\, Tampa\, FL\, 33619\, United States
CATEGORIES:Networking Meeting
END:VEVENT
BEGIN:VEVENT
DTSTART;TZID=UTC:20200729T113000
DTEND;TZID=UTC:20200729T130000
DTSTAMP:20260421T011553
CREATED:20180531T202528Z
LAST-MODIFIED:20180531T202528Z
UID:2673-1596022200-1596027600@tampabaynetworkingcalendar.com
SUMMARY:Downtown Tampa Business Networking
DESCRIPTION:Join us every Wednesday at American Social for some great business networking designed to help you gain more referrals! Our meetings start with open networking from 11:30am – 12pm and then our meeting takes place from 12p – 1p. We are not seat specific\, there is no mandatory attendance policy\, guests are always welcome to participate during our meetings\, and our meetings are designed to make the most of your lunch hour! Contact co-leader Philippa Main at pm@yourmainagent.com for more information.
URL:https://tampabaynetworkingcalendar.com/event/downtown-tampa-business-networking-2020-07-29/
LOCATION:American Social\, 601 S Harbour Island Blvd suite 107\, Tampa\, FL\, 33602\, United States
CATEGORIES:Networking Meeting
ORGANIZER;CN="RGA Network":MAILTO:info@rganetwork.net
END:VEVENT
BEGIN:VEVENT
DTSTART;TZID=UTC:20200728T190000
DTEND;TZID=UTC:20200728T200000
DTSTAMP:20260421T011553
CREATED:20170815T142526Z
LAST-MODIFIED:20170815T142526Z
UID:2671-1595962800-1595966400@tampabaynetworkingcalendar.com
SUMMARY:Money and Business Seminar
DESCRIPTION:Join us at our office as we host our Money and Business Seninar. You will learn the rules of money\, how to make money and how to save money. Dress is business/business casual. No shorts or flip flops permitted. Bring a notepad and be ready to learn. We are changing the financial lives of families in our community\, join us for a fun and informative night.
URL:https://tampabaynetworkingcalendar.com/event/money-and-business-seminar-2020-07-28/
LOCATION:bryan and melinda turner\, 8902 N. Dale Mabry Hwy\, Tampa\, 33614\, United States
CATEGORIES:Educational
END:VEVENT
BEGIN:VEVENT
DTSTART;TZID=UTC:20200728T080000
DTEND;TZID=UTC:20200728T170000
DTSTAMP:20260421T011553
CREATED:20170815T142702Z
LAST-MODIFIED:20170815T142702Z
UID:4353-1595923200-1595955600@tampabaynetworkingcalendar.com
SUMMARY:Catholic Business Networking
DESCRIPTION:Come join a dozen or so business owners at Our Lady of the Rosary church off of 54 every Tuesday morning 8-9 am; coffee starts brewing @7:45!!\nDrive in and look for the sign in front of the church when you enter off of Collier Parkway\, park close to the building\, we post where we hold our meetings up front.\nFor over 6 years we’ve been gathering here at this Catholic Church\, you need NOT to be Catholic\, many members aren’t!!\nFREE to come experience the meeting a few times before you decide if you’d like to join as a member\, come this Tuesday morning; see the magic!!! 727-222-1420 for details
URL:https://tampabaynetworkingcalendar.com/event/catholic-business-networking-2020-07-28-2/
LOCATION:our lady of the Rosary\, Collier Parkway\, Land O Lakes\, United States
END:VEVENT
BEGIN:VEVENT
DTSTART;TZID=UTC:20200728T080000
DTEND;TZID=UTC:20200728T080000
DTSTAMP:20260421T011553
CREATED:20170815T142702Z
LAST-MODIFIED:20170815T142702Z
UID:2670-1595923200-1595923200@tampabaynetworkingcalendar.com
SUMMARY:Catholic Business Networking
DESCRIPTION:Come join a dozen or so business owners at Our Lady of the Rosary church off of 54 every Tuesday morning 8-9 am; coffee starts brewing @7:45!!\nDrive in and look for the sign in front of the church when you enter off of Collier Parkway\, park close to the building\, we post where we hold our meetings up front.\nFor over 6 years we’ve been gathering here at this Catholic Church\, you need NOT to be Catholic\, many members aren’t!!\nFREE to come experience the meeting a few times before you decide if you’d like to join as a member\, come this Tuesday morning; see the magic!!! 727-222-1420 for details
URL:https://tampabaynetworkingcalendar.com/event/catholic-business-networking-2020-07-28/
LOCATION:our lady of the Rosary\, Collier Parkway\, Land O Lakes\, United States
END:VEVENT
BEGIN:VEVENT
DTSTART;TZID=UTC:20200727T073000
DTEND;TZID=UTC:20200727T083000
DTSTAMP:20260421T011553
CREATED:20170830T135408Z
LAST-MODIFIED:20170830T135408Z
UID:2669-1595835000-1595838600@tampabaynetworkingcalendar.com
SUMMARY:RGA Network - City of Seminole
DESCRIPTION:DAYS: Monday\nTIME: 7:30am-8:30am\, Doors open at 7:am \nLOCATION: Seabreeze Family Restaurant\, 6864 Seminole Blvd\,Seminole\, FL 33772 \nDIRECTOR: Dana Callahan\nPHONE: 321-247-8773\nEMAIL: TheDominoEffectHealth@gmail.com
URL:https://tampabaynetworkingcalendar.com/event/rga-network-city-of-seminole-2020-07-27/
LOCATION:Seabreeze Family Restaurant\, 6864 Seminole Blvd\, Seminole\, FL\, 33772\, United States
CATEGORIES:Networking Meeting
ORGANIZER;CN="RGA Network":MAILTO:info@rganetwork.net
END:VEVENT
BEGIN:VEVENT
DTSTART;TZID=UTC:20200724T113000
DTEND;TZID=UTC:20200724T130000
DTSTAMP:20260421T011553
CREATED:20170827T205031Z
LAST-MODIFIED:20170827T205031Z
UID:3359-1595590200-1595595600@tampabaynetworkingcalendar.com
SUMMARY:RGA Network Sabal Park
DESCRIPTION:The best group of networkers in the area! RGA meets weekly and several locations throughout the area. If you are looking for great networking in an upbeat\, relaxed atmosphere\, then you need RGA. There is no cost to come as a guest\, and membership is inexpensive.
URL:https://tampabaynetworkingcalendar.com/event/rga-network-sabal-park-2020-07-24/
LOCATION:Cafe Delanie\, 3016 N US Highway 301\, Ste 300\, Tampa\, Florida 33619\, 3104 Cherry Palm Dr\, Tampa\, FL\, 33619\, United States
CATEGORIES:Networking Meeting
END:VEVENT
BEGIN:VEVENT
DTSTART;TZID=UTC:20200722T113000
DTEND;TZID=UTC:20200722T130000
DTSTAMP:20260421T011553
CREATED:20180531T202528Z
LAST-MODIFIED:20180531T202528Z
UID:2668-1595417400-1595422800@tampabaynetworkingcalendar.com
SUMMARY:Downtown Tampa Business Networking
DESCRIPTION:Join us every Wednesday at American Social for some great business networking designed to help you gain more referrals! Our meetings start with open networking from 11:30am – 12pm and then our meeting takes place from 12p – 1p. We are not seat specific\, there is no mandatory attendance policy\, guests are always welcome to participate during our meetings\, and our meetings are designed to make the most of your lunch hour! Contact co-leader Philippa Main at pm@yourmainagent.com for more information.
URL:https://tampabaynetworkingcalendar.com/event/downtown-tampa-business-networking-2020-07-22/
LOCATION:American Social\, 601 S Harbour Island Blvd suite 107\, Tampa\, FL\, 33602\, United States
CATEGORIES:Networking Meeting
ORGANIZER;CN="RGA Network":MAILTO:info@rganetwork.net
END:VEVENT
BEGIN:VEVENT
DTSTART;TZID=UTC:20200721T190000
DTEND;TZID=UTC:20200721T200000
DTSTAMP:20260421T011553
CREATED:20170815T142526Z
LAST-MODIFIED:20170815T142526Z
UID:2666-1595358000-1595361600@tampabaynetworkingcalendar.com
SUMMARY:Money and Business Seminar
DESCRIPTION:Join us at our office as we host our Money and Business Seninar. You will learn the rules of money\, how to make money and how to save money. Dress is business/business casual. No shorts or flip flops permitted. Bring a notepad and be ready to learn. We are changing the financial lives of families in our community\, join us for a fun and informative night.
URL:https://tampabaynetworkingcalendar.com/event/money-and-business-seminar-2020-07-21/
LOCATION:bryan and melinda turner\, 8902 N. Dale Mabry Hwy\, Tampa\, 33614\, United States
CATEGORIES:Educational
END:VEVENT
BEGIN:VEVENT
DTSTART;TZID=UTC:20200721T080000
DTEND;TZID=UTC:20200721T170000
DTSTAMP:20260421T011553
CREATED:20170815T142702Z
LAST-MODIFIED:20170815T142702Z
UID:4352-1595318400-1595350800@tampabaynetworkingcalendar.com
SUMMARY:Catholic Business Networking
DESCRIPTION:Come join a dozen or so business owners at Our Lady of the Rosary church off of 54 every Tuesday morning 8-9 am; coffee starts brewing @7:45!!\nDrive in and look for the sign in front of the church when you enter off of Collier Parkway\, park close to the building\, we post where we hold our meetings up front.\nFor over 6 years we’ve been gathering here at this Catholic Church\, you need NOT to be Catholic\, many members aren’t!!\nFREE to come experience the meeting a few times before you decide if you’d like to join as a member\, come this Tuesday morning; see the magic!!! 727-222-1420 for details
URL:https://tampabaynetworkingcalendar.com/event/catholic-business-networking-2020-07-21-2/
LOCATION:our lady of the Rosary\, Collier Parkway\, Land O Lakes\, United States
END:VEVENT
BEGIN:VEVENT
DTSTART;TZID=UTC:20200721T080000
DTEND;TZID=UTC:20200721T080000
DTSTAMP:20260421T011553
CREATED:20170815T142702Z
LAST-MODIFIED:20170815T142702Z
UID:2665-1595318400-1595318400@tampabaynetworkingcalendar.com
SUMMARY:Catholic Business Networking
DESCRIPTION:Come join a dozen or so business owners at Our Lady of the Rosary church off of 54 every Tuesday morning 8-9 am; coffee starts brewing @7:45!!\nDrive in and look for the sign in front of the church when you enter off of Collier Parkway\, park close to the building\, we post where we hold our meetings up front.\nFor over 6 years we’ve been gathering here at this Catholic Church\, you need NOT to be Catholic\, many members aren’t!!\nFREE to come experience the meeting a few times before you decide if you’d like to join as a member\, come this Tuesday morning; see the magic!!! 727-222-1420 for details
URL:https://tampabaynetworkingcalendar.com/event/catholic-business-networking-2020-07-21/
LOCATION:our lady of the Rosary\, Collier Parkway\, Land O Lakes\, United States
END:VEVENT
BEGIN:VEVENT
DTSTART;TZID=UTC:20200720T073000
DTEND;TZID=UTC:20200720T083000
DTSTAMP:20260421T011553
CREATED:20170830T135408Z
LAST-MODIFIED:20170830T135408Z
UID:2664-1595230200-1595233800@tampabaynetworkingcalendar.com
SUMMARY:RGA Network - City of Seminole
DESCRIPTION:DAYS: Monday\nTIME: 7:30am-8:30am\, Doors open at 7:am \nLOCATION: Seabreeze Family Restaurant\, 6864 Seminole Blvd\,Seminole\, FL 33772 \nDIRECTOR: Dana Callahan\nPHONE: 321-247-8773\nEMAIL: TheDominoEffectHealth@gmail.com
URL:https://tampabaynetworkingcalendar.com/event/rga-network-city-of-seminole-2020-07-20/
LOCATION:Seabreeze Family Restaurant\, 6864 Seminole Blvd\, Seminole\, FL\, 33772\, United States
CATEGORIES:Networking Meeting
ORGANIZER;CN="RGA Network":MAILTO:info@rganetwork.net
END:VEVENT
BEGIN:VEVENT
DTSTART;TZID=UTC:20200717T113000
DTEND;TZID=UTC:20200717T130000
DTSTAMP:20260421T011553
CREATED:20170827T205031Z
LAST-MODIFIED:20170827T205031Z
UID:3358-1594985400-1594990800@tampabaynetworkingcalendar.com
SUMMARY:RGA Network Sabal Park
DESCRIPTION:The best group of networkers in the area! RGA meets weekly and several locations throughout the area. If you are looking for great networking in an upbeat\, relaxed atmosphere\, then you need RGA. There is no cost to come as a guest\, and membership is inexpensive.
URL:https://tampabaynetworkingcalendar.com/event/rga-network-sabal-park-2020-07-17/
LOCATION:Cafe Delanie\, 3016 N US Highway 301\, Ste 300\, Tampa\, Florida 33619\, 3104 Cherry Palm Dr\, Tampa\, FL\, 33619\, United States
CATEGORIES:Networking Meeting
END:VEVENT
BEGIN:VEVENT
DTSTART;TZID=UTC:20200715T113000
DTEND;TZID=UTC:20200715T130000
DTSTAMP:20260421T011553
CREATED:20180531T202528Z
LAST-MODIFIED:20180531T202528Z
UID:2663-1594812600-1594818000@tampabaynetworkingcalendar.com
SUMMARY:Downtown Tampa Business Networking
DESCRIPTION:Join us every Wednesday at American Social for some great business networking designed to help you gain more referrals! Our meetings start with open networking from 11:30am – 12pm and then our meeting takes place from 12p – 1p. We are not seat specific\, there is no mandatory attendance policy\, guests are always welcome to participate during our meetings\, and our meetings are designed to make the most of your lunch hour! Contact co-leader Philippa Main at pm@yourmainagent.com for more information.
URL:https://tampabaynetworkingcalendar.com/event/downtown-tampa-business-networking-2020-07-15/
LOCATION:American Social\, 601 S Harbour Island Blvd suite 107\, Tampa\, FL\, 33602\, United States
CATEGORIES:Networking Meeting
ORGANIZER;CN="RGA Network":MAILTO:info@rganetwork.net
END:VEVENT
END:VCALENDAR