BEGIN:VCALENDAR
VERSION:2.0
PRODID:-//Tampa Bay Networking Calendar - ECPv6.15.20//NONSGML v1.0//EN
CALSCALE:GREGORIAN
METHOD:PUBLISH
X-WR-CALNAME:Tampa Bay Networking Calendar
X-ORIGINAL-URL:https://tampabaynetworkingcalendar.com
X-WR-CALDESC:Events for Tampa Bay Networking Calendar
REFRESH-INTERVAL;VALUE=DURATION:PT1H
X-Robots-Tag:noindex
X-PUBLISHED-TTL:PT1H
BEGIN:VTIMEZONE
TZID:UTC
BEGIN:STANDARD
TZOFFSETFROM:+0000
TZOFFSETTO:+0000
TZNAME:UTC
DTSTART:20190101T000000
END:STANDARD
END:VTIMEZONE
BEGIN:VEVENT
DTSTART;TZID=UTC:20200908T080000
DTEND;TZID=UTC:20200908T080000
DTSTAMP:20260420T072815
CREATED:20170815T142702Z
LAST-MODIFIED:20170815T142702Z
UID:2724-1599552000-1599552000@tampabaynetworkingcalendar.com
SUMMARY:Catholic Business Networking
DESCRIPTION:Come join a dozen or so business owners at Our Lady of the Rosary church off of 54 every Tuesday morning 8-9 am; coffee starts brewing @7:45!!\nDrive in and look for the sign in front of the church when you enter off of Collier Parkway\, park close to the building\, we post where we hold our meetings up front.\nFor over 6 years we’ve been gathering here at this Catholic Church\, you need NOT to be Catholic\, many members aren’t!!\nFREE to come experience the meeting a few times before you decide if you’d like to join as a member\, come this Tuesday morning; see the magic!!! 727-222-1420 for details
URL:https://tampabaynetworkingcalendar.com/event/catholic-business-networking-2020-09-08/
LOCATION:our lady of the Rosary\, Collier Parkway\, Land O Lakes\, United States
END:VEVENT
BEGIN:VEVENT
DTSTART;TZID=UTC:20200907T073000
DTEND;TZID=UTC:20200907T083000
DTSTAMP:20260420T072815
CREATED:20170830T135408Z
LAST-MODIFIED:20170830T135408Z
UID:2723-1599463800-1599467400@tampabaynetworkingcalendar.com
SUMMARY:RGA Network - City of Seminole
DESCRIPTION:DAYS: Monday\nTIME: 7:30am-8:30am\, Doors open at 7:am \nLOCATION: Seabreeze Family Restaurant\, 6864 Seminole Blvd\,Seminole\, FL 33772 \nDIRECTOR: Dana Callahan\nPHONE: 321-247-8773\nEMAIL: TheDominoEffectHealth@gmail.com
URL:https://tampabaynetworkingcalendar.com/event/rga-network-city-of-seminole-2020-09-07/
LOCATION:Seabreeze Family Restaurant\, 6864 Seminole Blvd\, Seminole\, FL\, 33772\, United States
CATEGORIES:Networking Meeting
ORGANIZER;CN="RGA Network":MAILTO:info@rganetwork.net
END:VEVENT
BEGIN:VEVENT
DTSTART;TZID=UTC:20200904T113000
DTEND;TZID=UTC:20200904T130000
DTSTAMP:20260420T072815
CREATED:20170827T205031Z
LAST-MODIFIED:20170827T205031Z
UID:3365-1599219000-1599224400@tampabaynetworkingcalendar.com
SUMMARY:RGA Network Sabal Park
DESCRIPTION:The best group of networkers in the area! RGA meets weekly and several locations throughout the area. If you are looking for great networking in an upbeat\, relaxed atmosphere\, then you need RGA. There is no cost to come as a guest\, and membership is inexpensive.
URL:https://tampabaynetworkingcalendar.com/event/rga-network-sabal-park-2020-09-04/
LOCATION:Cafe Delanie\, 3016 N US Highway 301\, Ste 300\, Tampa\, Florida 33619\, 3104 Cherry Palm Dr\, Tampa\, FL\, 33619\, United States
CATEGORIES:Networking Meeting
END:VEVENT
BEGIN:VEVENT
DTSTART;TZID=UTC:20200902T170000
DTEND;TZID=UTC:20200902T183000
DTSTAMP:20260420T072815
CREATED:20200830T152620Z
LAST-MODIFIED:20200830T192527Z
UID:3964-1599066000-1599071400@tampabaynetworkingcalendar.com
SUMMARY:Bay Pines Toastmasters Club
DESCRIPTION:Our club helps people from diverse backgrounds become more confident speakers\, communicators and leaders. From young professionals to experienced managers to those seeking personal growth\, you’ll find a warm\, supportive group that shares your goals. \nEmail me at president-602900@toastmastersclubs.org for our Zoom meeting address.
URL:https://tampabaynetworkingcalendar.com/event/bay-pines-toastmasters-club/
LOCATION:zoom\, United States
CATEGORIES:Educational
ATTACH;FMTTYPE=image/png:https://tampabaynetworkingcalendar.com/wp-content/uploads/2020/08/Toastmasters-International-Mark-White-1x.png
ORGANIZER;CN="Toastmasters International":MAILTO:president-602900@toastmastersclubs.org
END:VEVENT
BEGIN:VEVENT
DTSTART;TZID=UTC:20200902T113000
DTEND;TZID=UTC:20200902T130000
DTSTAMP:20260420T072815
CREATED:20180531T202528Z
LAST-MODIFIED:20180531T202528Z
UID:2719-1599046200-1599051600@tampabaynetworkingcalendar.com
SUMMARY:Downtown Tampa Business Networking
DESCRIPTION:Join us every Wednesday at American Social for some great business networking designed to help you gain more referrals! Our meetings start with open networking from 11:30am – 12pm and then our meeting takes place from 12p – 1p. We are not seat specific\, there is no mandatory attendance policy\, guests are always welcome to participate during our meetings\, and our meetings are designed to make the most of your lunch hour! Contact co-leader Philippa Main at pm@yourmainagent.com for more information.
URL:https://tampabaynetworkingcalendar.com/event/downtown-tampa-business-networking-2020-09-02/
LOCATION:American Social\, 601 S Harbour Island Blvd suite 107\, Tampa\, FL\, 33602\, United States
CATEGORIES:Networking Meeting
ORGANIZER;CN="RGA Network":MAILTO:info@rganetwork.net
END:VEVENT
BEGIN:VEVENT
DTSTART;TZID=UTC:20200901T190000
DTEND;TZID=UTC:20200901T200000
DTSTAMP:20260420T072815
CREATED:20170815T142526Z
LAST-MODIFIED:20170815T142526Z
UID:2717-1598986800-1598990400@tampabaynetworkingcalendar.com
SUMMARY:Money and Business Seminar
DESCRIPTION:Join us at our office as we host our Money and Business Seninar. You will learn the rules of money\, how to make money and how to save money. Dress is business/business casual. No shorts or flip flops permitted. Bring a notepad and be ready to learn. We are changing the financial lives of families in our community\, join us for a fun and informative night.
URL:https://tampabaynetworkingcalendar.com/event/money-and-business-seminar-2020-09-01/
LOCATION:bryan and melinda turner\, 8902 N. Dale Mabry Hwy\, Tampa\, 33614\, United States
CATEGORIES:Educational
END:VEVENT
BEGIN:VEVENT
DTSTART;TZID=UTC:20200901T080000
DTEND;TZID=UTC:20200901T170000
DTSTAMP:20260420T072815
CREATED:20170815T142702Z
LAST-MODIFIED:20170815T142702Z
UID:4358-1598947200-1598979600@tampabaynetworkingcalendar.com
SUMMARY:Catholic Business Networking
DESCRIPTION:Come join a dozen or so business owners at Our Lady of the Rosary church off of 54 every Tuesday morning 8-9 am; coffee starts brewing @7:45!!\nDrive in and look for the sign in front of the church when you enter off of Collier Parkway\, park close to the building\, we post where we hold our meetings up front.\nFor over 6 years we’ve been gathering here at this Catholic Church\, you need NOT to be Catholic\, many members aren’t!!\nFREE to come experience the meeting a few times before you decide if you’d like to join as a member\, come this Tuesday morning; see the magic!!! 727-222-1420 for details
URL:https://tampabaynetworkingcalendar.com/event/catholic-business-networking-2020-09-01-2/
LOCATION:our lady of the Rosary\, Collier Parkway\, Land O Lakes\, United States
END:VEVENT
BEGIN:VEVENT
DTSTART;TZID=UTC:20200901T080000
DTEND;TZID=UTC:20200901T080000
DTSTAMP:20260420T072815
CREATED:20170815T142702Z
LAST-MODIFIED:20170815T142702Z
UID:2716-1598947200-1598947200@tampabaynetworkingcalendar.com
SUMMARY:Catholic Business Networking
DESCRIPTION:Come join a dozen or so business owners at Our Lady of the Rosary church off of 54 every Tuesday morning 8-9 am; coffee starts brewing @7:45!!\nDrive in and look for the sign in front of the church when you enter off of Collier Parkway\, park close to the building\, we post where we hold our meetings up front.\nFor over 6 years we’ve been gathering here at this Catholic Church\, you need NOT to be Catholic\, many members aren’t!!\nFREE to come experience the meeting a few times before you decide if you’d like to join as a member\, come this Tuesday morning; see the magic!!! 727-222-1420 for details
URL:https://tampabaynetworkingcalendar.com/event/catholic-business-networking-2020-09-01/
LOCATION:our lady of the Rosary\, Collier Parkway\, Land O Lakes\, United States
END:VEVENT
BEGIN:VEVENT
DTSTART;TZID=UTC:20200831T073000
DTEND;TZID=UTC:20200831T083000
DTSTAMP:20260420T072815
CREATED:20170830T135408Z
LAST-MODIFIED:20170830T135408Z
UID:2711-1598859000-1598862600@tampabaynetworkingcalendar.com
SUMMARY:RGA Network - City of Seminole
DESCRIPTION:DAYS: Monday\nTIME: 7:30am-8:30am\, Doors open at 7:am \nLOCATION: Seabreeze Family Restaurant\, 6864 Seminole Blvd\,Seminole\, FL 33772 \nDIRECTOR: Dana Callahan\nPHONE: 321-247-8773\nEMAIL: TheDominoEffectHealth@gmail.com
URL:https://tampabaynetworkingcalendar.com/event/rga-network-city-of-seminole-2020-08-31/
LOCATION:Seabreeze Family Restaurant\, 6864 Seminole Blvd\, Seminole\, FL\, 33772\, United States
CATEGORIES:Networking Meeting
ORGANIZER;CN="RGA Network":MAILTO:info@rganetwork.net
END:VEVENT
BEGIN:VEVENT
DTSTART;TZID=UTC:20200829T100000
DTEND;TZID=UTC:20200829T160000
DTSTAMP:20260420T072815
CREATED:20200827T222037Z
LAST-MODIFIED:20200827T222037Z
UID:3956-1598695200-1598716800@tampabaynetworkingcalendar.com
SUMMARY:Kindness alert. Used clothing drive
DESCRIPTION:Tidy up your closets and drawers. Load up your car with recyclable clothes and small items. Drive over to our parking lot. On SATURDAY AUGUST 29th. From 10am to 4pm. Helpers will unload your car. Everything benefits the Red Cross. And is processed by Charity Clothing Pickup. \nBliss Wellness Market\n13721 North Dale Mabry Tampa 33618\n813-435-3991
URL:https://tampabaynetworkingcalendar.com/event/kindness-alert-used-clothing-drive/
LOCATION:Bliss Wellness Market Carrollwood\, 13721 North Dale Mabry\, Tampa\, FL\, 33618\, United States
CATEGORIES:featured
ATTACH;FMTTYPE=image/jpeg:https://tampabaynetworkingcalendar.com/wp-content/uploads/2020/08/19D0D27D-C830-41D7-917E-D02BC25A17B2.jpeg
ORGANIZER;CN="Bliss CBD &amp%3B Wellness Market":MAILTO:dawn@shopcbdtampa.com
END:VEVENT
BEGIN:VEVENT
DTSTART;TZID=UTC:20200828T113000
DTEND;TZID=UTC:20200828T130000
DTSTAMP:20260420T072815
CREATED:20170827T205031Z
LAST-MODIFIED:20170827T205031Z
UID:3364-1598614200-1598619600@tampabaynetworkingcalendar.com
SUMMARY:RGA Network Sabal Park
DESCRIPTION:The best group of networkers in the area! RGA meets weekly and several locations throughout the area. If you are looking for great networking in an upbeat\, relaxed atmosphere\, then you need RGA. There is no cost to come as a guest\, and membership is inexpensive.
URL:https://tampabaynetworkingcalendar.com/event/rga-network-sabal-park-2020-08-28/
LOCATION:Cafe Delanie\, 3016 N US Highway 301\, Ste 300\, Tampa\, Florida 33619\, 3104 Cherry Palm Dr\, Tampa\, FL\, 33619\, United States
CATEGORIES:Networking Meeting
END:VEVENT
BEGIN:VEVENT
DTSTART;TZID=UTC:20200827T123000
DTEND;TZID=UTC:20200827T130000
DTSTAMP:20260420T072815
CREATED:20200717T102454Z
LAST-MODIFIED:20200813T105514Z
UID:3916-1598531400-1598533200@tampabaynetworkingcalendar.com
SUMMARY:The Borgen Project
DESCRIPTION:addressing ending global poverty
URL:https://tampabaynetworkingcalendar.com/event/the-borgen-project/
LOCATION:USF Botanical Gardens\, 12210 USF Pine Drive\, Tampa\, FL\, 33612\, United States
CATEGORIES:featured
ATTACH;FMTTYPE=image/jpeg:https://tampabaynetworkingcalendar.com/wp-content/uploads/2020/07/Copy-of-Human-Rights-Slogan-Flyer-Template-Made-with-PosterMyWall.jpg
ORGANIZER;CN="CBN":MAILTO:mawhallen@gmail.com
END:VEVENT
BEGIN:VEVENT
DTSTART;TZID=UTC:20200826T113000
DTEND;TZID=UTC:20200826T130000
DTSTAMP:20260420T072815
CREATED:20180531T202528Z
LAST-MODIFIED:20180531T202528Z
UID:2701-1598441400-1598446800@tampabaynetworkingcalendar.com
SUMMARY:Downtown Tampa Business Networking
DESCRIPTION:Join us every Wednesday at American Social for some great business networking designed to help you gain more referrals! Our meetings start with open networking from 11:30am – 12pm and then our meeting takes place from 12p – 1p. We are not seat specific\, there is no mandatory attendance policy\, guests are always welcome to participate during our meetings\, and our meetings are designed to make the most of your lunch hour! Contact co-leader Philippa Main at pm@yourmainagent.com for more information.
URL:https://tampabaynetworkingcalendar.com/event/downtown-tampa-business-networking-2020-08-26/
LOCATION:American Social\, 601 S Harbour Island Blvd suite 107\, Tampa\, FL\, 33602\, United States
CATEGORIES:Networking Meeting
ORGANIZER;CN="RGA Network":MAILTO:info@rganetwork.net
END:VEVENT
BEGIN:VEVENT
DTSTART;TZID=UTC:20200825T190000
DTEND;TZID=UTC:20200825T200000
DTSTAMP:20260420T072815
CREATED:20170815T142526Z
LAST-MODIFIED:20170815T142526Z
UID:2699-1598382000-1598385600@tampabaynetworkingcalendar.com
SUMMARY:Money and Business Seminar
DESCRIPTION:Join us at our office as we host our Money and Business Seninar. You will learn the rules of money\, how to make money and how to save money. Dress is business/business casual. No shorts or flip flops permitted. Bring a notepad and be ready to learn. We are changing the financial lives of families in our community\, join us for a fun and informative night.
URL:https://tampabaynetworkingcalendar.com/event/money-and-business-seminar-2020-08-25/
LOCATION:bryan and melinda turner\, 8902 N. Dale Mabry Hwy\, Tampa\, 33614\, United States
CATEGORIES:Educational
END:VEVENT
BEGIN:VEVENT
DTSTART;TZID=UTC:20200825T080000
DTEND;TZID=UTC:20200825T170000
DTSTAMP:20260420T072815
CREATED:20170815T142702Z
LAST-MODIFIED:20170815T142702Z
UID:4357-1598342400-1598374800@tampabaynetworkingcalendar.com
SUMMARY:Catholic Business Networking
DESCRIPTION:Come join a dozen or so business owners at Our Lady of the Rosary church off of 54 every Tuesday morning 8-9 am; coffee starts brewing @7:45!!\nDrive in and look for the sign in front of the church when you enter off of Collier Parkway\, park close to the building\, we post where we hold our meetings up front.\nFor over 6 years we’ve been gathering here at this Catholic Church\, you need NOT to be Catholic\, many members aren’t!!\nFREE to come experience the meeting a few times before you decide if you’d like to join as a member\, come this Tuesday morning; see the magic!!! 727-222-1420 for details
URL:https://tampabaynetworkingcalendar.com/event/catholic-business-networking-2020-08-25-2/
LOCATION:our lady of the Rosary\, Collier Parkway\, Land O Lakes\, United States
END:VEVENT
BEGIN:VEVENT
DTSTART;TZID=UTC:20200825T080000
DTEND;TZID=UTC:20200825T080000
DTSTAMP:20260420T072815
CREATED:20170815T142702Z
LAST-MODIFIED:20170815T142702Z
UID:2698-1598342400-1598342400@tampabaynetworkingcalendar.com
SUMMARY:Catholic Business Networking
DESCRIPTION:Come join a dozen or so business owners at Our Lady of the Rosary church off of 54 every Tuesday morning 8-9 am; coffee starts brewing @7:45!!\nDrive in and look for the sign in front of the church when you enter off of Collier Parkway\, park close to the building\, we post where we hold our meetings up front.\nFor over 6 years we’ve been gathering here at this Catholic Church\, you need NOT to be Catholic\, many members aren’t!!\nFREE to come experience the meeting a few times before you decide if you’d like to join as a member\, come this Tuesday morning; see the magic!!! 727-222-1420 for details
URL:https://tampabaynetworkingcalendar.com/event/catholic-business-networking-2020-08-25/
LOCATION:our lady of the Rosary\, Collier Parkway\, Land O Lakes\, United States
END:VEVENT
BEGIN:VEVENT
DTSTART;TZID=UTC:20200824T073000
DTEND;TZID=UTC:20200824T083000
DTSTAMP:20260420T072815
CREATED:20170830T135408Z
LAST-MODIFIED:20170830T135408Z
UID:2697-1598254200-1598257800@tampabaynetworkingcalendar.com
SUMMARY:RGA Network - City of Seminole
DESCRIPTION:DAYS: Monday\nTIME: 7:30am-8:30am\, Doors open at 7:am \nLOCATION: Seabreeze Family Restaurant\, 6864 Seminole Blvd\,Seminole\, FL 33772 \nDIRECTOR: Dana Callahan\nPHONE: 321-247-8773\nEMAIL: TheDominoEffectHealth@gmail.com
URL:https://tampabaynetworkingcalendar.com/event/rga-network-city-of-seminole-2020-08-24/
LOCATION:Seabreeze Family Restaurant\, 6864 Seminole Blvd\, Seminole\, FL\, 33772\, United States
CATEGORIES:Networking Meeting
ORGANIZER;CN="RGA Network":MAILTO:info@rganetwork.net
END:VEVENT
BEGIN:VEVENT
DTSTART;TZID=UTC:20200822T200000
DTEND;TZID=UTC:20200822T230000
DTSTAMP:20260420T072815
CREATED:20200802T142843Z
LAST-MODIFIED:20200802T142843Z
UID:3928-1598126400-1598137200@tampabaynetworkingcalendar.com
SUMMARY:9th Annual James Bond Soiree
DESCRIPTION:Partnering with Rolex\, Versace\, Luis Vuitton\, Chanel\, and others\, this internationally-recognized 007 affair returns this year for a pandemic-proof evening of intrigue\, adventure\, and thrills\, while benefiting breast cancer research. Join the live action without leaving home! Guests within the U.S. can also receive MI-6 party kits delivered straight to their door… \nGuests within the U.S. also have the option of receiving VIP party kits delivered straight to their homes. Kits can include charcuterie boards or fresh oysters\, magnum bottles of high-end sparkling wine\, James Bond branded faced masks\, champagne glasses\, and more! \nPurchase tickets with confidence\, knowing that the event is fully pandemic proof. We will be in full compliance with all health and safety standards. \nWARNING: This even has a history of selling out\, and party kits are already running low. You’re well-advised to secure tickets right away: http://globalbondsociety.vip/tickets
URL:https://tampabaynetworkingcalendar.com/event/9th-annual-james-bond-soiree/
LOCATION:online\, tampa florida\, tampa\, Florida\, 10022\, Canada
CATEGORIES:Festival
ATTACH;FMTTYPE=image/jpeg:https://tampabaynetworkingcalendar.com/wp-content/uploads/2020/07/James-Bond.jpg
END:VEVENT
BEGIN:VEVENT
DTSTART;TZID=UTC:20200821T113000
DTEND;TZID=UTC:20200821T130000
DTSTAMP:20260420T072815
CREATED:20170827T205031Z
LAST-MODIFIED:20170827T205031Z
UID:3363-1598009400-1598014800@tampabaynetworkingcalendar.com
SUMMARY:RGA Network Sabal Park
DESCRIPTION:The best group of networkers in the area! RGA meets weekly and several locations throughout the area. If you are looking for great networking in an upbeat\, relaxed atmosphere\, then you need RGA. There is no cost to come as a guest\, and membership is inexpensive.
URL:https://tampabaynetworkingcalendar.com/event/rga-network-sabal-park-2020-08-21/
LOCATION:Cafe Delanie\, 3016 N US Highway 301\, Ste 300\, Tampa\, Florida 33619\, 3104 Cherry Palm Dr\, Tampa\, FL\, 33619\, United States
CATEGORIES:Networking Meeting
END:VEVENT
BEGIN:VEVENT
DTSTART;TZID=UTC:20200819T113000
DTEND;TZID=UTC:20200819T130000
DTSTAMP:20260420T072815
CREATED:20180531T202528Z
LAST-MODIFIED:20180531T202528Z
UID:2696-1597836600-1597842000@tampabaynetworkingcalendar.com
SUMMARY:Downtown Tampa Business Networking
DESCRIPTION:Join us every Wednesday at American Social for some great business networking designed to help you gain more referrals! Our meetings start with open networking from 11:30am – 12pm and then our meeting takes place from 12p – 1p. We are not seat specific\, there is no mandatory attendance policy\, guests are always welcome to participate during our meetings\, and our meetings are designed to make the most of your lunch hour! Contact co-leader Philippa Main at pm@yourmainagent.com for more information.
URL:https://tampabaynetworkingcalendar.com/event/downtown-tampa-business-networking-2020-08-19/
LOCATION:American Social\, 601 S Harbour Island Blvd suite 107\, Tampa\, FL\, 33602\, United States
CATEGORIES:Networking Meeting
ORGANIZER;CN="RGA Network":MAILTO:info@rganetwork.net
END:VEVENT
BEGIN:VEVENT
DTSTART;TZID=UTC:20200818T190000
DTEND;TZID=UTC:20200818T200000
DTSTAMP:20260420T072815
CREATED:20170815T142526Z
LAST-MODIFIED:20170815T142526Z
UID:2694-1597777200-1597780800@tampabaynetworkingcalendar.com
SUMMARY:Money and Business Seminar
DESCRIPTION:Join us at our office as we host our Money and Business Seninar. You will learn the rules of money\, how to make money and how to save money. Dress is business/business casual. No shorts or flip flops permitted. Bring a notepad and be ready to learn. We are changing the financial lives of families in our community\, join us for a fun and informative night.
URL:https://tampabaynetworkingcalendar.com/event/money-and-business-seminar-2020-08-18/
LOCATION:bryan and melinda turner\, 8902 N. Dale Mabry Hwy\, Tampa\, 33614\, United States
CATEGORIES:Educational
END:VEVENT
BEGIN:VEVENT
DTSTART;TZID=UTC:20200818T080000
DTEND;TZID=UTC:20200818T170000
DTSTAMP:20260420T072815
CREATED:20170815T142702Z
LAST-MODIFIED:20170815T142702Z
UID:4356-1597737600-1597770000@tampabaynetworkingcalendar.com
SUMMARY:Catholic Business Networking
DESCRIPTION:Come join a dozen or so business owners at Our Lady of the Rosary church off of 54 every Tuesday morning 8-9 am; coffee starts brewing @7:45!!\nDrive in and look for the sign in front of the church when you enter off of Collier Parkway\, park close to the building\, we post where we hold our meetings up front.\nFor over 6 years we’ve been gathering here at this Catholic Church\, you need NOT to be Catholic\, many members aren’t!!\nFREE to come experience the meeting a few times before you decide if you’d like to join as a member\, come this Tuesday morning; see the magic!!! 727-222-1420 for details
URL:https://tampabaynetworkingcalendar.com/event/catholic-business-networking-2020-08-18-2/
LOCATION:our lady of the Rosary\, Collier Parkway\, Land O Lakes\, United States
END:VEVENT
BEGIN:VEVENT
DTSTART;TZID=UTC:20200818T080000
DTEND;TZID=UTC:20200818T080000
DTSTAMP:20260420T072815
CREATED:20170815T142702Z
LAST-MODIFIED:20170815T142702Z
UID:2693-1597737600-1597737600@tampabaynetworkingcalendar.com
SUMMARY:Catholic Business Networking
DESCRIPTION:Come join a dozen or so business owners at Our Lady of the Rosary church off of 54 every Tuesday morning 8-9 am; coffee starts brewing @7:45!!\nDrive in and look for the sign in front of the church when you enter off of Collier Parkway\, park close to the building\, we post where we hold our meetings up front.\nFor over 6 years we’ve been gathering here at this Catholic Church\, you need NOT to be Catholic\, many members aren’t!!\nFREE to come experience the meeting a few times before you decide if you’d like to join as a member\, come this Tuesday morning; see the magic!!! 727-222-1420 for details
URL:https://tampabaynetworkingcalendar.com/event/catholic-business-networking-2020-08-18/
LOCATION:our lady of the Rosary\, Collier Parkway\, Land O Lakes\, United States
END:VEVENT
BEGIN:VEVENT
DTSTART;TZID=UTC:20200817T073000
DTEND;TZID=UTC:20200817T083000
DTSTAMP:20260420T072815
CREATED:20170830T135408Z
LAST-MODIFIED:20170830T135408Z
UID:2692-1597649400-1597653000@tampabaynetworkingcalendar.com
SUMMARY:RGA Network - City of Seminole
DESCRIPTION:DAYS: Monday\nTIME: 7:30am-8:30am\, Doors open at 7:am \nLOCATION: Seabreeze Family Restaurant\, 6864 Seminole Blvd\,Seminole\, FL 33772 \nDIRECTOR: Dana Callahan\nPHONE: 321-247-8773\nEMAIL: TheDominoEffectHealth@gmail.com
URL:https://tampabaynetworkingcalendar.com/event/rga-network-city-of-seminole-2020-08-17/
LOCATION:Seabreeze Family Restaurant\, 6864 Seminole Blvd\, Seminole\, FL\, 33772\, United States
CATEGORIES:Networking Meeting
ORGANIZER;CN="RGA Network":MAILTO:info@rganetwork.net
END:VEVENT
BEGIN:VEVENT
DTSTART;TZID=UTC:20200814T113000
DTEND;TZID=UTC:20200814T130000
DTSTAMP:20260420T072815
CREATED:20170827T205031Z
LAST-MODIFIED:20170827T205031Z
UID:3362-1597404600-1597410000@tampabaynetworkingcalendar.com
SUMMARY:RGA Network Sabal Park
DESCRIPTION:The best group of networkers in the area! RGA meets weekly and several locations throughout the area. If you are looking for great networking in an upbeat\, relaxed atmosphere\, then you need RGA. There is no cost to come as a guest\, and membership is inexpensive.
URL:https://tampabaynetworkingcalendar.com/event/rga-network-sabal-park-2020-08-14/
LOCATION:Cafe Delanie\, 3016 N US Highway 301\, Ste 300\, Tampa\, Florida 33619\, 3104 Cherry Palm Dr\, Tampa\, FL\, 33619\, United States
CATEGORIES:Networking Meeting
END:VEVENT
BEGIN:VEVENT
DTSTART;TZID=UTC:20200812T113000
DTEND;TZID=UTC:20200812T130000
DTSTAMP:20260420T072815
CREATED:20180531T202528Z
LAST-MODIFIED:20180531T202528Z
UID:2687-1597231800-1597237200@tampabaynetworkingcalendar.com
SUMMARY:Downtown Tampa Business Networking
DESCRIPTION:Join us every Wednesday at American Social for some great business networking designed to help you gain more referrals! Our meetings start with open networking from 11:30am – 12pm and then our meeting takes place from 12p – 1p. We are not seat specific\, there is no mandatory attendance policy\, guests are always welcome to participate during our meetings\, and our meetings are designed to make the most of your lunch hour! Contact co-leader Philippa Main at pm@yourmainagent.com for more information.
URL:https://tampabaynetworkingcalendar.com/event/downtown-tampa-business-networking-2020-08-12/
LOCATION:American Social\, 601 S Harbour Island Blvd suite 107\, Tampa\, FL\, 33602\, United States
CATEGORIES:Networking Meeting
ORGANIZER;CN="RGA Network":MAILTO:info@rganetwork.net
END:VEVENT
BEGIN:VEVENT
DTSTART;TZID=UTC:20200811T190000
DTEND;TZID=UTC:20200811T200000
DTSTAMP:20260420T072815
CREATED:20170815T142526Z
LAST-MODIFIED:20170815T142526Z
UID:2685-1597172400-1597176000@tampabaynetworkingcalendar.com
SUMMARY:Money and Business Seminar
DESCRIPTION:Join us at our office as we host our Money and Business Seninar. You will learn the rules of money\, how to make money and how to save money. Dress is business/business casual. No shorts or flip flops permitted. Bring a notepad and be ready to learn. We are changing the financial lives of families in our community\, join us for a fun and informative night.
URL:https://tampabaynetworkingcalendar.com/event/money-and-business-seminar-2020-08-11/
LOCATION:bryan and melinda turner\, 8902 N. Dale Mabry Hwy\, Tampa\, 33614\, United States
CATEGORIES:Educational
END:VEVENT
BEGIN:VEVENT
DTSTART;TZID=UTC:20200811T080000
DTEND;TZID=UTC:20200811T170000
DTSTAMP:20260420T072815
CREATED:20170815T142702Z
LAST-MODIFIED:20170815T142702Z
UID:4355-1597132800-1597165200@tampabaynetworkingcalendar.com
SUMMARY:Catholic Business Networking
DESCRIPTION:Come join a dozen or so business owners at Our Lady of the Rosary church off of 54 every Tuesday morning 8-9 am; coffee starts brewing @7:45!!\nDrive in and look for the sign in front of the church when you enter off of Collier Parkway\, park close to the building\, we post where we hold our meetings up front.\nFor over 6 years we’ve been gathering here at this Catholic Church\, you need NOT to be Catholic\, many members aren’t!!\nFREE to come experience the meeting a few times before you decide if you’d like to join as a member\, come this Tuesday morning; see the magic!!! 727-222-1420 for details
URL:https://tampabaynetworkingcalendar.com/event/catholic-business-networking-2020-08-11-2/
LOCATION:our lady of the Rosary\, Collier Parkway\, Land O Lakes\, United States
END:VEVENT
BEGIN:VEVENT
DTSTART;TZID=UTC:20200811T080000
DTEND;TZID=UTC:20200811T080000
DTSTAMP:20260420T072815
CREATED:20170815T142702Z
LAST-MODIFIED:20170815T142702Z
UID:2684-1597132800-1597132800@tampabaynetworkingcalendar.com
SUMMARY:Catholic Business Networking
DESCRIPTION:Come join a dozen or so business owners at Our Lady of the Rosary church off of 54 every Tuesday morning 8-9 am; coffee starts brewing @7:45!!\nDrive in and look for the sign in front of the church when you enter off of Collier Parkway\, park close to the building\, we post where we hold our meetings up front.\nFor over 6 years we’ve been gathering here at this Catholic Church\, you need NOT to be Catholic\, many members aren’t!!\nFREE to come experience the meeting a few times before you decide if you’d like to join as a member\, come this Tuesday morning; see the magic!!! 727-222-1420 for details
URL:https://tampabaynetworkingcalendar.com/event/catholic-business-networking-2020-08-11/
LOCATION:our lady of the Rosary\, Collier Parkway\, Land O Lakes\, United States
END:VEVENT
BEGIN:VEVENT
DTSTART;TZID=UTC:20200810T073000
DTEND;TZID=UTC:20200810T083000
DTSTAMP:20260420T072815
CREATED:20170830T135408Z
LAST-MODIFIED:20170830T135408Z
UID:2683-1597044600-1597048200@tampabaynetworkingcalendar.com
SUMMARY:RGA Network - City of Seminole
DESCRIPTION:DAYS: Monday\nTIME: 7:30am-8:30am\, Doors open at 7:am \nLOCATION: Seabreeze Family Restaurant\, 6864 Seminole Blvd\,Seminole\, FL 33772 \nDIRECTOR: Dana Callahan\nPHONE: 321-247-8773\nEMAIL: TheDominoEffectHealth@gmail.com
URL:https://tampabaynetworkingcalendar.com/event/rga-network-city-of-seminole-2020-08-10/
LOCATION:Seabreeze Family Restaurant\, 6864 Seminole Blvd\, Seminole\, FL\, 33772\, United States
CATEGORIES:Networking Meeting
ORGANIZER;CN="RGA Network":MAILTO:info@rganetwork.net
END:VEVENT
END:VCALENDAR