BEGIN:VCALENDAR
VERSION:2.0
PRODID:-//Tampa Bay Networking Calendar - ECPv6.15.20//NONSGML v1.0//EN
CALSCALE:GREGORIAN
METHOD:PUBLISH
X-WR-CALNAME:Tampa Bay Networking Calendar
X-ORIGINAL-URL:https://tampabaynetworkingcalendar.com
X-WR-CALDESC:Events for Tampa Bay Networking Calendar
REFRESH-INTERVAL;VALUE=DURATION:PT1H
X-Robots-Tag:noindex
X-PUBLISHED-TTL:PT1H
BEGIN:VTIMEZONE
TZID:UTC
BEGIN:STANDARD
TZOFFSETFROM:+0000
TZOFFSETTO:+0000
TZNAME:UTC
DTSTART:20210101T000000
END:STANDARD
END:VTIMEZONE
BEGIN:VEVENT
DTSTART;TZID=UTC:20221028T113000
DTEND;TZID=UTC:20221028T130000
DTSTAMP:20260420T095643
CREATED:20170827T205031Z
LAST-MODIFIED:20170827T205031Z
UID:4990-1666956600-1666962000@tampabaynetworkingcalendar.com
SUMMARY:RGA Network Sabal Park
DESCRIPTION:The best group of networkers in the area! RGA meets weekly and several locations throughout the area. If you are looking for great networking in an upbeat\, relaxed atmosphere\, then you need RGA. There is no cost to come as a guest\, and membership is inexpensive.
URL:https://tampabaynetworkingcalendar.com/event/rga-network-sabal-park-2022-10-28/
LOCATION:Cafe Delanie\, 3016 N US Highway 301\, Ste 300\, Tampa\, Florida 33619\, 3104 Cherry Palm Dr\, Tampa\, FL\, 33619\, United States
CATEGORIES:Networking Meeting
END:VEVENT
BEGIN:VEVENT
DTSTART;TZID=UTC:20221021T113000
DTEND;TZID=UTC:20221021T130000
DTSTAMP:20260420T095643
CREATED:20170827T205031Z
LAST-MODIFIED:20170827T205031Z
UID:4980-1666351800-1666357200@tampabaynetworkingcalendar.com
SUMMARY:RGA Network Sabal Park
DESCRIPTION:The best group of networkers in the area! RGA meets weekly and several locations throughout the area. If you are looking for great networking in an upbeat\, relaxed atmosphere\, then you need RGA. There is no cost to come as a guest\, and membership is inexpensive.
URL:https://tampabaynetworkingcalendar.com/event/rga-network-sabal-park-2022-10-21/
LOCATION:Cafe Delanie\, 3016 N US Highway 301\, Ste 300\, Tampa\, Florida 33619\, 3104 Cherry Palm Dr\, Tampa\, FL\, 33619\, United States
CATEGORIES:Networking Meeting
END:VEVENT
BEGIN:VEVENT
DTSTART;TZID=UTC:20221014T113000
DTEND;TZID=UTC:20221014T130000
DTSTAMP:20260420T095643
CREATED:20170827T205031Z
LAST-MODIFIED:20170827T205031Z
UID:4937-1665747000-1665752400@tampabaynetworkingcalendar.com
SUMMARY:RGA Network Sabal Park
DESCRIPTION:The best group of networkers in the area! RGA meets weekly and several locations throughout the area. If you are looking for great networking in an upbeat\, relaxed atmosphere\, then you need RGA. There is no cost to come as a guest\, and membership is inexpensive.
URL:https://tampabaynetworkingcalendar.com/event/rga-network-sabal-park-2022-10-14/
LOCATION:Cafe Delanie\, 3016 N US Highway 301\, Ste 300\, Tampa\, Florida 33619\, 3104 Cherry Palm Dr\, Tampa\, FL\, 33619\, United States
CATEGORIES:Networking Meeting
END:VEVENT
BEGIN:VEVENT
DTSTART;TZID=UTC:20221007T113000
DTEND;TZID=UTC:20221007T130000
DTSTAMP:20260420T095643
CREATED:20170827T205031Z
LAST-MODIFIED:20170827T205031Z
UID:4924-1665142200-1665147600@tampabaynetworkingcalendar.com
SUMMARY:RGA Network Sabal Park
DESCRIPTION:The best group of networkers in the area! RGA meets weekly and several locations throughout the area. If you are looking for great networking in an upbeat\, relaxed atmosphere\, then you need RGA. There is no cost to come as a guest\, and membership is inexpensive.
URL:https://tampabaynetworkingcalendar.com/event/rga-network-sabal-park-2022-10-07/
LOCATION:Cafe Delanie\, 3016 N US Highway 301\, Ste 300\, Tampa\, Florida 33619\, 3104 Cherry Palm Dr\, Tampa\, FL\, 33619\, United States
CATEGORIES:Networking Meeting
END:VEVENT
BEGIN:VEVENT
DTSTART;TZID=UTC:20220826T113000
DTEND;TZID=UTC:20220826T130000
DTSTAMP:20260420T095643
CREATED:20170827T205031Z
LAST-MODIFIED:20170827T205031Z
UID:3961-1661513400-1661518800@tampabaynetworkingcalendar.com
SUMMARY:RGA Network Sabal Park
DESCRIPTION:The best group of networkers in the area! RGA meets weekly and several locations throughout the area. If you are looking for great networking in an upbeat\, relaxed atmosphere\, then you need RGA. There is no cost to come as a guest\, and membership is inexpensive.
URL:https://tampabaynetworkingcalendar.com/event/rga-network-sabal-park-2022-08-26/
LOCATION:Cafe Delanie\, 3016 N US Highway 301\, Ste 300\, Tampa\, Florida 33619\, 3104 Cherry Palm Dr\, Tampa\, FL\, 33619\, United States
CATEGORIES:Networking Meeting
END:VEVENT
BEGIN:VEVENT
DTSTART;TZID=UTC:20220819T113000
DTEND;TZID=UTC:20220819T130000
DTSTAMP:20260420T095643
CREATED:20170827T205031Z
LAST-MODIFIED:20170827T205031Z
UID:3946-1660908600-1660914000@tampabaynetworkingcalendar.com
SUMMARY:RGA Network Sabal Park
DESCRIPTION:The best group of networkers in the area! RGA meets weekly and several locations throughout the area. If you are looking for great networking in an upbeat\, relaxed atmosphere\, then you need RGA. There is no cost to come as a guest\, and membership is inexpensive.
URL:https://tampabaynetworkingcalendar.com/event/rga-network-sabal-park-2022-08-19/
LOCATION:Cafe Delanie\, 3016 N US Highway 301\, Ste 300\, Tampa\, Florida 33619\, 3104 Cherry Palm Dr\, Tampa\, FL\, 33619\, United States
CATEGORIES:Networking Meeting
END:VEVENT
BEGIN:VEVENT
DTSTART;TZID=UTC:20220812T113000
DTEND;TZID=UTC:20220812T130000
DTSTAMP:20260420T095643
CREATED:20170827T205031Z
LAST-MODIFIED:20170827T205031Z
UID:3941-1660303800-1660309200@tampabaynetworkingcalendar.com
SUMMARY:RGA Network Sabal Park
DESCRIPTION:The best group of networkers in the area! RGA meets weekly and several locations throughout the area. If you are looking for great networking in an upbeat\, relaxed atmosphere\, then you need RGA. There is no cost to come as a guest\, and membership is inexpensive.
URL:https://tampabaynetworkingcalendar.com/event/rga-network-sabal-park-2022-08-12/
LOCATION:Cafe Delanie\, 3016 N US Highway 301\, Ste 300\, Tampa\, Florida 33619\, 3104 Cherry Palm Dr\, Tampa\, FL\, 33619\, United States
CATEGORIES:Networking Meeting
END:VEVENT
BEGIN:VEVENT
DTSTART;TZID=UTC:20220805T113000
DTEND;TZID=UTC:20220805T130000
DTSTAMP:20260420T095643
CREATED:20170827T205031Z
LAST-MODIFIED:20170827T205031Z
UID:3936-1659699000-1659704400@tampabaynetworkingcalendar.com
SUMMARY:RGA Network Sabal Park
DESCRIPTION:The best group of networkers in the area! RGA meets weekly and several locations throughout the area. If you are looking for great networking in an upbeat\, relaxed atmosphere\, then you need RGA. There is no cost to come as a guest\, and membership is inexpensive.
URL:https://tampabaynetworkingcalendar.com/event/rga-network-sabal-park-2022-08-05/
LOCATION:Cafe Delanie\, 3016 N US Highway 301\, Ste 300\, Tampa\, Florida 33619\, 3104 Cherry Palm Dr\, Tampa\, FL\, 33619\, United States
CATEGORIES:Networking Meeting
END:VEVENT
BEGIN:VEVENT
DTSTART;TZID=UTC:20220729T113000
DTEND;TZID=UTC:20220729T130000
DTSTAMP:20260420T095643
CREATED:20170827T205031Z
LAST-MODIFIED:20170827T205031Z
UID:3930-1659094200-1659099600@tampabaynetworkingcalendar.com
SUMMARY:RGA Network Sabal Park
DESCRIPTION:The best group of networkers in the area! RGA meets weekly and several locations throughout the area. If you are looking for great networking in an upbeat\, relaxed atmosphere\, then you need RGA. There is no cost to come as a guest\, and membership is inexpensive.
URL:https://tampabaynetworkingcalendar.com/event/rga-network-sabal-park-2022-07-29/
LOCATION:Cafe Delanie\, 3016 N US Highway 301\, Ste 300\, Tampa\, Florida 33619\, 3104 Cherry Palm Dr\, Tampa\, FL\, 33619\, United States
CATEGORIES:Networking Meeting
END:VEVENT
BEGIN:VEVENT
DTSTART;TZID=UTC:20220722T113000
DTEND;TZID=UTC:20220722T130000
DTSTAMP:20260420T095643
CREATED:20170827T205031Z
LAST-MODIFIED:20170827T205031Z
UID:3923-1658489400-1658494800@tampabaynetworkingcalendar.com
SUMMARY:RGA Network Sabal Park
DESCRIPTION:The best group of networkers in the area! RGA meets weekly and several locations throughout the area. If you are looking for great networking in an upbeat\, relaxed atmosphere\, then you need RGA. There is no cost to come as a guest\, and membership is inexpensive.
URL:https://tampabaynetworkingcalendar.com/event/rga-network-sabal-park-2022-07-22/
LOCATION:Cafe Delanie\, 3016 N US Highway 301\, Ste 300\, Tampa\, Florida 33619\, 3104 Cherry Palm Dr\, Tampa\, FL\, 33619\, United States
CATEGORIES:Networking Meeting
END:VEVENT
BEGIN:VEVENT
DTSTART;TZID=UTC:20220715T113000
DTEND;TZID=UTC:20220715T130000
DTSTAMP:20260420T095643
CREATED:20170827T205031Z
LAST-MODIFIED:20170827T205031Z
UID:3915-1657884600-1657890000@tampabaynetworkingcalendar.com
SUMMARY:RGA Network Sabal Park
DESCRIPTION:The best group of networkers in the area! RGA meets weekly and several locations throughout the area. If you are looking for great networking in an upbeat\, relaxed atmosphere\, then you need RGA. There is no cost to come as a guest\, and membership is inexpensive.
URL:https://tampabaynetworkingcalendar.com/event/rga-network-sabal-park-2022-07-15/
LOCATION:Cafe Delanie\, 3016 N US Highway 301\, Ste 300\, Tampa\, Florida 33619\, 3104 Cherry Palm Dr\, Tampa\, FL\, 33619\, United States
CATEGORIES:Networking Meeting
END:VEVENT
BEGIN:VEVENT
DTSTART;TZID=UTC:20220708T113000
DTEND;TZID=UTC:20220708T130000
DTSTAMP:20260420T095643
CREATED:20170827T205031Z
LAST-MODIFIED:20170827T205031Z
UID:3910-1657279800-1657285200@tampabaynetworkingcalendar.com
SUMMARY:RGA Network Sabal Park
DESCRIPTION:The best group of networkers in the area! RGA meets weekly and several locations throughout the area. If you are looking for great networking in an upbeat\, relaxed atmosphere\, then you need RGA. There is no cost to come as a guest\, and membership is inexpensive.
URL:https://tampabaynetworkingcalendar.com/event/rga-network-sabal-park-2022-07-08/
LOCATION:Cafe Delanie\, 3016 N US Highway 301\, Ste 300\, Tampa\, Florida 33619\, 3104 Cherry Palm Dr\, Tampa\, FL\, 33619\, United States
CATEGORIES:Networking Meeting
END:VEVENT
BEGIN:VEVENT
DTSTART;TZID=UTC:20220701T113000
DTEND;TZID=UTC:20220701T130000
DTSTAMP:20260420T095643
CREATED:20170827T205031Z
LAST-MODIFIED:20170827T205031Z
UID:3905-1656675000-1656680400@tampabaynetworkingcalendar.com
SUMMARY:RGA Network Sabal Park
DESCRIPTION:The best group of networkers in the area! RGA meets weekly and several locations throughout the area. If you are looking for great networking in an upbeat\, relaxed atmosphere\, then you need RGA. There is no cost to come as a guest\, and membership is inexpensive.
URL:https://tampabaynetworkingcalendar.com/event/rga-network-sabal-park-2022-07-01/
LOCATION:Cafe Delanie\, 3016 N US Highway 301\, Ste 300\, Tampa\, Florida 33619\, 3104 Cherry Palm Dr\, Tampa\, FL\, 33619\, United States
CATEGORIES:Networking Meeting
END:VEVENT
BEGIN:VEVENT
DTSTART;TZID=UTC:20220624T113000
DTEND;TZID=UTC:20220624T130000
DTSTAMP:20260420T095643
CREATED:20170827T205031Z
LAST-MODIFIED:20170827T205031Z
UID:3900-1656070200-1656075600@tampabaynetworkingcalendar.com
SUMMARY:RGA Network Sabal Park
DESCRIPTION:The best group of networkers in the area! RGA meets weekly and several locations throughout the area. If you are looking for great networking in an upbeat\, relaxed atmosphere\, then you need RGA. There is no cost to come as a guest\, and membership is inexpensive.
URL:https://tampabaynetworkingcalendar.com/event/rga-network-sabal-park-2022-06-24/
LOCATION:Cafe Delanie\, 3016 N US Highway 301\, Ste 300\, Tampa\, Florida 33619\, 3104 Cherry Palm Dr\, Tampa\, FL\, 33619\, United States
CATEGORIES:Networking Meeting
END:VEVENT
BEGIN:VEVENT
DTSTART;TZID=UTC:20220617T113000
DTEND;TZID=UTC:20220617T130000
DTSTAMP:20260420T095643
CREATED:20170827T205031Z
LAST-MODIFIED:20170827T205031Z
UID:3887-1655465400-1655470800@tampabaynetworkingcalendar.com
SUMMARY:RGA Network Sabal Park
DESCRIPTION:The best group of networkers in the area! RGA meets weekly and several locations throughout the area. If you are looking for great networking in an upbeat\, relaxed atmosphere\, then you need RGA. There is no cost to come as a guest\, and membership is inexpensive.
URL:https://tampabaynetworkingcalendar.com/event/rga-network-sabal-park-2022-06-17/
LOCATION:Cafe Delanie\, 3016 N US Highway 301\, Ste 300\, Tampa\, Florida 33619\, 3104 Cherry Palm Dr\, Tampa\, FL\, 33619\, United States
CATEGORIES:Networking Meeting
END:VEVENT
BEGIN:VEVENT
DTSTART;TZID=UTC:20220610T113000
DTEND;TZID=UTC:20220610T130000
DTSTAMP:20260420T095643
CREATED:20170827T205031Z
LAST-MODIFIED:20170827T205031Z
UID:3882-1654860600-1654866000@tampabaynetworkingcalendar.com
SUMMARY:RGA Network Sabal Park
DESCRIPTION:The best group of networkers in the area! RGA meets weekly and several locations throughout the area. If you are looking for great networking in an upbeat\, relaxed atmosphere\, then you need RGA. There is no cost to come as a guest\, and membership is inexpensive.
URL:https://tampabaynetworkingcalendar.com/event/rga-network-sabal-park-2022-06-10/
LOCATION:Cafe Delanie\, 3016 N US Highway 301\, Ste 300\, Tampa\, Florida 33619\, 3104 Cherry Palm Dr\, Tampa\, FL\, 33619\, United States
CATEGORIES:Networking Meeting
END:VEVENT
BEGIN:VEVENT
DTSTART;TZID=UTC:20220603T113000
DTEND;TZID=UTC:20220603T130000
DTSTAMP:20260420T095643
CREATED:20170827T205031Z
LAST-MODIFIED:20170827T205031Z
UID:3877-1654255800-1654261200@tampabaynetworkingcalendar.com
SUMMARY:RGA Network Sabal Park
DESCRIPTION:The best group of networkers in the area! RGA meets weekly and several locations throughout the area. If you are looking for great networking in an upbeat\, relaxed atmosphere\, then you need RGA. There is no cost to come as a guest\, and membership is inexpensive.
URL:https://tampabaynetworkingcalendar.com/event/rga-network-sabal-park-2022-06-03/
LOCATION:Cafe Delanie\, 3016 N US Highway 301\, Ste 300\, Tampa\, Florida 33619\, 3104 Cherry Palm Dr\, Tampa\, FL\, 33619\, United States
CATEGORIES:Networking Meeting
END:VEVENT
BEGIN:VEVENT
DTSTART;TZID=UTC:20220527T113000
DTEND;TZID=UTC:20220527T130000
DTSTAMP:20260420T095643
CREATED:20170827T205031Z
LAST-MODIFIED:20170827T205031Z
UID:3872-1653651000-1653656400@tampabaynetworkingcalendar.com
SUMMARY:RGA Network Sabal Park
DESCRIPTION:The best group of networkers in the area! RGA meets weekly and several locations throughout the area. If you are looking for great networking in an upbeat\, relaxed atmosphere\, then you need RGA. There is no cost to come as a guest\, and membership is inexpensive.
URL:https://tampabaynetworkingcalendar.com/event/rga-network-sabal-park-2022-05-27/
LOCATION:Cafe Delanie\, 3016 N US Highway 301\, Ste 300\, Tampa\, Florida 33619\, 3104 Cherry Palm Dr\, Tampa\, FL\, 33619\, United States
CATEGORIES:Networking Meeting
END:VEVENT
BEGIN:VEVENT
DTSTART;TZID=UTC:20220520T113000
DTEND;TZID=UTC:20220520T130000
DTSTAMP:20260420T095643
CREATED:20170827T205031Z
LAST-MODIFIED:20170827T205031Z
UID:3867-1653046200-1653051600@tampabaynetworkingcalendar.com
SUMMARY:RGA Network Sabal Park
DESCRIPTION:The best group of networkers in the area! RGA meets weekly and several locations throughout the area. If you are looking for great networking in an upbeat\, relaxed atmosphere\, then you need RGA. There is no cost to come as a guest\, and membership is inexpensive.
URL:https://tampabaynetworkingcalendar.com/event/rga-network-sabal-park-2022-05-20/
LOCATION:Cafe Delanie\, 3016 N US Highway 301\, Ste 300\, Tampa\, Florida 33619\, 3104 Cherry Palm Dr\, Tampa\, FL\, 33619\, United States
CATEGORIES:Networking Meeting
END:VEVENT
BEGIN:VEVENT
DTSTART;TZID=UTC:20220513T113000
DTEND;TZID=UTC:20220513T130000
DTSTAMP:20260420T095643
CREATED:20170827T205031Z
LAST-MODIFIED:20170827T205031Z
UID:3853-1652441400-1652446800@tampabaynetworkingcalendar.com
SUMMARY:RGA Network Sabal Park
DESCRIPTION:The best group of networkers in the area! RGA meets weekly and several locations throughout the area. If you are looking for great networking in an upbeat\, relaxed atmosphere\, then you need RGA. There is no cost to come as a guest\, and membership is inexpensive.
URL:https://tampabaynetworkingcalendar.com/event/rga-network-sabal-park-2022-05-13/
LOCATION:Cafe Delanie\, 3016 N US Highway 301\, Ste 300\, Tampa\, Florida 33619\, 3104 Cherry Palm Dr\, Tampa\, FL\, 33619\, United States
CATEGORIES:Networking Meeting
END:VEVENT
BEGIN:VEVENT
DTSTART;TZID=UTC:20220506T113000
DTEND;TZID=UTC:20220506T130000
DTSTAMP:20260420T095643
CREATED:20170827T205031Z
LAST-MODIFIED:20170827T205031Z
UID:3845-1651836600-1651842000@tampabaynetworkingcalendar.com
SUMMARY:RGA Network Sabal Park
DESCRIPTION:The best group of networkers in the area! RGA meets weekly and several locations throughout the area. If you are looking for great networking in an upbeat\, relaxed atmosphere\, then you need RGA. There is no cost to come as a guest\, and membership is inexpensive.
URL:https://tampabaynetworkingcalendar.com/event/rga-network-sabal-park-2022-05-06/
LOCATION:Cafe Delanie\, 3016 N US Highway 301\, Ste 300\, Tampa\, Florida 33619\, 3104 Cherry Palm Dr\, Tampa\, FL\, 33619\, United States
CATEGORIES:Networking Meeting
END:VEVENT
BEGIN:VEVENT
DTSTART;TZID=UTC:20220429T113000
DTEND;TZID=UTC:20220429T130000
DTSTAMP:20260420T095643
CREATED:20170827T205031Z
LAST-MODIFIED:20170827T205031Z
UID:3840-1651231800-1651237200@tampabaynetworkingcalendar.com
SUMMARY:RGA Network Sabal Park
DESCRIPTION:The best group of networkers in the area! RGA meets weekly and several locations throughout the area. If you are looking for great networking in an upbeat\, relaxed atmosphere\, then you need RGA. There is no cost to come as a guest\, and membership is inexpensive.
URL:https://tampabaynetworkingcalendar.com/event/rga-network-sabal-park-2022-04-29/
LOCATION:Cafe Delanie\, 3016 N US Highway 301\, Ste 300\, Tampa\, Florida 33619\, 3104 Cherry Palm Dr\, Tampa\, FL\, 33619\, United States
CATEGORIES:Networking Meeting
END:VEVENT
BEGIN:VEVENT
DTSTART;TZID=UTC:20220422T113000
DTEND;TZID=UTC:20220422T130000
DTSTAMP:20260420T095643
CREATED:20170827T205031Z
LAST-MODIFIED:20170827T205031Z
UID:3835-1650627000-1650632400@tampabaynetworkingcalendar.com
SUMMARY:RGA Network Sabal Park
DESCRIPTION:The best group of networkers in the area! RGA meets weekly and several locations throughout the area. If you are looking for great networking in an upbeat\, relaxed atmosphere\, then you need RGA. There is no cost to come as a guest\, and membership is inexpensive.
URL:https://tampabaynetworkingcalendar.com/event/rga-network-sabal-park-2022-04-22/
LOCATION:Cafe Delanie\, 3016 N US Highway 301\, Ste 300\, Tampa\, Florida 33619\, 3104 Cherry Palm Dr\, Tampa\, FL\, 33619\, United States
CATEGORIES:Networking Meeting
END:VEVENT
BEGIN:VEVENT
DTSTART;TZID=UTC:20220415T113000
DTEND;TZID=UTC:20220415T130000
DTSTAMP:20260420T095643
CREATED:20170827T205031Z
LAST-MODIFIED:20170827T205031Z
UID:3830-1650022200-1650027600@tampabaynetworkingcalendar.com
SUMMARY:RGA Network Sabal Park
DESCRIPTION:The best group of networkers in the area! RGA meets weekly and several locations throughout the area. If you are looking for great networking in an upbeat\, relaxed atmosphere\, then you need RGA. There is no cost to come as a guest\, and membership is inexpensive.
URL:https://tampabaynetworkingcalendar.com/event/rga-network-sabal-park-2022-04-15/
LOCATION:Cafe Delanie\, 3016 N US Highway 301\, Ste 300\, Tampa\, Florida 33619\, 3104 Cherry Palm Dr\, Tampa\, FL\, 33619\, United States
CATEGORIES:Networking Meeting
END:VEVENT
BEGIN:VEVENT
DTSTART;TZID=UTC:20220408T113000
DTEND;TZID=UTC:20220408T130000
DTSTAMP:20260420T095643
CREATED:20170827T205031Z
LAST-MODIFIED:20170827T205031Z
UID:3825-1649417400-1649422800@tampabaynetworkingcalendar.com
SUMMARY:RGA Network Sabal Park
DESCRIPTION:The best group of networkers in the area! RGA meets weekly and several locations throughout the area. If you are looking for great networking in an upbeat\, relaxed atmosphere\, then you need RGA. There is no cost to come as a guest\, and membership is inexpensive.
URL:https://tampabaynetworkingcalendar.com/event/rga-network-sabal-park-2022-04-08/
LOCATION:Cafe Delanie\, 3016 N US Highway 301\, Ste 300\, Tampa\, Florida 33619\, 3104 Cherry Palm Dr\, Tampa\, FL\, 33619\, United States
CATEGORIES:Networking Meeting
END:VEVENT
BEGIN:VEVENT
DTSTART;TZID=UTC:20220401T113000
DTEND;TZID=UTC:20220401T130000
DTSTAMP:20260420T095643
CREATED:20170827T205031Z
LAST-MODIFIED:20170827T205031Z
UID:3820-1648812600-1648818000@tampabaynetworkingcalendar.com
SUMMARY:RGA Network Sabal Park
DESCRIPTION:The best group of networkers in the area! RGA meets weekly and several locations throughout the area. If you are looking for great networking in an upbeat\, relaxed atmosphere\, then you need RGA. There is no cost to come as a guest\, and membership is inexpensive.
URL:https://tampabaynetworkingcalendar.com/event/rga-network-sabal-park-2022-04-01/
LOCATION:Cafe Delanie\, 3016 N US Highway 301\, Ste 300\, Tampa\, Florida 33619\, 3104 Cherry Palm Dr\, Tampa\, FL\, 33619\, United States
CATEGORIES:Networking Meeting
END:VEVENT
BEGIN:VEVENT
DTSTART;TZID=UTC:20220325T113000
DTEND;TZID=UTC:20220325T130000
DTSTAMP:20260420T095643
CREATED:20170827T205031Z
LAST-MODIFIED:20170827T205031Z
UID:3815-1648207800-1648213200@tampabaynetworkingcalendar.com
SUMMARY:RGA Network Sabal Park
DESCRIPTION:The best group of networkers in the area! RGA meets weekly and several locations throughout the area. If you are looking for great networking in an upbeat\, relaxed atmosphere\, then you need RGA. There is no cost to come as a guest\, and membership is inexpensive.
URL:https://tampabaynetworkingcalendar.com/event/rga-network-sabal-park-2022-03-25/
LOCATION:Cafe Delanie\, 3016 N US Highway 301\, Ste 300\, Tampa\, Florida 33619\, 3104 Cherry Palm Dr\, Tampa\, FL\, 33619\, United States
CATEGORIES:Networking Meeting
END:VEVENT
BEGIN:VEVENT
DTSTART;TZID=UTC:20220318T113000
DTEND;TZID=UTC:20220318T130000
DTSTAMP:20260420T095643
CREATED:20170827T205031Z
LAST-MODIFIED:20170827T205031Z
UID:3810-1647603000-1647608400@tampabaynetworkingcalendar.com
SUMMARY:RGA Network Sabal Park
DESCRIPTION:The best group of networkers in the area! RGA meets weekly and several locations throughout the area. If you are looking for great networking in an upbeat\, relaxed atmosphere\, then you need RGA. There is no cost to come as a guest\, and membership is inexpensive.
URL:https://tampabaynetworkingcalendar.com/event/rga-network-sabal-park-2022-03-18/
LOCATION:Cafe Delanie\, 3016 N US Highway 301\, Ste 300\, Tampa\, Florida 33619\, 3104 Cherry Palm Dr\, Tampa\, FL\, 33619\, United States
CATEGORIES:Networking Meeting
END:VEVENT
BEGIN:VEVENT
DTSTART;TZID=UTC:20220311T113000
DTEND;TZID=UTC:20220311T130000
DTSTAMP:20260420T095643
CREATED:20170827T205031Z
LAST-MODIFIED:20170827T205031Z
UID:3805-1646998200-1647003600@tampabaynetworkingcalendar.com
SUMMARY:RGA Network Sabal Park
DESCRIPTION:The best group of networkers in the area! RGA meets weekly and several locations throughout the area. If you are looking for great networking in an upbeat\, relaxed atmosphere\, then you need RGA. There is no cost to come as a guest\, and membership is inexpensive.
URL:https://tampabaynetworkingcalendar.com/event/rga-network-sabal-park-2022-03-11/
LOCATION:Cafe Delanie\, 3016 N US Highway 301\, Ste 300\, Tampa\, Florida 33619\, 3104 Cherry Palm Dr\, Tampa\, FL\, 33619\, United States
CATEGORIES:Networking Meeting
END:VEVENT
BEGIN:VEVENT
DTSTART;TZID=UTC:20220304T113000
DTEND;TZID=UTC:20220304T130000
DTSTAMP:20260420T095643
CREATED:20170827T205031Z
LAST-MODIFIED:20170827T205031Z
UID:3792-1646393400-1646398800@tampabaynetworkingcalendar.com
SUMMARY:RGA Network Sabal Park
DESCRIPTION:The best group of networkers in the area! RGA meets weekly and several locations throughout the area. If you are looking for great networking in an upbeat\, relaxed atmosphere\, then you need RGA. There is no cost to come as a guest\, and membership is inexpensive.
URL:https://tampabaynetworkingcalendar.com/event/rga-network-sabal-park-2022-03-04/
LOCATION:Cafe Delanie\, 3016 N US Highway 301\, Ste 300\, Tampa\, Florida 33619\, 3104 Cherry Palm Dr\, Tampa\, FL\, 33619\, United States
CATEGORIES:Networking Meeting
END:VEVENT
END:VCALENDAR