BEGIN:VCALENDAR
VERSION:2.0
PRODID:-//Tampa Bay Networking Calendar - ECPv6.15.20//NONSGML v1.0//EN
CALSCALE:GREGORIAN
METHOD:PUBLISH
X-WR-CALNAME:Tampa Bay Networking Calendar
X-ORIGINAL-URL:https://tampabaynetworkingcalendar.com
X-WR-CALDESC:Events for Tampa Bay Networking Calendar
REFRESH-INTERVAL;VALUE=DURATION:PT1H
X-Robots-Tag:noindex
X-PUBLISHED-TTL:PT1H
BEGIN:VTIMEZONE
TZID:UTC
BEGIN:STANDARD
TZOFFSETFROM:+0000
TZOFFSETTO:+0000
TZNAME:UTC
DTSTART:20180101T000000
END:STANDARD
END:VTIMEZONE
BEGIN:VEVENT
DTSTART;TZID=UTC:20200225T190000
DTEND;TZID=UTC:20200225T200000
DTSTAMP:20260421T100306
CREATED:20170815T142526Z
LAST-MODIFIED:20170815T142526Z
UID:1124-1582657200-1582660800@tampabaynetworkingcalendar.com
SUMMARY:Money and Business Seminar
DESCRIPTION:Join us at our office as we host our Money and Business Seninar. You will learn the rules of money\, how to make money and how to save money. Dress is business/business casual. No shorts or flip flops permitted. Bring a notepad and be ready to learn. We are changing the financial lives of families in our community\, join us for a fun and informative night.
URL:https://tampabaynetworkingcalendar.com/event/money-and-business-seminar-2020-02-25/
LOCATION:bryan and melinda turner\, 8902 N. Dale Mabry Hwy\, Tampa\, 33614\, United States
CATEGORIES:Educational
END:VEVENT
BEGIN:VEVENT
DTSTART;TZID=UTC:20200218T190000
DTEND;TZID=UTC:20200218T200000
DTSTAMP:20260421T100306
CREATED:20170815T142526Z
LAST-MODIFIED:20170815T142526Z
UID:1120-1582052400-1582056000@tampabaynetworkingcalendar.com
SUMMARY:Money and Business Seminar
DESCRIPTION:Join us at our office as we host our Money and Business Seninar. You will learn the rules of money\, how to make money and how to save money. Dress is business/business casual. No shorts or flip flops permitted. Bring a notepad and be ready to learn. We are changing the financial lives of families in our community\, join us for a fun and informative night.
URL:https://tampabaynetworkingcalendar.com/event/money-and-business-seminar-2020-02-18/
LOCATION:bryan and melinda turner\, 8902 N. Dale Mabry Hwy\, Tampa\, 33614\, United States
CATEGORIES:Educational
END:VEVENT
BEGIN:VEVENT
DTSTART;TZID=UTC:20200211T190000
DTEND;TZID=UTC:20200211T200000
DTSTAMP:20260421T100306
CREATED:20170815T142526Z
LAST-MODIFIED:20170815T142526Z
UID:1115-1581447600-1581451200@tampabaynetworkingcalendar.com
SUMMARY:Money and Business Seminar
DESCRIPTION:Join us at our office as we host our Money and Business Seninar. You will learn the rules of money\, how to make money and how to save money. Dress is business/business casual. No shorts or flip flops permitted. Bring a notepad and be ready to learn. We are changing the financial lives of families in our community\, join us for a fun and informative night.
URL:https://tampabaynetworkingcalendar.com/event/money-and-business-seminar-2020-02-11/
LOCATION:bryan and melinda turner\, 8902 N. Dale Mabry Hwy\, Tampa\, 33614\, United States
CATEGORIES:Educational
END:VEVENT
BEGIN:VEVENT
DTSTART;TZID=UTC:20200204T190000
DTEND;TZID=UTC:20200204T200000
DTSTAMP:20260421T100306
CREATED:20170815T142526Z
LAST-MODIFIED:20170815T142526Z
UID:1111-1580842800-1580846400@tampabaynetworkingcalendar.com
SUMMARY:Money and Business Seminar
DESCRIPTION:Join us at our office as we host our Money and Business Seninar. You will learn the rules of money\, how to make money and how to save money. Dress is business/business casual. No shorts or flip flops permitted. Bring a notepad and be ready to learn. We are changing the financial lives of families in our community\, join us for a fun and informative night.
URL:https://tampabaynetworkingcalendar.com/event/money-and-business-seminar-2020-02-04/
LOCATION:bryan and melinda turner\, 8902 N. Dale Mabry Hwy\, Tampa\, 33614\, United States
CATEGORIES:Educational
END:VEVENT
BEGIN:VEVENT
DTSTART;TZID=UTC:20200128T190000
DTEND;TZID=UTC:20200128T200000
DTSTAMP:20260421T100306
CREATED:20170815T142526Z
LAST-MODIFIED:20170815T142526Z
UID:1107-1580238000-1580241600@tampabaynetworkingcalendar.com
SUMMARY:Money and Business Seminar
DESCRIPTION:Join us at our office as we host our Money and Business Seninar. You will learn the rules of money\, how to make money and how to save money. Dress is business/business casual. No shorts or flip flops permitted. Bring a notepad and be ready to learn. We are changing the financial lives of families in our community\, join us for a fun and informative night.
URL:https://tampabaynetworkingcalendar.com/event/money-and-business-seminar-2020-01-28/
LOCATION:bryan and melinda turner\, 8902 N. Dale Mabry Hwy\, Tampa\, 33614\, United States
CATEGORIES:Educational
END:VEVENT
BEGIN:VEVENT
DTSTART;TZID=UTC:20200121T190000
DTEND;TZID=UTC:20200121T200000
DTSTAMP:20260421T100306
CREATED:20170815T142526Z
LAST-MODIFIED:20170815T142526Z
UID:1103-1579633200-1579636800@tampabaynetworkingcalendar.com
SUMMARY:Money and Business Seminar
DESCRIPTION:Join us at our office as we host our Money and Business Seninar. You will learn the rules of money\, how to make money and how to save money. Dress is business/business casual. No shorts or flip flops permitted. Bring a notepad and be ready to learn. We are changing the financial lives of families in our community\, join us for a fun and informative night.
URL:https://tampabaynetworkingcalendar.com/event/money-and-business-seminar-2020-01-21/
LOCATION:bryan and melinda turner\, 8902 N. Dale Mabry Hwy\, Tampa\, 33614\, United States
CATEGORIES:Educational
END:VEVENT
BEGIN:VEVENT
DTSTART;TZID=UTC:20200114T190000
DTEND;TZID=UTC:20200114T200000
DTSTAMP:20260421T100306
CREATED:20170815T142526Z
LAST-MODIFIED:20170815T142526Z
UID:1099-1579028400-1579032000@tampabaynetworkingcalendar.com
SUMMARY:Money and Business Seminar
DESCRIPTION:Join us at our office as we host our Money and Business Seninar. You will learn the rules of money\, how to make money and how to save money. Dress is business/business casual. No shorts or flip flops permitted. Bring a notepad and be ready to learn. We are changing the financial lives of families in our community\, join us for a fun and informative night.
URL:https://tampabaynetworkingcalendar.com/event/money-and-business-seminar-2020-01-14/
LOCATION:bryan and melinda turner\, 8902 N. Dale Mabry Hwy\, Tampa\, 33614\, United States
CATEGORIES:Educational
END:VEVENT
BEGIN:VEVENT
DTSTART;TZID=UTC:20200107T190000
DTEND;TZID=UTC:20200107T200000
DTSTAMP:20260421T100306
CREATED:20170815T142526Z
LAST-MODIFIED:20170815T142526Z
UID:1095-1578423600-1578427200@tampabaynetworkingcalendar.com
SUMMARY:Money and Business Seminar
DESCRIPTION:Join us at our office as we host our Money and Business Seninar. You will learn the rules of money\, how to make money and how to save money. Dress is business/business casual. No shorts or flip flops permitted. Bring a notepad and be ready to learn. We are changing the financial lives of families in our community\, join us for a fun and informative night.
URL:https://tampabaynetworkingcalendar.com/event/money-and-business-seminar-2020-01-07/
LOCATION:bryan and melinda turner\, 8902 N. Dale Mabry Hwy\, Tampa\, 33614\, United States
CATEGORIES:Educational
END:VEVENT
BEGIN:VEVENT
DTSTART;TZID=UTC:20191231T190000
DTEND;TZID=UTC:20191231T200000
DTSTAMP:20260421T100306
CREATED:20170815T142526Z
LAST-MODIFIED:20170815T142526Z
UID:1087-1577818800-1577822400@tampabaynetworkingcalendar.com
SUMMARY:Money and Business Seminar
DESCRIPTION:Join us at our office as we host our Money and Business Seninar. You will learn the rules of money\, how to make money and how to save money. Dress is business/business casual. No shorts or flip flops permitted. Bring a notepad and be ready to learn. We are changing the financial lives of families in our community\, join us for a fun and informative night.
URL:https://tampabaynetworkingcalendar.com/event/money-and-business-seminar-2019-12-31/
LOCATION:bryan and melinda turner\, 8902 N. Dale Mabry Hwy\, Tampa\, 33614\, United States
CATEGORIES:Educational
END:VEVENT
BEGIN:VEVENT
DTSTART;TZID=UTC:20191224T190000
DTEND;TZID=UTC:20191224T200000
DTSTAMP:20260421T100306
CREATED:20170815T142526Z
LAST-MODIFIED:20170815T142526Z
UID:1083-1577214000-1577217600@tampabaynetworkingcalendar.com
SUMMARY:Money and Business Seminar
DESCRIPTION:Join us at our office as we host our Money and Business Seninar. You will learn the rules of money\, how to make money and how to save money. Dress is business/business casual. No shorts or flip flops permitted. Bring a notepad and be ready to learn. We are changing the financial lives of families in our community\, join us for a fun and informative night.
URL:https://tampabaynetworkingcalendar.com/event/money-and-business-seminar-2019-12-24/
LOCATION:bryan and melinda turner\, 8902 N. Dale Mabry Hwy\, Tampa\, 33614\, United States
CATEGORIES:Educational
END:VEVENT
BEGIN:VEVENT
DTSTART;TZID=UTC:20191217T190000
DTEND;TZID=UTC:20191217T200000
DTSTAMP:20260421T100306
CREATED:20170815T142526Z
LAST-MODIFIED:20170815T142526Z
UID:1079-1576609200-1576612800@tampabaynetworkingcalendar.com
SUMMARY:Money and Business Seminar
DESCRIPTION:Join us at our office as we host our Money and Business Seninar. You will learn the rules of money\, how to make money and how to save money. Dress is business/business casual. No shorts or flip flops permitted. Bring a notepad and be ready to learn. We are changing the financial lives of families in our community\, join us for a fun and informative night.
URL:https://tampabaynetworkingcalendar.com/event/money-and-business-seminar-2019-12-17/
LOCATION:bryan and melinda turner\, 8902 N. Dale Mabry Hwy\, Tampa\, 33614\, United States
CATEGORIES:Educational
END:VEVENT
BEGIN:VEVENT
DTSTART;TZID=UTC:20191210T190000
DTEND;TZID=UTC:20191210T200000
DTSTAMP:20260421T100306
CREATED:20170815T142526Z
LAST-MODIFIED:20170815T142526Z
UID:1075-1576004400-1576008000@tampabaynetworkingcalendar.com
SUMMARY:Money and Business Seminar
DESCRIPTION:Join us at our office as we host our Money and Business Seninar. You will learn the rules of money\, how to make money and how to save money. Dress is business/business casual. No shorts or flip flops permitted. Bring a notepad and be ready to learn. We are changing the financial lives of families in our community\, join us for a fun and informative night.
URL:https://tampabaynetworkingcalendar.com/event/money-and-business-seminar-2019-12-10/
LOCATION:bryan and melinda turner\, 8902 N. Dale Mabry Hwy\, Tampa\, 33614\, United States
CATEGORIES:Educational
END:VEVENT
BEGIN:VEVENT
DTSTART;TZID=UTC:20191203T190000
DTEND;TZID=UTC:20191203T200000
DTSTAMP:20260421T100306
CREATED:20170815T142526Z
LAST-MODIFIED:20170815T142526Z
UID:1070-1575399600-1575403200@tampabaynetworkingcalendar.com
SUMMARY:Money and Business Seminar
DESCRIPTION:Join us at our office as we host our Money and Business Seninar. You will learn the rules of money\, how to make money and how to save money. Dress is business/business casual. No shorts or flip flops permitted. Bring a notepad and be ready to learn. We are changing the financial lives of families in our community\, join us for a fun and informative night.
URL:https://tampabaynetworkingcalendar.com/event/money-and-business-seminar-2019-12-03/
LOCATION:bryan and melinda turner\, 8902 N. Dale Mabry Hwy\, Tampa\, 33614\, United States
CATEGORIES:Educational
END:VEVENT
BEGIN:VEVENT
DTSTART;TZID=UTC:20191126T190000
DTEND;TZID=UTC:20191126T200000
DTSTAMP:20260421T100306
CREATED:20170815T142526Z
LAST-MODIFIED:20170815T142526Z
UID:1066-1574794800-1574798400@tampabaynetworkingcalendar.com
SUMMARY:Money and Business Seminar
DESCRIPTION:Join us at our office as we host our Money and Business Seninar. You will learn the rules of money\, how to make money and how to save money. Dress is business/business casual. No shorts or flip flops permitted. Bring a notepad and be ready to learn. We are changing the financial lives of families in our community\, join us for a fun and informative night.
URL:https://tampabaynetworkingcalendar.com/event/money-and-business-seminar-2019-11-26/
LOCATION:bryan and melinda turner\, 8902 N. Dale Mabry Hwy\, Tampa\, 33614\, United States
CATEGORIES:Educational
END:VEVENT
BEGIN:VEVENT
DTSTART;TZID=UTC:20191119T190000
DTEND;TZID=UTC:20191119T200000
DTSTAMP:20260421T100306
CREATED:20170815T142526Z
LAST-MODIFIED:20170815T142526Z
UID:1062-1574190000-1574193600@tampabaynetworkingcalendar.com
SUMMARY:Money and Business Seminar
DESCRIPTION:Join us at our office as we host our Money and Business Seninar. You will learn the rules of money\, how to make money and how to save money. Dress is business/business casual. No shorts or flip flops permitted. Bring a notepad and be ready to learn. We are changing the financial lives of families in our community\, join us for a fun and informative night.
URL:https://tampabaynetworkingcalendar.com/event/money-and-business-seminar-2019-11-19/
LOCATION:bryan and melinda turner\, 8902 N. Dale Mabry Hwy\, Tampa\, 33614\, United States
CATEGORIES:Educational
END:VEVENT
BEGIN:VEVENT
DTSTART;TZID=UTC:20191112T190000
DTEND;TZID=UTC:20191112T200000
DTSTAMP:20260421T100306
CREATED:20170815T142526Z
LAST-MODIFIED:20170815T142526Z
UID:1058-1573585200-1573588800@tampabaynetworkingcalendar.com
SUMMARY:Money and Business Seminar
DESCRIPTION:Join us at our office as we host our Money and Business Seninar. You will learn the rules of money\, how to make money and how to save money. Dress is business/business casual. No shorts or flip flops permitted. Bring a notepad and be ready to learn. We are changing the financial lives of families in our community\, join us for a fun and informative night.
URL:https://tampabaynetworkingcalendar.com/event/money-and-business-seminar-2019-11-12/
LOCATION:bryan and melinda turner\, 8902 N. Dale Mabry Hwy\, Tampa\, 33614\, United States
CATEGORIES:Educational
END:VEVENT
BEGIN:VEVENT
DTSTART;TZID=UTC:20191105T190000
DTEND;TZID=UTC:20191105T200000
DTSTAMP:20260421T100306
CREATED:20170815T142526Z
LAST-MODIFIED:20170815T142526Z
UID:1051-1572980400-1572984000@tampabaynetworkingcalendar.com
SUMMARY:Money and Business Seminar
DESCRIPTION:Join us at our office as we host our Money and Business Seninar. You will learn the rules of money\, how to make money and how to save money. Dress is business/business casual. No shorts or flip flops permitted. Bring a notepad and be ready to learn. We are changing the financial lives of families in our community\, join us for a fun and informative night.
URL:https://tampabaynetworkingcalendar.com/event/money-and-business-seminar-2019-11-05/
LOCATION:bryan and melinda turner\, 8902 N. Dale Mabry Hwy\, Tampa\, 33614\, United States
CATEGORIES:Educational
END:VEVENT
BEGIN:VEVENT
DTSTART;TZID=UTC:20191029T190000
DTEND;TZID=UTC:20191029T200000
DTSTAMP:20260421T100306
CREATED:20170815T142526Z
LAST-MODIFIED:20170815T142526Z
UID:1047-1572375600-1572379200@tampabaynetworkingcalendar.com
SUMMARY:Money and Business Seminar
DESCRIPTION:Join us at our office as we host our Money and Business Seninar. You will learn the rules of money\, how to make money and how to save money. Dress is business/business casual. No shorts or flip flops permitted. Bring a notepad and be ready to learn. We are changing the financial lives of families in our community\, join us for a fun and informative night.
URL:https://tampabaynetworkingcalendar.com/event/money-and-business-seminar-2019-10-29/
LOCATION:bryan and melinda turner\, 8902 N. Dale Mabry Hwy\, Tampa\, 33614\, United States
CATEGORIES:Educational
END:VEVENT
BEGIN:VEVENT
DTSTART;TZID=UTC:20191022T190000
DTEND;TZID=UTC:20191022T200000
DTSTAMP:20260421T100306
CREATED:20170815T142526Z
LAST-MODIFIED:20170815T142526Z
UID:1042-1571770800-1571774400@tampabaynetworkingcalendar.com
SUMMARY:Money and Business Seminar
DESCRIPTION:Join us at our office as we host our Money and Business Seninar. You will learn the rules of money\, how to make money and how to save money. Dress is business/business casual. No shorts or flip flops permitted. Bring a notepad and be ready to learn. We are changing the financial lives of families in our community\, join us for a fun and informative night.
URL:https://tampabaynetworkingcalendar.com/event/money-and-business-seminar-2019-10-22/
LOCATION:bryan and melinda turner\, 8902 N. Dale Mabry Hwy\, Tampa\, 33614\, United States
CATEGORIES:Educational
END:VEVENT
BEGIN:VEVENT
DTSTART;TZID=UTC:20191015T190000
DTEND;TZID=UTC:20191015T200000
DTSTAMP:20260421T100306
CREATED:20170815T142526Z
LAST-MODIFIED:20170815T142526Z
UID:1038-1571166000-1571169600@tampabaynetworkingcalendar.com
SUMMARY:Money and Business Seminar
DESCRIPTION:Join us at our office as we host our Money and Business Seninar. You will learn the rules of money\, how to make money and how to save money. Dress is business/business casual. No shorts or flip flops permitted. Bring a notepad and be ready to learn. We are changing the financial lives of families in our community\, join us for a fun and informative night.
URL:https://tampabaynetworkingcalendar.com/event/money-and-business-seminar-2019-10-15/
LOCATION:bryan and melinda turner\, 8902 N. Dale Mabry Hwy\, Tampa\, 33614\, United States
CATEGORIES:Educational
END:VEVENT
BEGIN:VEVENT
DTSTART;TZID=UTC:20191008T190000
DTEND;TZID=UTC:20191008T200000
DTSTAMP:20260421T100306
CREATED:20170815T142526Z
LAST-MODIFIED:20170815T142526Z
UID:1034-1570561200-1570564800@tampabaynetworkingcalendar.com
SUMMARY:Money and Business Seminar
DESCRIPTION:Join us at our office as we host our Money and Business Seninar. You will learn the rules of money\, how to make money and how to save money. Dress is business/business casual. No shorts or flip flops permitted. Bring a notepad and be ready to learn. We are changing the financial lives of families in our community\, join us for a fun and informative night.
URL:https://tampabaynetworkingcalendar.com/event/money-and-business-seminar-2019-10-08/
LOCATION:bryan and melinda turner\, 8902 N. Dale Mabry Hwy\, Tampa\, 33614\, United States
CATEGORIES:Educational
END:VEVENT
BEGIN:VEVENT
DTSTART;TZID=UTC:20191001T190000
DTEND;TZID=UTC:20191001T200000
DTSTAMP:20260421T100306
CREATED:20170815T142526Z
LAST-MODIFIED:20170815T142526Z
UID:1027-1569956400-1569960000@tampabaynetworkingcalendar.com
SUMMARY:Money and Business Seminar
DESCRIPTION:Join us at our office as we host our Money and Business Seninar. You will learn the rules of money\, how to make money and how to save money. Dress is business/business casual. No shorts or flip flops permitted. Bring a notepad and be ready to learn. We are changing the financial lives of families in our community\, join us for a fun and informative night.
URL:https://tampabaynetworkingcalendar.com/event/money-and-business-seminar-2019-10-01/
LOCATION:bryan and melinda turner\, 8902 N. Dale Mabry Hwy\, Tampa\, 33614\, United States
CATEGORIES:Educational
END:VEVENT
BEGIN:VEVENT
DTSTART;TZID=UTC:20190924T190000
DTEND;TZID=UTC:20190924T200000
DTSTAMP:20260421T100306
CREATED:20170815T142526Z
LAST-MODIFIED:20170815T142526Z
UID:1023-1569351600-1569355200@tampabaynetworkingcalendar.com
SUMMARY:Money and Business Seminar
DESCRIPTION:Join us at our office as we host our Money and Business Seninar. You will learn the rules of money\, how to make money and how to save money. Dress is business/business casual. No shorts or flip flops permitted. Bring a notepad and be ready to learn. We are changing the financial lives of families in our community\, join us for a fun and informative night.
URL:https://tampabaynetworkingcalendar.com/event/money-and-business-seminar-2019-09-24/
LOCATION:bryan and melinda turner\, 8902 N. Dale Mabry Hwy\, Tampa\, 33614\, United States
CATEGORIES:Educational
END:VEVENT
BEGIN:VEVENT
DTSTART;TZID=UTC:20190917T190000
DTEND;TZID=UTC:20190917T200000
DTSTAMP:20260421T100306
CREATED:20170815T142526Z
LAST-MODIFIED:20170815T142526Z
UID:1019-1568746800-1568750400@tampabaynetworkingcalendar.com
SUMMARY:Money and Business Seminar
DESCRIPTION:Join us at our office as we host our Money and Business Seninar. You will learn the rules of money\, how to make money and how to save money. Dress is business/business casual. No shorts or flip flops permitted. Bring a notepad and be ready to learn. We are changing the financial lives of families in our community\, join us for a fun and informative night.
URL:https://tampabaynetworkingcalendar.com/event/money-and-business-seminar-2019-09-17/
LOCATION:bryan and melinda turner\, 8902 N. Dale Mabry Hwy\, Tampa\, 33614\, United States
CATEGORIES:Educational
END:VEVENT
BEGIN:VEVENT
DTSTART;TZID=UTC:20190910T190000
DTEND;TZID=UTC:20190910T200000
DTSTAMP:20260421T100306
CREATED:20170815T142526Z
LAST-MODIFIED:20170815T142526Z
UID:1015-1568142000-1568145600@tampabaynetworkingcalendar.com
SUMMARY:Money and Business Seminar
DESCRIPTION:Join us at our office as we host our Money and Business Seninar. You will learn the rules of money\, how to make money and how to save money. Dress is business/business casual. No shorts or flip flops permitted. Bring a notepad and be ready to learn. We are changing the financial lives of families in our community\, join us for a fun and informative night.
URL:https://tampabaynetworkingcalendar.com/event/money-and-business-seminar-2019-09-10/
LOCATION:bryan and melinda turner\, 8902 N. Dale Mabry Hwy\, Tampa\, 33614\, United States
CATEGORIES:Educational
END:VEVENT
BEGIN:VEVENT
DTSTART;TZID=UTC:20190903T190000
DTEND;TZID=UTC:20190903T200000
DTSTAMP:20260421T100306
CREATED:20170815T142526Z
LAST-MODIFIED:20170815T142526Z
UID:1008-1567537200-1567540800@tampabaynetworkingcalendar.com
SUMMARY:Money and Business Seminar
DESCRIPTION:Join us at our office as we host our Money and Business Seninar. You will learn the rules of money\, how to make money and how to save money. Dress is business/business casual. No shorts or flip flops permitted. Bring a notepad and be ready to learn. We are changing the financial lives of families in our community\, join us for a fun and informative night.
URL:https://tampabaynetworkingcalendar.com/event/money-and-business-seminar-2019-09-03/
LOCATION:bryan and melinda turner\, 8902 N. Dale Mabry Hwy\, Tampa\, 33614\, United States
CATEGORIES:Educational
END:VEVENT
BEGIN:VEVENT
DTSTART;TZID=UTC:20190827T190000
DTEND;TZID=UTC:20190827T200000
DTSTAMP:20260421T100306
CREATED:20170815T142526Z
LAST-MODIFIED:20170815T142526Z
UID:899-1566932400-1566936000@tampabaynetworkingcalendar.com
SUMMARY:Money and Business Seminar
DESCRIPTION:Join us at our office as we host our Money and Business Seninar. You will learn the rules of money\, how to make money and how to save money. Dress is business/business casual. No shorts or flip flops permitted. Bring a notepad and be ready to learn. We are changing the financial lives of families in our community\, join us for a fun and informative night.
URL:https://tampabaynetworkingcalendar.com/event/money-and-business-seminar-2019-08-27/
LOCATION:bryan and melinda turner\, 8902 N. Dale Mabry Hwy\, Tampa\, 33614\, United States
CATEGORIES:Educational
END:VEVENT
BEGIN:VEVENT
DTSTART;TZID=UTC:20190820T190000
DTEND;TZID=UTC:20190820T200000
DTSTAMP:20260421T100306
CREATED:20170815T142526Z
LAST-MODIFIED:20170815T142526Z
UID:675-1566327600-1566331200@tampabaynetworkingcalendar.com
SUMMARY:Money and Business Seminar
DESCRIPTION:Join us at our office as we host our Money and Business Seninar. You will learn the rules of money\, how to make money and how to save money. Dress is business/business casual. No shorts or flip flops permitted. Bring a notepad and be ready to learn. We are changing the financial lives of families in our community\, join us for a fun and informative night.
URL:https://tampabaynetworkingcalendar.com/event/money-and-business-seminar-2019-08-20/
LOCATION:bryan and melinda turner\, 8902 N. Dale Mabry Hwy\, Tampa\, 33614\, United States
CATEGORIES:Educational
END:VEVENT
BEGIN:VEVENT
DTSTART;TZID=UTC:20190813T190000
DTEND;TZID=UTC:20190813T200000
DTSTAMP:20260421T100306
CREATED:20170815T142626Z
LAST-MODIFIED:20170815T142626Z
UID:367-1565722800-1565726400@tampabaynetworkingcalendar.com
SUMMARY:Money and Business Seminar
DESCRIPTION:Join us at our office as we host our Money and Business Seninar. You will learn the rules of money\, how to make money and how to save money. Dress is business/business casual. No shorts or flip flops permitted. Bring a notepad and be ready to learn. We are changing the financial lives of families in our community\, join us for a fun and informative night.
URL:https://tampabaynetworkingcalendar.com/event/money-and-business-seminar-2019-08-13/
LOCATION:bryan and melinda turner\, 8902 N. Dale Mabry Hwy\, Tampa\, 33614\, United States
CATEGORIES:Educational
END:VEVENT
BEGIN:VEVENT
DTSTART;TZID=UTC:20190806T190000
DTEND;TZID=UTC:20190806T200000
DTSTAMP:20260421T100306
CREATED:20170815T142626Z
LAST-MODIFIED:20170815T142626Z
UID:366-1565118000-1565121600@tampabaynetworkingcalendar.com
SUMMARY:Money and Business Seminar
DESCRIPTION:Join us at our office as we host our Money and Business Seninar. You will learn the rules of money\, how to make money and how to save money. Dress is business/business casual. No shorts or flip flops permitted. Bring a notepad and be ready to learn. We are changing the financial lives of families in our community\, join us for a fun and informative night.
URL:https://tampabaynetworkingcalendar.com/event/money-and-business-seminar-2019-08-06/
LOCATION:bryan and melinda turner\, 8902 N. Dale Mabry Hwy\, Tampa\, 33614\, United States
CATEGORIES:Educational
END:VEVENT
END:VCALENDAR